BEGIN:VCALENDAR
VERSION:2.0
PRODID:-//Play Pittsburgh - ECPv6.15.20//NONSGML v1.0//EN
CALSCALE:GREGORIAN
METHOD:PUBLISH
X-WR-CALNAME:Play Pittsburgh
X-ORIGINAL-URL:https://playpittsburgh.com
X-WR-CALDESC:Events for Play Pittsburgh
REFRESH-INTERVAL;VALUE=DURATION:PT1H
X-Robots-Tag:noindex
X-PUBLISHED-TTL:PT1H
BEGIN:VTIMEZONE
TZID:America/New_York
BEGIN:DAYLIGHT
TZOFFSETFROM:-0500
TZOFFSETTO:-0400
TZNAME:EDT
DTSTART:20150308T070000
END:DAYLIGHT
BEGIN:STANDARD
TZOFFSETFROM:-0400
TZOFFSETTO:-0500
TZNAME:EST
DTSTART:20151101T060000
END:STANDARD
BEGIN:DAYLIGHT
TZOFFSETFROM:-0500
TZOFFSETTO:-0400
TZNAME:EDT
DTSTART:20160313T070000
END:DAYLIGHT
BEGIN:STANDARD
TZOFFSETFROM:-0400
TZOFFSETTO:-0500
TZNAME:EST
DTSTART:20161106T060000
END:STANDARD
BEGIN:DAYLIGHT
TZOFFSETFROM:-0500
TZOFFSETTO:-0400
TZNAME:EDT
DTSTART:20170312T070000
END:DAYLIGHT
BEGIN:STANDARD
TZOFFSETFROM:-0400
TZOFFSETTO:-0500
TZNAME:EST
DTSTART:20171105T060000
END:STANDARD
END:VTIMEZONE
BEGIN:VEVENT
DTSTART;TZID=America/New_York:20160724T202000
DTEND;TZID=America/New_York:20160724T220000
DTSTAMP:20260425T195607
CREATED:20160704T155644Z
LAST-MODIFIED:20160704T155644Z
UID:9491-1469391600-1469397600@playpittsburgh.com
SUMMARY:Giant Pillow Fight at Schenley Park
DESCRIPTION:Pittsburgh Cacaphony Societies 10th Pillow Fight!!! then Free Movie “The SpongeBob Movie: Sponge Out of Water (PG)” \nPillow Fight is going on Rain or Shine. Mystery Signal is 8:20pm! \nBYOP!(BRING YOUR OWN PILLOW!) \nWE NEED HELP SPREADING THE WORD ABOUT THIS… tell friends! \nFREE FUN! Wonderful! Silly! Kid-friendly and Adult-friendly Event! \nDETAILS: SHOW UP AT 8PM then at 8:20pm SHARP! (the movie starts close to 9pm at Dusk) there will be a mystery signal and a GIANT PILLOW FIGHT WILL BREAK OUT! Kid Friendly\, Bring your own Pillow! (BYOP!) Only allowed to attack others that have pillows! Amazing Fun! Last year we had 120+ people in the Rain do this! 10th year doing this! \nDAY: Sunday\, July 24\nFREE MOVIE AFTERWARDS: The SpongeBob Movie: Sponge Out of Water (PG)\nTIME: SHOW UP AT 8pm! then at 8:20pm SHARP! MYSTERY SIGNAL! Then the Pillow War Begins 😉\nWhere: Schenley Park Flagstaff Hill\nAddress: Corner of Schenley Drive and Frew Street then up the Hill by where they are showing the movie on the right hand side as you go up the HILL!\nCOST: FREE just bring a pillow! BYOP!\nThis only lasts for 10 or 15 mins cause it’s hot and exhausting\, plus people want to see the movie.\nSAFETY: Please just have fun\, please just aim for the body and have fun. If you see someone hitting people too hard with the pillows\, then grab the pillow and say “take it easy.” IF YOUR PILLOW RIPS\, YOU CLEAN IT UP! Personal responsibility and FUN!  \nCrazy video of previous pillow fight: http://www.wpxi.com/videos/entertainment/raw-video-hundreds-pillow-fight-in-schenley-park/vDBFZ/ \nYOU WILL SEE SOMEONE WITH A ORANGE BICYCLE FLAG on a Stick to gather around! \nQuick description of Event: This is the 10th annual giant pillow fight. Show up in Pajamas or in cool comfortable clothes. \nADVICE: SHOW UP EARLY at 8:00 pm\, BRING A PILLOW! At 8:20pm SHARP! a MYSTERY SIGNAL will sound and then ATTACK anyone with a pillow! (NO ATTACKING UNARMED CIVILIANS!) Have fun! be silly don’t hurt people. \nPS. Watch out for Lil Kids! They are Dangerous Lil Buggers! Be Safe! Soft Pillows Preferred! (see safety above)! \nSPECIAL NOTE: If anyone DROPS their Pillow you cannot attack them! Also BE CAREFUL with hitting peoples heads with Pillows! This is Exhaustingly FUN! We will be done a lil bit before the movie. 10 to 15 minutes of PILLOW FIGHTING and then the movie or whatever you want to do! \nAfterwards either watch the FREE MOVIE in the PARK which is “Spongebob.”
URL:https://playpittsburgh.com/event/giant-pillow-fight-schenley-park/
LOCATION:Schenley Park Flagstaff Hill\, 4500 Schenley Dr.\, Pittsburgh\, PA\, United States
CATEGORIES:Free,Outdoor
GEO:40.4417138;-79.949985
X-APPLE-STRUCTURED-LOCATION;VALUE=URI;X-ADDRESS=Schenley Park Flagstaff Hill 4500 Schenley Dr. Pittsburgh PA United States;X-APPLE-RADIUS=500;X-TITLE=4500 Schenley Dr.:geo:-79.949985,40.4417138
END:VEVENT
BEGIN:VEVENT
DTSTART;TZID=America/New_York:20160805T100000
DTEND;TZID=America/New_York:20160805T170000
DTSTAMP:20260425T195607
CREATED:20160729T003123Z
LAST-MODIFIED:20160729T003123Z
UID:10043-1470391200-1470416400@playpittsburgh.com
SUMMARY:FREE Admission Day at Carnegie Science Center
DESCRIPTION:Be a part of a Grand Slam Summer! \nKids who wear a youth baseball or softball jersey on Aug. 5 get free general admission to the Science Center! The Pirate Parrot will be stopping by at 1 pm to say hello to sluggers of all ages. \nBe sure to also check out Grand Slam Science\, a live show exploring the science of baseball. The show runs Fridays\, Saturdays\, and Sundays through Aug. 14. Stop by Highmark SportsWorks® and learn even more about baseball during daily demonstrations. \nCarnegie Science Center is also running its free Grand Slam! Fab Lab Workshops on Fridays from June 24-Aug. 5. Root for the home team\, and create your own wooden Pirates door decoration.
URL:https://playpittsburgh.com/event/free-admission-day-carnegie-science-center/
LOCATION:Carnegie Science Center\, One Allegheny Ave.\, Pittsburgh\, PA\, 15212\, United States
CATEGORIES:Free
GEO:40.4456737;-80.0180996
X-APPLE-STRUCTURED-LOCATION;VALUE=URI;X-ADDRESS=Carnegie Science Center One Allegheny Ave. Pittsburgh PA 15212 United States;X-APPLE-RADIUS=500;X-TITLE=One Allegheny Ave.:geo:-80.0180996,40.4456737
END:VEVENT
BEGIN:VEVENT
DTSTART;TZID=America/New_York:20160814T100000
DTEND;TZID=America/New_York:20160814T170000
DTSTAMP:20260425T195607
CREATED:20160729T001835Z
LAST-MODIFIED:20160729T001835Z
UID:10042-1471168800-1471194000@playpittsburgh.com
SUMMARY:FREE Admission to Carnegie Science Center
DESCRIPTION:Enjoy FREE admission ALL DAY to the Carnegie Science Center and Highmark Sportsworks! \nParking\, Omnimax films\, and laser shows are not included. \n  \n 
URL:https://playpittsburgh.com/event/free-admission-carnegie-science-center-3/
LOCATION:Carnegie Science Center\, One Allegheny Ave.\, Pittsburgh\, PA\, 15212\, United States
CATEGORIES:Free
ATTACH;FMTTYPE=image/jpeg:https://playpittsburgh.com/wp-content/uploads/2014/06/IMG_3822.jpg
GEO:40.4456737;-80.0180996
X-APPLE-STRUCTURED-LOCATION;VALUE=URI;X-ADDRESS=Carnegie Science Center One Allegheny Ave. Pittsburgh PA 15212 United States;X-APPLE-RADIUS=500;X-TITLE=One Allegheny Ave.:geo:-80.0180996,40.4456737
END:VEVENT
END:VCALENDAR