BEGIN:VCALENDAR
VERSION:2.0
PRODID:-//Play Pittsburgh - ECPv6.15.20//NONSGML v1.0//EN
CALSCALE:GREGORIAN
METHOD:PUBLISH
X-WR-CALNAME:Play Pittsburgh
X-ORIGINAL-URL:https://playpittsburgh.com
X-WR-CALDESC:Events for Play Pittsburgh
REFRESH-INTERVAL;VALUE=DURATION:PT1H
X-Robots-Tag:noindex
X-PUBLISHED-TTL:PT1H
BEGIN:VTIMEZONE
TZID:America/New_York
BEGIN:DAYLIGHT
TZOFFSETFROM:-0500
TZOFFSETTO:-0400
TZNAME:EDT
DTSTART:20130310T070000
END:DAYLIGHT
BEGIN:STANDARD
TZOFFSETFROM:-0400
TZOFFSETTO:-0500
TZNAME:EST
DTSTART:20131103T060000
END:STANDARD
BEGIN:DAYLIGHT
TZOFFSETFROM:-0500
TZOFFSETTO:-0400
TZNAME:EDT
DTSTART:20140309T070000
END:DAYLIGHT
BEGIN:STANDARD
TZOFFSETFROM:-0400
TZOFFSETTO:-0500
TZNAME:EST
DTSTART:20141102T060000
END:STANDARD
BEGIN:DAYLIGHT
TZOFFSETFROM:-0500
TZOFFSETTO:-0400
TZNAME:EDT
DTSTART:20150308T070000
END:DAYLIGHT
BEGIN:STANDARD
TZOFFSETFROM:-0400
TZOFFSETTO:-0500
TZNAME:EST
DTSTART:20151101T060000
END:STANDARD
BEGIN:DAYLIGHT
TZOFFSETFROM:-0500
TZOFFSETTO:-0400
TZNAME:EDT
DTSTART:20160313T070000
END:DAYLIGHT
BEGIN:STANDARD
TZOFFSETFROM:-0400
TZOFFSETTO:-0500
TZNAME:EST
DTSTART:20161106T060000
END:STANDARD
BEGIN:DAYLIGHT
TZOFFSETFROM:-0500
TZOFFSETTO:-0400
TZNAME:EDT
DTSTART:20170312T070000
END:DAYLIGHT
BEGIN:STANDARD
TZOFFSETFROM:-0400
TZOFFSETTO:-0500
TZNAME:EST
DTSTART:20171105T060000
END:STANDARD
END:VTIMEZONE
BEGIN:VEVENT
DTSTART;TZID=America/New_York:20141011T110000
DTEND;TZID=America/New_York:20141011T130000
DTSTAMP:20260424T111412
CREATED:20140930T181452Z
LAST-MODIFIED:20140930T181452Z
UID:3958-1413025200-1413032400@playpittsburgh.com
SUMMARY:Bloomfield Columbus Day Parade
DESCRIPTION:Several thousand people will be celebrating along Liberty Avenue in Bloomfield! Celebrate Columbus Day weekend with Bloomfield’s annual Columbus Day parade on Liberty Avenue. The parade begins at 11 am. Great FREE family activity. The parade\, will follow Liberty Avenue from Baum Boulevard to the Bloomfield Bridge. \n 
URL:https://playpittsburgh.com/event/bloomfield-columbus-day-parade/
LOCATION:Liberty Avenue in Bloomfield\, Bloomfield\, PA\, 15213\, United States
CATEGORIES:Festivals,Free,Outdoor
GEO:40.4621606;-79.9444526
END:VEVENT
BEGIN:VEVENT
DTSTART;TZID=America/New_York:20141018T120000
DTEND;TZID=America/New_York:20141018T160000
DTSTAMP:20260424T111412
CREATED:20140830T175706Z
LAST-MODIFIED:20140930T001819Z
UID:3342-1413633600-1413648000@playpittsburgh.com
SUMMARY:South Park Hay Day
DESCRIPTION:Kids of all ages can enjoy their day at Hay Day! Activities include hay rides\, pumpkin painting\, petting zoos\, crafts\, special performances and more! \nFull list of free activities: \n\nHay Rides\nHay Maze\nPumpkin Patch\nPumpkin Decorating\nBarnyard Petting Zoo & Pony Rides\nFace Painting\nTrackless Train\nCastle Bounce and Giant Slide\nBalloon Art\nAllegheny County Fire Truck\nSpooky Caricatures\nHalloween Puppet Show
URL:https://playpittsburgh.com/event/south-park-hay-day/
LOCATION:South Park Amphitheater\, Buffalo Drive\, Library \, PA\, 15219\, United States
CATEGORIES:Festivals,Free,Outdoor
GEO:40.3053675;-79.9958723
X-APPLE-STRUCTURED-LOCATION;VALUE=URI;X-ADDRESS=South Park Amphitheater Buffalo Drive Library  PA 15219 United States;X-APPLE-RADIUS=500;X-TITLE=Buffalo Drive:geo:-79.9958723,40.3053675
END:VEVENT
BEGIN:VEVENT
DTSTART;TZID=America/New_York:20141018T130000
DTEND;TZID=America/New_York:20141018T170000
DTSTAMP:20260424T111412
CREATED:20140930T145801Z
LAST-MODIFIED:20140930T145801Z
UID:6829-1413637200-1413651600@playpittsburgh.com
SUMMARY:Volunteer Princesses's Spook-A-Palooza
DESCRIPTION:Join the princesses\, superheroes\, and our other characters for some spooky fun! \n\nHalloween Coloring Pages\nDecorate Your Own Paper Pumpkin\nRaffle (50 cents a ticket. All money benefits the Children’s Institute.)\nJump Ropes\nBubbles\nHalloween Face-Paint\nCostumed Characters (meet + greet and pictures included)\nHalloween word-searches\nPlay and take home some SLIME\nHalloween Storytime
URL:https://playpittsburgh.com/event/volunteer-princessess-spook-a-palooza-2/
LOCATION:Schenley Plaza
CATEGORIES:Festivals,Free,Outdoor
GEO:40.4435295;-79.9521286
END:VEVENT
BEGIN:VEVENT
DTSTART;TZID=America/New_York:20141018T130000
DTEND;TZID=America/New_York:20141018T170000
DTSTAMP:20260424T111412
CREATED:20140930T145801Z
LAST-MODIFIED:20140930T145801Z
UID:3953-1413637200-1413651600@playpittsburgh.com
SUMMARY:Volunteer Princesses's Spook-A-Palooza
DESCRIPTION:Join the princesses\, superheroes\, and our other characters for some spooky fun! \n\nHalloween Coloring Pages\nDecorate Your Own Paper Pumpkin\nRaffle (50 cents a ticket. All money benefits the Children’s Institute.)\nJump Ropes\nBubbles\nHalloween Face-Paint\nCostumed Characters (meet + greet and pictures included)\nHalloween word-searches\nPlay and take home some SLIME\nHalloween Storytime
URL:https://playpittsburgh.com/event/volunteer-princessess-spook-a-palooza/
LOCATION:Schenley Plaza
CATEGORIES:Festivals,Free,Outdoor
GEO:40.4435295;-79.9521286
END:VEVENT
BEGIN:VEVENT
DTSTART;TZID=America/New_York:20141121T080000
DTEND;TZID=America/New_York:20141121T170000
DTSTAMP:20260424T111412
CREATED:20141103T023809Z
LAST-MODIFIED:20141103T023809Z
UID:6926-1416556800-1416589200@playpittsburgh.com
SUMMARY:Light Up Night Downtown Pittsburgh
DESCRIPTION:Entertainment on Plaza and Food Court; Wintergarden Exhibits & Ice rink open for season. The Biggest Party on the Biggest Night of the Year! \nThe Pittsburgh Downtown Partnership invites you to celebrate the official kickoff to the Holiday Season with FREE high-quality entertainment\, activities\, music\, magic and memories all across the Golden Triangle.\nOFFICIAL TREE LIGHTING CEREMONIES \n\n12:00 P.M. City-County Building Tree Lighting\n12:00 P.M. U.S. Steel Tower Dedication of the Creche\n5:30 P.M. Allegheny Courthouse Lighting\n5:45 P.M. One Oxford Centre Lighting\n5:45 P.M. Santa Lights BNY Mellon Season of Lights\n6:00 P.M. PPG Plaza Tree Lighting\n6:45 P.M. Macy’s Window Unveiling\n7:00 P.M. Highmark Unity Tree Lighting with Rooftop Fireworks\n\nCLEMENTE BRIDGE- BNY MELLON NEW MUSIC STAGE \n\n6:00 P.M. Grand Piano\n7:00 P.M. Donora\n8:30 P.M. Cobra Starship\n\nMARKET SQUARE \n\n5:00 P.M. Jeff Jimerson and Airborne Holiday Songfest\n5:45 P.M. Countdown to 2014 Season of Lights with Santa\n6:00-9:30 P.M. Season of Lights Show & Jeff Jimerson mini-concert (every half hour)\n\n NORTHWEST SAVINGS BANK STAGE \n\n6:00 P.M. Billy Price\n7:00 P.M. Joe Grushecky\n8:30 P.M. NOMaD\n\nOFFICIAL TREE LIGHTING CEREMONIES \n\n12:00 P.M. City-County Building Tree Lighting\n12:00 P.M. U.S. Steel Tower Dedication of the Creche\n5:30 P.M. Allegheny Courthouse Lighting\n5:45 P.M. One Oxford Centre Lighting\n5:45 P.M. Santa Lights BNY Mellon Season of Lights\n6:00 P.M. PPG Plaza Tree Lighting\n6:45 P.M. Macy’s Window Unveiling\n7:00 P.M. Highmark Unity Tree Lighting with Rooftop Fireworks\n\n CLEMENTE BRIDGE- BNY MELLON NEW MUSIC STAGE \n\n6:00 P.M. Grand Piano\n7:00 P.M. Donora\n8:30 P.M. Cobra Starship\n\nBNY MELLON FIREWORKS FINALE \n\n9:38 P.M. Launched from the Warhol Bridge\, one of Pittsburgh’s most spectacular displays by the first family of pyrotechnics\, Zambelli Internationale\, including the Light Up Night signature Niagara Falls of fireworks\, all synchronized to a brand new\, live holiday broadcast on Q92-9.\n\nONE OXFORDCENTRE \n\n5:30 – 9:00 P.M. by The Rick Gallagher Trio\n5:45 P.M. Annual Tree Lighting and Santa’s Arrival\n6:00 – 9:00 P.M. Free Horse-Drawn Carriage Rides (last ride at 8:45 P.M.)\n6:00 – 9:00 P.M. Santa’s Reindeer and Free Activities\n\nMACY’S \n\n6:00 P.M. Holiday Window Unveiling & Jamie Lynn Spears In Concert Smithfield Street Stage\n\nFIFTH AVENUE PLACE \n\n5:00 – 9:00 P.M. Fifth Avenue Freeze Ice Carvings and Family Festivities\nLive Musical Performances:\n\n4:30 – 6:30 P.M. Roger Barbour Jazz Quartet\n7:00 – 9:00 P.M. Max Leak Trio\n\n\n7:00 P.M. Unity Tree Lighting With Rooftop Fireworks\n\n PPG PLACE PLAZA AND RINK\nDowntown Pittsburgh’s only outdoor ice skating rink is open until midnight on Light Up Night and Magic Ice USA is donating $1 of each skate admission to the American Cancer Society. \n\n4:45 P.M. Robert Morris University Island Sports Figure Skating\n5:00 P.M. CLO Mini-Stars\n5:30 – 6:00 P.M. American Cancer Society’s Tribute of Light & Plaza Tree Lighting\n5:00 – 8:30 P.M. Music by Joel Lindsey in PPG Place food court
URL:https://playpittsburgh.com/event/light-up-night-downtown-pittsburgh/
CATEGORIES:Festivals,Outdoor
ATTACH;FMTTYPE=:
END:VEVENT
BEGIN:VEVENT
DTSTART;TZID=America/New_York:20141205T183000
DTEND;TZID=America/New_York:20141205T193000
DTSTAMP:20260424T111412
CREATED:20140929T223039Z
LAST-MODIFIED:20140929T223039Z
UID:3895-1417804200-1417807800@playpittsburgh.com
SUMMARY:Christmas Tree Light Up Visit with Santa at Clever Park
DESCRIPTION:Santa and Mrs. Claus will arrive at the Christmas Tree Light Up by fire truck and Santa will flip the switch to start the holiday season and light up Robinson Township! Join the festivities that will include caroling\, hot chocolate and cookies. Make Robinson Township’s Light Up event a tradition in your family and create holiday memories with us that will last for years to come!
URL:https://playpittsburgh.com/event/christmas-tree-light-up-visit-with-santa-at-clever-park/
LOCATION:Clever Park\, 115 Robinson Pool Dr\, McKees Rocks \, PA\, 15136\, United States
CATEGORIES:Festivals,Free,Outdoor
GEO:40.4656244;-80.0656106
X-APPLE-STRUCTURED-LOCATION;VALUE=URI;X-ADDRESS=Clever Park 115 Robinson Pool Dr McKees Rocks  PA 15136 United States;X-APPLE-RADIUS=500;X-TITLE=115 Robinson Pool Dr:geo:-80.0656106,40.4656244
END:VEVENT
BEGIN:VEVENT
DTSTART;VALUE=DATE:20150327
DTEND;VALUE=DATE:20150330
DTSTAMP:20260424T111412
CREATED:20150324T175549Z
LAST-MODIFIED:20150324T175549Z
UID:5471-1427414400-1427673599@playpittsburgh.com
SUMMARY:68th Annual Pennsylvania Maple Festival
DESCRIPTION:The Pennsylvania Maple Festival is a nonprofit\, community organized festival which takes place in early spring at the height of maple production season in the beautiful town of Meyersdale PA. \nFeaturing pancakes/maple syrup & lots of family activities! \nAt Maple Festival Park\, a booth exists just for our youngest vistiors. Inside\, children can make crafts\, have their faces painted\, or find a number of other fun activities. Children will learn about the maple industry. Kids’ Corner is included as part of your admission fee into Maple Festival Park. The booth is located behind Maple Manor and next to the Festival Park Stage. \nCheck event website for details about schedule. \n2015 GENERAL ADMISSION FOR FESTIVAL PARK \n\n$5.00 Adults\n$1.00 Children ages 6-12\nFree Children 5 and under
URL:https://playpittsburgh.com/event/68th-annual-pennsylvania-maple-festival/
LOCATION:Downtown Meyersdale\, Meyers Avenue\, Meyersdale\, PA\, 15552\, United States
CATEGORIES:Festivals
GEO:39.8145815;-79.0223919
X-APPLE-STRUCTURED-LOCATION;VALUE=URI;X-ADDRESS=Downtown Meyersdale Meyers Avenue Meyersdale PA 15552 United States;X-APPLE-RADIUS=500;X-TITLE=Meyers Avenue:geo:-79.0223919,39.8145815
END:VEVENT
BEGIN:VEVENT
DTSTART;TZID=America/New_York:20150328T103000
DTEND;TZID=America/New_York:20150328T120000
DTSTAMP:20260424T111412
CREATED:20150325T130213Z
LAST-MODIFIED:20150325T130213Z
UID:5632-1427538600-1427544000@playpittsburgh.com
SUMMARY:Township of Pine Easter Egg Hunt
DESCRIPTION:March 28 10:30 a.m. to 12:00 noon. Join us for the annual Easter Egg Hunt ~ Meet the Easter Bunny\, enjoy arts and crafts\, and look for eggs filled with special treats! \nBe sure to bring a basket to collect your eggs and a camera for a picture with the Easter Bunny. \nResidents Free\,  Non-Residents $3.00/child \nTIMES\n10:45 – 10:55 Ages 1-3\n11:00 – 11:10 Ages 4-6\n11:15 – 11:25 Ages 7-9
URL:https://playpittsburgh.com/event/township-of-pine-easter-egg-hunt/
LOCATION:Pine Community Center\, 100 Pine Park Dr\, Wexford \, PA\, 15090\, United States
CATEGORIES:Festivals,Outdoor
GEO:40.6610247;-80.0419415
X-APPLE-STRUCTURED-LOCATION;VALUE=URI;X-ADDRESS=Pine Community Center 100 Pine Park Dr Wexford  PA 15090 United States;X-APPLE-RADIUS=500;X-TITLE=100 Pine Park Dr:geo:-80.0419415,40.6610247
END:VEVENT
BEGIN:VEVENT
DTSTART;TZID=America/New_York:20150328T130000
DTEND;TZID=America/New_York:20150328T150000
DTSTAMP:20260424T111412
CREATED:20150324T174528Z
LAST-MODIFIED:20150324T174528Z
UID:5468-1427547600-1427554800@playpittsburgh.com
SUMMARY:Cookies with Cottontail (Boyce Park)
DESCRIPTION:Enjoy cookies and refreshments with Peter Cottontail himself\, as well as spring crafts\, a balloon artist and face painter\, 1:00-3:00 p.m. on Saturday\, March 28th at Boyce Park Four Seasons Lodge. FREE & open to the public!
URL:https://playpittsburgh.com/event/cookies-with-cottontail/
LOCATION:Boyce/Mayview Park\, 1531 Mayview Road \, Upper Saint Claire \, PA\, 15241\, United States
CATEGORIES:Festivals,Free
GEO:40.336762;-80.1105449
X-APPLE-STRUCTURED-LOCATION;VALUE=URI;X-ADDRESS=Boyce/Mayview Park 1531 Mayview Road  Upper Saint Claire  PA 15241 United States;X-APPLE-RADIUS=500;X-TITLE=1531 Mayview Road:geo:-80.1105449,40.336762
END:VEVENT
BEGIN:VEVENT
DTSTART;TZID=America/New_York:20150329T010000
DTEND;TZID=America/New_York:20150329T150000
DTSTAMP:20260424T111412
CREATED:20150324T174806Z
LAST-MODIFIED:20150324T174806Z
UID:5469-1427590800-1427641200@playpittsburgh.com
SUMMARY:Cookies with Cottontail (North Park)
DESCRIPTION:Enjoy cookies and refreshments with Peter Cottontail himself\, as well as spring crafts\, a balloon artist and face painter\, 1:00-3:00 p.m. on Sunday\, March 29th at Boyce Park Four Seasons Lodge. FREE & open to the public!
URL:https://playpittsburgh.com/event/cookies-with-cottontail-north-park/
LOCATION:North Park\, Pearce Mill Road\, Pittsburgh\, PA\, 15101\, United States
CATEGORIES:Festivals,Free
GEO:40.6060347;-80.0069905
X-APPLE-STRUCTURED-LOCATION;VALUE=URI;X-ADDRESS=North Park Pearce Mill Road Pittsburgh PA 15101 United States;X-APPLE-RADIUS=500;X-TITLE=Pearce Mill Road:geo:-80.0069905,40.6060347
END:VEVENT
BEGIN:VEVENT
DTSTART;TZID=America/New_York:20150404T110000
DTEND;TZID=America/New_York:20150404T140000
DTSTAMP:20260424T111412
CREATED:20150328T220836Z
LAST-MODIFIED:20150328T220836Z
UID:5922-1428145200-1428156000@playpittsburgh.com
SUMMARY:The Great Pittsburgh Eagle Egg Hunt
DESCRIPTION:Celebrate the region’s Bald Eagles at Beechwood Nature Preserve’s Easter egg hunts at 11:30\, 12:30 and 1:30. Free event!
URL:https://playpittsburgh.com/event/the-great-pittsburgh-eagle-egg-hunt/
LOCATION:Beechwood Farms Nature Reserve\, 614 Dorseyville Rd\, Fox Chapel\, PA\, 15238\, United States
CATEGORIES:Festivals,Free
GEO:40.542569;-79.905324
X-APPLE-STRUCTURED-LOCATION;VALUE=URI;X-ADDRESS=Beechwood Farms Nature Reserve 614 Dorseyville Rd Fox Chapel PA 15238 United States;X-APPLE-RADIUS=500;X-TITLE=614 Dorseyville Rd:geo:-79.905324,40.542569
END:VEVENT
BEGIN:VEVENT
DTSTART;TZID=America/New_York:20160630T110000
DTEND;TZID=America/New_York:20160630T200000
DTSTAMP:20260424T111412
CREATED:20160701T014432Z
LAST-MODIFIED:20160701T014432Z
UID:9262-1467284400-1467316800@playpittsburgh.com
SUMMARY:Westmoreland Arts and Heritage Festival
DESCRIPTION:Visit the area’s #1 summer arts festival at Twin Lakes Park – the Westmoreland Arts & Heritage Festival! They’re celebrating 42 years of fantastic music\, food\, crafts\, children’s activities\, and uniquely exceptional art produced by our talented local community and beyond. \nJune 30\, July 1\, and July 2 – 11 a.m. to 8 p.m.\nJuly 3 – 11 a.m. to 6 p.m.​ \n2016 Children’s Area Activities include:\n– Pittsburgh Zoo Wonders of Wildlife Programs\n– Carnegie Museum of Natural History Programs\n– Meet and Greet with Mr. McFeely\n– Diana Perry\, National Best Selling Children’s Author\n– That Guy with the Birds\n– Live Painting with Raphael Pantalone\n– Craft & Activity Booths
URL:https://playpittsburgh.com/event/westmoreland-arts-heritage-festival-4/2016-06-30/
LOCATION:Twin Lakes Park\, 194 Donohoe Road\, Greensburg\, PA\, 15601\, United States
CATEGORIES:Festivals,Outdoor
GEO:40.307706;-79.501175
X-APPLE-STRUCTURED-LOCATION;VALUE=URI;X-ADDRESS=Twin Lakes Park 194 Donohoe Road Greensburg PA 15601 United States;X-APPLE-RADIUS=500;X-TITLE=194 Donohoe Road:geo:-79.501175,40.307706
END:VEVENT
BEGIN:VEVENT
DTSTART;TZID=America/New_York:20160701T090000
DTEND;TZID=America/New_York:20160701T210000
DTSTAMP:20260424T111412
CREATED:20160701T020820Z
LAST-MODIFIED:20160701T020820Z
UID:9308-1467363600-1467406800@playpittsburgh.com
SUMMARY:Big Butler Fair
DESCRIPTION:The Big Butler Fair is the largest fair in Western Pennsylvania and considered by many to be the best fair in the country! Come and enjoy fireworks\, the midway\, games\, demolition derbies\, concerts and truck pulls. See website for daily schedule of shows\, activities and more.
URL:https://playpittsburgh.com/event/big-butler-fair-2/2016-07-01/
LOCATION:Butler Fair Grounds\, 1127 New Castle Road\, Prospect\,\, PA\, 16052\, United States
CATEGORIES:Festivals,Outdoor
GEO:40.9118123;-80.0375762
X-APPLE-STRUCTURED-LOCATION;VALUE=URI;X-ADDRESS=Butler Fair Grounds 1127 New Castle Road Prospect PA 16052 United States;X-APPLE-RADIUS=500;X-TITLE=1127 New Castle Road:geo:-80.0375762,40.9118123
END:VEVENT
BEGIN:VEVENT
DTSTART;TZID=America/New_York:20160701T110000
DTEND;TZID=America/New_York:20160701T220000
DTSTAMP:20260424T111412
CREATED:20160701T015038Z
LAST-MODIFIED:20160701T015038Z
UID:9266-1467370800-1467410400@playpittsburgh.com
SUMMARY:Ellwood City Festival
DESCRIPTION:Make plans to attend Ellwood City area’s largest community event celebrating 36 years of fun\, food and friendships! \nThe Festival  is located on the grounds of Ellwood City’s Ewing Park neighborhood and is easily accessible for local residents as well as visitors attending from afar. \nThe Festival  is host to a wide variety of handmade arts and crafts\, delicious ethnic foods and beverages as well as all day entertainment.   Art lovers will enjoy the Juried Art Show located in historic Trefoil Lodge. \nCOMMUNITY DANCE PARTY FROM 8pm – 10 pm WITH DJ NIKKI
URL:https://playpittsburgh.com/event/ellwood-city-festival/2016-07-01/
LOCATION:Ewing Park\, 330 Sims St\, Ellwood City \, PA\, 16117\, United States
CATEGORIES:Festivals,Outdoor
GEO:40.864058;-80.274297
X-APPLE-STRUCTURED-LOCATION;VALUE=URI;X-ADDRESS=Ewing Park 330 Sims St Ellwood City  PA 16117 United States;X-APPLE-RADIUS=500;X-TITLE=330 Sims St:geo:-80.274297,40.864058
END:VEVENT
BEGIN:VEVENT
DTSTART;TZID=America/New_York:20160701T163000
DTEND;TZID=America/New_York:20160701T180000
DTSTAMP:20260424T111412
CREATED:20160701T023437Z
LAST-MODIFIED:20160701T023437Z
UID:9329-1467390600-1467396000@playpittsburgh.com
SUMMARY:Charleroi Community Day
DESCRIPTION:Get ready for a jammed-packed day full of fun activities and events that are perfect for the whole family.  The Charleroi Community Day includes kid games\, fun contests like the duck ace and fishing derby\, and even a bicycle parade.  They also have a car cruise in the afternoon\, plenty of live local bands\, and a great fireworks show in the evening.  So come and bring the family for a day of fantastic fun! Plan to stay later as they have the band No Bad JuJu following our performance that evening.
URL:https://playpittsburgh.com/event/charleroi-community-day/
LOCATION:Charleroi Chamber Plaza\, 500 McKean Avenue\, Charleroi\, PA\, 15022\, United States
CATEGORIES:Festivals,Free,Outdoor
GEO:40.1385164;-79.8975599
X-APPLE-STRUCTURED-LOCATION;VALUE=URI;X-ADDRESS=Charleroi Chamber Plaza 500 McKean Avenue Charleroi PA 15022 United States;X-APPLE-RADIUS=500;X-TITLE=500 McKean Avenue:geo:-79.8975599,40.1385164
END:VEVENT
BEGIN:VEVENT
DTSTART;TZID=America/New_York:20160701T170000
DTEND;TZID=America/New_York:20160701T200000
DTSTAMP:20260424T111412
CREATED:20160701T021703Z
LAST-MODIFIED:20160701T021750Z
UID:9318-1467392400-1467403200@playpittsburgh.com
SUMMARY:New Wilmington Kid’s Karnival
DESCRIPTION:The evening will be a kids paradise – games\, prizes\, balloons\, face painting\, and more! . Activities can be found all throughout downtown New Wilmington\, PA.
URL:https://playpittsburgh.com/event/new-wilmington-kids-karnival/
LOCATION:Downtown New Wilmington\, 132 W Neshannock Avenue\, New Wilmington \, PA\, 16142\, United States
CATEGORIES:Festivals,Free
GEO:41.1225438;-80.3341705
X-APPLE-STRUCTURED-LOCATION;VALUE=URI;X-ADDRESS=Downtown New Wilmington 132 W Neshannock Avenue New Wilmington  PA 16142 United States;X-APPLE-RADIUS=500;X-TITLE=132 W Neshannock Avenue:geo:-80.3341705,41.1225438
END:VEVENT
BEGIN:VEVENT
DTSTART;VALUE=DATE:20160709
DTEND;VALUE=DATE:20160710
DTSTAMP:20260424T111412
CREATED:20160709T022812Z
LAST-MODIFIED:20160709T022812Z
UID:9671-1468022400-1468108799@playpittsburgh.com
SUMMARY:Sand City Spectacular
DESCRIPTION:Renowned Sculptors From 7 Nations Give Stunning Sand Salute To Pittsburgh 200 In Championship Event! \nJULY 3-10\nDon’t miss the KDKA “SAND PLAY LAND” – Kids Sandbox Area Featuring Giant Construction Toys\, Plenty of Buckets/Shovels for Hours of Super Sand Fun.\nWHERE: SCHENLEY PLAZA “LIBRARY BOSQUE LAWN AREA” NEAR “ZIPPY” THE DINOSAUR STATUE AT CARNEGIE LIBRARY \nJULY 10\nNoon – 4pm: Kids Day at Schenley Plaza – Part of the Plaza’s Monthly and FREE Kids Day Activities… Enjoy Face Painting\, Balloon Artist Free Rides on the PNC Carousel… featuring Sunburst Music School \nNoon – 5pm: Tots and Toddlers will Smile as They Magically Create a Picture in a Delightful Crayon-Rubbing Over Sandpaper Activity.\nWHERE: Schenley Plaza “Library Bosque Area”
URL:https://playpittsburgh.com/event/sand-city-spectacular/2016-07-09/
LOCATION:Schenley Park\, 5410 Bartlett St\, Pittsburgh\, PA\, 15217\, United States
CATEGORIES:Festivals,Free,Outdoor
GEO:40.4331473;-79.9360299
X-APPLE-STRUCTURED-LOCATION;VALUE=URI;X-ADDRESS=Schenley Park 5410 Bartlett St Pittsburgh PA 15217 United States;X-APPLE-RADIUS=500;X-TITLE=5410 Bartlett St:geo:-79.9360299,40.4331473
END:VEVENT
BEGIN:VEVENT
DTSTART;TZID=America/New_York:20160709T110000
DTEND;TZID=America/New_York:20160709T220000
DTSTAMP:20260424T111412
CREATED:20160704T141850Z
LAST-MODIFIED:20160704T141850Z
UID:9405-1468062000-1468101600@playpittsburgh.com
SUMMARY:Pittsburgh Bicentennial Celebration
DESCRIPTION:Pittsburgh marks its official incorporation as a city! Celebrate everything that makes it an extraordinary place to live\, work\, visit\, and play with a parade\, a showcase in Market Square\, a concert and fireworks. \nBicentennial Day Parade\nBe on hand to commemorate the election of Pittsburgh’s first mayor in 1816\, Ebenezer Denny\, at this momentous parade. Local school\, community and entertainment groups\, as well as descendants of all 56 previous mayors\, are taking part in the parade winding along Liberty Avenue from 11th Street to Point State Park. Descendants of Pittsburgh mayors are traveling from as far away as Europe to participate. After the parade\, continue the celebration with a Bicentennial Showcase in Market Square. Later\, beginning at 6 PM\, stop by Point State Park for music and more.  Fireworks\, a Pittsburgh tradition\, begin when it gets dark.  \nThe parade begins at 11 a.m. The route follows Liberty Avenue from 11th St. to Point State Park.
URL:https://playpittsburgh.com/event/pittsburgh-bicentennial-celebration/
LOCATION:Market Square\, 23 Market Place\, Forbes Avenue and Market Place\, Pittsburgh\, PA\, 15222\, United States
CATEGORIES:Festivals
GEO:40.4400253;-80.0030034
X-APPLE-STRUCTURED-LOCATION;VALUE=URI;X-ADDRESS=Market Square 23 Market Place Forbes Avenue and Market Place Pittsburgh PA 15222 United States;X-APPLE-RADIUS=500;X-TITLE=23 Market Place\, Forbes Avenue and Market Place:geo:-80.0030034,40.4400253
END:VEVENT
BEGIN:VEVENT
DTSTART;TZID=America/New_York:20160710T120000
DTEND;TZID=America/New_York:20160710T170000
DTSTAMP:20260424T111412
CREATED:20160704T144154Z
LAST-MODIFIED:20160709T024505Z
UID:9407-1468152000-1468170000@playpittsburgh.com
SUMMARY:Kids Day at SouthSide Works Exposed
DESCRIPTION:It’s time for the 12th Annual SouthSide Works Exposed! Showcasing 60+ local artists that will line South 27th Street plus live music and local food trucks! \nFestivities will be going on Friday\, Saturday and Sunday – special kids activities on Sunday from 12-5pm. \nDiscover local artists\, musicians\, food activities and more. Kids’ Day at SouthSide Works features live animals\, a magic show\, kids zumba and Kelsey Friday and the Rest of the Week Band! Come hungry… food trucks galore!
URL:https://playpittsburgh.com/event/kids-day-southside-works-exposed/
LOCATION:South Side Works\, 425 Cinema Dr\, Pittsburgh\, PA\, 15203\, United States
CATEGORIES:Festivals,Performing Arts
GEO:40.4282911;-79.965345
X-APPLE-STRUCTURED-LOCATION;VALUE=URI;X-ADDRESS=South Side Works 425 Cinema Dr Pittsburgh PA 15203 United States;X-APPLE-RADIUS=500;X-TITLE=425 Cinema Dr:geo:-79.965345,40.4282911
END:VEVENT
BEGIN:VEVENT
DTSTART;TZID=America/New_York:20160714T060000
DTEND;TZID=America/New_York:20160714T230000
DTSTAMP:20260424T111412
CREATED:20160704T151849Z
LAST-MODIFIED:20160717T155855Z
UID:9419-1468476000-1468537200@playpittsburgh.com
SUMMARY:Western PA Balloon Quest
DESCRIPTION:Festivities start with a “Balloon Glow” scheduled on Thursday night @ 9:00 pm. See balloon launches between 6-7am and 6-7pm scheduled for Friday evening\, Saturday morning and evening\, Sunday morning. \nStay for carnival rides\, entertainment\, demonstrations\, vendors and fireworks on Sunday night!
URL:https://playpittsburgh.com/event/western-pa-balloon-quest-2/2016-07-14/
LOCATION:Scotland Meadows Park\, 2106 Camden Avenue\, New Castle\, PA\, 16101\, United States
CATEGORIES:Festivals,Outdoor
GEO:41.000549;-80.384536
X-APPLE-STRUCTURED-LOCATION;VALUE=URI;X-ADDRESS=Scotland Meadows Park 2106 Camden Avenue New Castle PA 16101 United States;X-APPLE-RADIUS=500;X-TITLE=2106 Camden Avenue:geo:-80.384536,41.000549
END:VEVENT
BEGIN:VEVENT
DTSTART;TZID=America/New_York:20160715T120000
DTEND;TZID=America/New_York:20160715T220000
DTSTAMP:20260424T111412
CREATED:20160704T153651Z
LAST-MODIFIED:20160704T153850Z
UID:9426-1468584000-1468620000@playpittsburgh.com
SUMMARY:Picklesburgh
DESCRIPTION:On Friday\, July 15 and Saturday\, July 16\, the Rachel Carson Bridge in Downtown Pittsburgh transforms into Picklesburgh\, highlighted by a giant flying Heinz pickle balloon\, custom built by a team that also crafts balloons for Disney and the Macy’s Thanksgiving Day parade. The Picklesburgh festival is a culinary celebration that goes beyond the dill pickle to include international dishes\, prepared foods and artisan cocktails that feature pickled ingredients; an embrace of the farm-to-table movement and the rising popularity of canning; a selection of handcrafted foods and artisan cocktails from local restaurants; informative how-to demos and author talks at our demo area; merchandise such as pickled goods\, books and DIY products. \nFood\, crafts\, vendors and all things pickled! Picklesburgh 2016 will be held on Friday\, July 15 and Saturday\, July 16 on the Rachel Carson Bridge from 12:00 – 10:00 p.m.
URL:https://playpittsburgh.com/event/picklesburgh/2016-07-15/
LOCATION:Rachel Carson Bridge\, Pittsburgh \, PA\, 15222
CATEGORIES:Festivals
GEO:40.4475255;-79.9933976
END:VEVENT
END:VCALENDAR