BEGIN:VCALENDAR
VERSION:2.0
PRODID:-//Play Pittsburgh - ECPv6.15.20//NONSGML v1.0//EN
CALSCALE:GREGORIAN
METHOD:PUBLISH
X-WR-CALNAME:Play Pittsburgh
X-ORIGINAL-URL:https://playpittsburgh.com
X-WR-CALDESC:Events for Play Pittsburgh
REFRESH-INTERVAL;VALUE=DURATION:PT1H
X-Robots-Tag:noindex
X-PUBLISHED-TTL:PT1H
BEGIN:VTIMEZONE
TZID:America/New_York
BEGIN:DAYLIGHT
TZOFFSETFROM:-0500
TZOFFSETTO:-0400
TZNAME:EDT
DTSTART:20130310T070000
END:DAYLIGHT
BEGIN:STANDARD
TZOFFSETFROM:-0400
TZOFFSETTO:-0500
TZNAME:EST
DTSTART:20131103T060000
END:STANDARD
BEGIN:DAYLIGHT
TZOFFSETFROM:-0500
TZOFFSETTO:-0400
TZNAME:EDT
DTSTART:20140309T070000
END:DAYLIGHT
BEGIN:STANDARD
TZOFFSETFROM:-0400
TZOFFSETTO:-0500
TZNAME:EST
DTSTART:20141102T060000
END:STANDARD
BEGIN:DAYLIGHT
TZOFFSETFROM:-0500
TZOFFSETTO:-0400
TZNAME:EDT
DTSTART:20150308T070000
END:DAYLIGHT
BEGIN:STANDARD
TZOFFSETFROM:-0400
TZOFFSETTO:-0500
TZNAME:EST
DTSTART:20151101T060000
END:STANDARD
END:VTIMEZONE
BEGIN:VEVENT
DTSTART;TZID=America/New_York:20140913T120000
DTEND;TZID=America/New_York:20140913T200000
DTSTAMP:20260423T101735
CREATED:20140912T050223Z
LAST-MODIFIED:20140912T050223Z
UID:3724-1410609600-1410638400@playpittsburgh.com
SUMMARY:Fall Food Festival @ South Side Works
DESCRIPTION:Enjoy live music and food trucks at South Side works on Sept 13th from 12-8pm!
URL:https://playpittsburgh.com/event/fall-food-festival-south-side-works/
LOCATION:South Side Works\, 425 Cinema Dr\, Pittsburgh\, PA\, 15203\, United States
CATEGORIES:Fall Festivals
GEO:40.4282911;-79.965345
X-APPLE-STRUCTURED-LOCATION;VALUE=URI;X-ADDRESS=South Side Works 425 Cinema Dr Pittsburgh PA 15203 United States;X-APPLE-RADIUS=500;X-TITLE=425 Cinema Dr:geo:-79.965345,40.4282911
END:VEVENT
BEGIN:VEVENT
DTSTART;TZID=America/New_York:20140927T100000
DTEND;TZID=America/New_York:20140927T170000
DTSTAMP:20260423T101735
CREATED:20140902T162056Z
LAST-MODIFIED:20140902T162056Z
UID:3620-1411812000-1411837200@playpittsburgh.com
SUMMARY:Triple B Farms Storybook Pumpkinland
DESCRIPTION:Triple B Farms is fun for the whole family! They have playground equipment\, animals\, games and more! Check out pictures from our recent visit and read more about the festival below! \nPick-your-own apples and a giant pumpkin festival highlight the season at Triple B Farms during September and October. Apples and pumpkins abound at Triple B Farms this fall\, where a festival atmosphere prevails all season long. Bring the WHOLE family! \nIn September\, every weekend is a pick-your-own-apple weekend at Triple B. Just come to the farm market\, get a special apple-picking bag\, and walk right up the hill to the apple orchard\, where you can take your pick of our fresh\, crisp apples. We also have our refreshment barn open each September weekend with apple smoothies\, homemade fries and lunch items. \nPumpkin festival starts the last weekend of September and runs every weekend through Halloween\, plus Wednesdays\, Thursdays and Fridays from 4 to 7 p.m. Storybook Pumpkinland (more than 200 pumpkin-headed characters)\, hayrides to the pick-your-own pumpkin patch\, the Big Blue Boo Barn (a mildly scary haunted barn)\, 2 giant tube slides\, corn maze\, Barnyard Carnival\, and more. Special events are scheduled every weekend\, too\, including a magician\, a mad scientist and others. \nStorybook Pumpkinland – Over 250 pumpkin-headed characters from nursery rhymes and children’s movies. \n• Hayrides to the pick-your-own pumpkin patch.\n• Hayrides to the pick-your-own apple orchard.\n• Big Blue Boo Barn – Mildly scary haunted barn.\n• Feed Bag Refreshments – Remodeled this year! Panini sandwiches and hot dogs\, fresh cut French fries\, chowder made with Triple B sweet corn\, gooey caramel apple desserts\, slices of pie\, homemade apple cider doughnuts and much more!\n• Giant Liberty Tube Slide and Squirrel Hill Tunnel Slide\n• Inflatable Obstacle Course\n• Romping Rope Maze\n• Education Acres\n• Children’s Farm Playground – Cornstalk tunnel\, playhouse and playbarn with slides\, a tractor for climbing and more. \nFarm animals – Pygmy goats love to climb their towering ramp and bridge. We also have “BLACK & GOLD” ducklings playing on a water slide\, chickens\, peacocks and more. \nCountry Market – Stocked with home baked pies fresh from our bakery\, homemade fudge\, our own enormous and delicious apples\, pasteurized apple cider\, farm-themed gifts for children\, specialty food items and fall decorating supplies. \nOutdoor Decorating Tent – stocked with gourds\, mini-pumpkins\, Triple B’s OWN Heritage varieties of pumpkins\, cornstalks\, bales of straw\, beautiful\, hardy mums\, and more!
URL:https://playpittsburgh.com/event/triple-b-farms-storybook-pumpkinland/2014-09-27/
LOCATION:Triple B Farms\, 823 Berry Ln\, Monongahela\, PA\, 15063\, United States
CATEGORIES:Fall Festivals
GEO:40.227675;-79.946589
X-APPLE-STRUCTURED-LOCATION;VALUE=URI;X-ADDRESS=Triple B Farms 823 Berry Ln Monongahela PA 15063 United States;X-APPLE-RADIUS=500;X-TITLE=823 Berry Ln:geo:-79.946589,40.227675
END:VEVENT
BEGIN:VEVENT
DTSTART;TZID=America/New_York:20140927T110000
DTEND;TZID=America/New_York:20140927T160000
DTSTAMP:20260423T101735
CREATED:20140830T175301Z
LAST-MODIFIED:20140902T053537Z
UID:3341-1411815600-1411833600@playpittsburgh.com
SUMMARY:Hay Day @ Hartwood Acres + Allegheny Green Innovation Festival
DESCRIPTION:The Allegheny Green + Innovation Festival is a sustainable living festival held in late September. In 2013\, the festival featured over 80 exhibitors from local nonprofits and green businesses\, as well as events including an African drumming circle and a recycled costume parade! \nCome to Hartwood Acres Park for the 5th annual Allegheny Green + Innovation Festival in 2014. Learn how to reduce your carbon footprint and green your community. Enjoy delicious local food\, interactive demonstrations\, and activities. Plus\, the festival is held jointly with Hay Days\, a fun family event with a petting zoo\, tractor rides\, and other activities for kids! \n\nHay Rides\nHay Maze\nPumpkin Patch\nPumpkin Decorating\nMichaels Arts & Crafts Tent\nBarnyard Petting Zoo & Pony Rides\nFace Painting\nTrackless Train\nCastle Bounce and Giant Slide\nBalloon Art\nAllegheny County Fire Truck\nSpooky Caricatures\nHalloween Puppet Show\n\nThe Allegheny Green + Innovation Festival features lots of great content and activities for kids. \n\nCarnegie Science Center: Biodegradable Sculpture Building\nReuse-A-Palooza: A hands-on\, open-ended\, creative activity for kids and adults\, using reclaimed materials\nParade of All Beings Event: Parade through Hartwood wearing hand-made\, recycled materials creature costumes\nL.L. Bean: Family History Hikes-Meet at L.L. Bean booth @ 12:00p.m.-1:00p.m. & 1:30p.m.-2:30p.m.\n\nAllegheny Green + Innovation Festival features sustainable food from your favorite local restaurants and food trucks! This year’s food vendors include Rondta’s Food Truck\, The Pop Stop\, BRGR\, Franktuary\, Healcrest Urban Farm\, Wood Fire Flatbreads\, Colteryahn Dairy\, and more!
URL:https://playpittsburgh.com/event/hay-day-hartwood-acres-allegheny-green-innovation-festival/
LOCATION:Hartwood Acres\, 200 Hartwood Acres\, Pittsburgh\, PA\, 15238\, United States
CATEGORIES:Fall Festivals,Festivals,Free,Outdoor,RADical Days
GEO:40.5702568;-79.909023
X-APPLE-STRUCTURED-LOCATION;VALUE=URI;X-ADDRESS=Hartwood Acres 200 Hartwood Acres Pittsburgh PA 15238 United States;X-APPLE-RADIUS=500;X-TITLE=200 Hartwood Acres:geo:-79.909023,40.5702568
END:VEVENT
BEGIN:VEVENT
DTSTART;TZID=America/New_York:20140928T100000
DTEND;TZID=America/New_York:20140928T170000
DTSTAMP:20260423T101735
CREATED:20140902T162159Z
LAST-MODIFIED:20140902T162159Z
UID:3625-1411898400-1411923600@playpittsburgh.com
SUMMARY:Triple B Farms Storybook Pumpkinland
DESCRIPTION:Triple B Farms is fun for the whole family! They have playground equipment\, animals\, games and more! Check out pictures from our recent visit and read more about the festival below! \nPick-your-own apples and a giant pumpkin festival highlight the season at Triple B Farms during September and October. Apples and pumpkins abound at Triple B Farms this fall\, where a festival atmosphere prevails all season long. Bring the WHOLE family! \nIn September\, every weekend is a pick-your-own-apple weekend at Triple B. Just come to the farm market\, get a special apple-picking bag\, and walk right up the hill to the apple orchard\, where you can take your pick of our fresh\, crisp apples. We also have our refreshment barn open each September weekend with apple smoothies\, homemade fries and lunch items. \nPumpkin festival starts the last weekend of September and runs every weekend through Halloween\, plus Wednesdays\, Thursdays and Fridays from 4 to 7 p.m. Storybook Pumpkinland (more than 200 pumpkin-headed characters)\, hayrides to the pick-your-own pumpkin patch\, the Big Blue Boo Barn (a mildly scary haunted barn)\, 2 giant tube slides\, corn maze\, Barnyard Carnival\, and more. Special events are scheduled every weekend\, too\, including a magician\, a mad scientist and others. \nStorybook Pumpkinland – Over 250 pumpkin-headed characters from nursery rhymes and children’s movies. \n• Hayrides to the pick-your-own pumpkin patch.\n• Hayrides to the pick-your-own apple orchard.\n• Big Blue Boo Barn – Mildly scary haunted barn.\n• Feed Bag Refreshments – Remodeled this year! Panini sandwiches and hot dogs\, fresh cut French fries\, chowder made with Triple B sweet corn\, gooey caramel apple desserts\, slices of pie\, homemade apple cider doughnuts and much more!\n• Giant Liberty Tube Slide and Squirrel Hill Tunnel Slide\n• Inflatable Obstacle Course\n• Romping Rope Maze\n• Education Acres\n• Children’s Farm Playground – Cornstalk tunnel\, playhouse and playbarn with slides\, a tractor for climbing and more. \nFarm animals – Pygmy goats love to climb their towering ramp and bridge. We also have “BLACK & GOLD” ducklings playing on a water slide\, chickens\, peacocks and more. \nCountry Market – Stocked with home baked pies fresh from our bakery\, homemade fudge\, our own enormous and delicious apples\, pasteurized apple cider\, farm-themed gifts for children\, specialty food items and fall decorating supplies. \nOutdoor Decorating Tent – stocked with gourds\, mini-pumpkins\, Triple B’s OWN Heritage varieties of pumpkins\, cornstalks\, bales of straw\, beautiful\, hardy mums\, and more!
URL:https://playpittsburgh.com/event/triple-b-farms-storybook-pumpkinland-2/2014-09-28/
LOCATION:Triple B Farms\, 823 Berry Ln\, Monongahela\, PA\, 15063\, United States
CATEGORIES:Fall Festivals
GEO:40.227675;-79.946589
X-APPLE-STRUCTURED-LOCATION;VALUE=URI;X-ADDRESS=Triple B Farms 823 Berry Ln Monongahela PA 15063 United States;X-APPLE-RADIUS=500;X-TITLE=823 Berry Ln:geo:-79.946589,40.227675
END:VEVENT
BEGIN:VEVENT
DTSTART;TZID=America/New_York:20141025T120000
DTEND;TZID=America/New_York:20141025T140000
DTSTAMP:20260423T101735
CREATED:20140929T222719Z
LAST-MODIFIED:20140929T222719Z
UID:3893-1414238400-1414245600@playpittsburgh.com
SUMMARY:Halloween in Clever Park
DESCRIPTION:Forest Grove Fire Department and The Montour Marching Band will lead the parade through the park to kick off the festivities. Come in costume! All your favorite ghosts and goblins will parade down the red carpet and pose for some great\, ghostly photos. Treats and eats! Be there or be scared! Please meet in the upper parking lot 15 minutes prior to take part in the parade. \nClever Park includes a huge wooden playground\, tennis courts and more! Check out pictures from our trip here.
URL:https://playpittsburgh.com/event/halloween-in-clever-park/
LOCATION:Clever Park\, 115 Robinson Pool Dr\, McKees Rocks \, PA\, 15136\, United States
CATEGORIES:Fall Festivals,Free,Outdoor
GEO:40.4656244;-80.0656106
X-APPLE-STRUCTURED-LOCATION;VALUE=URI;X-ADDRESS=Clever Park 115 Robinson Pool Dr McKees Rocks  PA 15136 United States;X-APPLE-RADIUS=500;X-TITLE=115 Robinson Pool Dr:geo:-80.0656106,40.4656244
END:VEVENT
END:VCALENDAR