BEGIN:VCALENDAR
VERSION:2.0
PRODID:-//Play Pittsburgh - ECPv6.15.20//NONSGML v1.0//EN
CALSCALE:GREGORIAN
METHOD:PUBLISH
X-WR-CALNAME:Play Pittsburgh
X-ORIGINAL-URL:https://playpittsburgh.com
X-WR-CALDESC:Events for Play Pittsburgh
REFRESH-INTERVAL;VALUE=DURATION:PT1H
X-Robots-Tag:noindex
X-PUBLISHED-TTL:PT1H
BEGIN:VTIMEZONE
TZID:America/New_York
BEGIN:DAYLIGHT
TZOFFSETFROM:-0500
TZOFFSETTO:-0400
TZNAME:EDT
DTSTART:20130310T070000
END:DAYLIGHT
BEGIN:STANDARD
TZOFFSETFROM:-0400
TZOFFSETTO:-0500
TZNAME:EST
DTSTART:20131103T060000
END:STANDARD
BEGIN:DAYLIGHT
TZOFFSETFROM:-0500
TZOFFSETTO:-0400
TZNAME:EDT
DTSTART:20140309T070000
END:DAYLIGHT
BEGIN:STANDARD
TZOFFSETFROM:-0400
TZOFFSETTO:-0500
TZNAME:EST
DTSTART:20141102T060000
END:STANDARD
BEGIN:DAYLIGHT
TZOFFSETFROM:-0500
TZOFFSETTO:-0400
TZNAME:EDT
DTSTART:20150308T070000
END:DAYLIGHT
BEGIN:STANDARD
TZOFFSETFROM:-0400
TZOFFSETTO:-0500
TZNAME:EST
DTSTART:20151101T060000
END:STANDARD
END:VTIMEZONE
BEGIN:VEVENT
DTSTART;TZID=America/New_York:20140719T150000
DTEND;TZID=America/New_York:20140719T160000
DTSTAMP:20260421T215518
CREATED:20140717T021805Z
LAST-MODIFIED:20140717T021805Z
UID:2673-1405782000-1405785600@playpittsburgh.com
SUMMARY:Aviary at the South Park Game Preserve
DESCRIPTION:“The Aviary will be doing a program at the Game Preserve. The program is being funded by past donations\, so it is free for all of you! We ask that you RSVP on the event page so we have an idea of how many will be attending. The event will be held by the Kiddoo House. There will be limited seating\, so you are encouraged to bring your own chair or blanket to sit on. Also\, please bring your own water because snack WILL NOT be provided. Handicap parking is available. If any other special accommodations are needed for you or your child\, please notify us in advance. The National Aviary will be presenting “Amazing Adaptations\,” which talks about what makes different birds unique! For more information on the program\, you can visit the Aviary website!” – Save the South Park Game Preserve Facebook Page  \nPlease register for this event by “attending” on the Save the South Park Game Preserve Facebook page (click here).
URL:https://playpittsburgh.com/event/aviary-at-the-south-park-game-preserve/
LOCATION:South Park\, South Park Township\, PA\, 15129\, United States
CATEGORIES:Animal Attractions,Free,Outdoor
GEO:40.2926016;-79.9975916
END:VEVENT
BEGIN:VEVENT
DTSTART;VALUE=DATE:20140731
DTEND;VALUE=DATE:20140804
DTSTAMP:20260421T215518
CREATED:20140729T215243Z
LAST-MODIFIED:20140729T215243Z
UID:2907-1406764800-1407110399@playpittsburgh.com
SUMMARY:Portersville Steam Show
DESCRIPTION:The Portersville Steam Show provides a large variety of activities for the whole family. A vintage village\, saw mill\, cider press\, gas engines\, oil field equipment\, farm animals\, train rides\, steam engines\, flea market\, crafts\, great food\, kid’s pedal tractor pulling\, tractors\, large traction engines\, ice cream\, tractor pulls\, and steam building are some of the features you may enjoy. \nGate opens at 8:00 A.M. \nShow Admission \n\nThursday & Sunday – $2.00\nFriday & Saturday – $5.00\nChildren 11 & under Free\n\nSee event schedule. 
URL:https://playpittsburgh.com/event/portersville-steam-show/
LOCATION:Portersville Steam Show\, 1512 Perry Highway\, Portersville \, PA\, 16051\, United States
CATEGORIES:Animal Attractions,Festivals,Outdoor
GEO:40.9330362;-80.1464333
X-APPLE-STRUCTURED-LOCATION;VALUE=URI;X-ADDRESS=Portersville Steam Show 1512 Perry Highway Portersville  PA 16051 United States;X-APPLE-RADIUS=500;X-TITLE=1512 Perry Highway:geo:-80.1464333,40.9330362
END:VEVENT
BEGIN:VEVENT
DTSTART;TZID=America/New_York:20140816T110000
DTEND;TZID=America/New_York:20140816T123000
DTSTAMP:20260421T215518
CREATED:20140729T233114Z
LAST-MODIFIED:20140729T233114Z
UID:2931-1408186800-1408192200@playpittsburgh.com
SUMMARY:Teddy Bear Picnic @ Reilly’s Summerseat Farm
DESCRIPTION:A picnic with neighborhood bears! Gather at Reilly’s in early August under the spreading Linden trees with your picnic lunch\, kids\, and teddy bears in hand. The day’s activities include a morning of games\, stories\, and a hayride. There will also be a chance to milk a cow and feed the animals. \nActivity Fee is $5.00. Call 412-364-8662 for reservations.
URL:https://playpittsburgh.com/event/teddy-bear-picnic-reillys-summerseat-farm/
LOCATION:Reilly’s Summerseat Farm\, 1120 Roosevelt Rd\, Pittsburgh\, PA\, 15237\, United States
CATEGORIES:Animal Attractions,Outdoor
GEO:40.5368408;-80.0954873
X-APPLE-STRUCTURED-LOCATION;VALUE=URI;X-ADDRESS=Reilly’s Summerseat Farm 1120 Roosevelt Rd Pittsburgh PA 15237 United States;X-APPLE-RADIUS=500;X-TITLE=1120 Roosevelt Rd:geo:-80.0954873,40.5368408
END:VEVENT
BEGIN:VEVENT
DTSTART;TZID=America/New_York:20140907T090000
DTEND;TZID=America/New_York:20140907T170000
DTSTAMP:20260421T215518
CREATED:20140902T013834Z
LAST-MODIFIED:20140902T013834Z
UID:3589-1410080400-1410109200@playpittsburgh.com
SUMMARY:Grandparents Day @ Pittsburgh Zoo & PPG Aquarium
DESCRIPTION:Grandparents receive free admission\, tram rides\, and one coffee or tea when accompanied by a grandchild.
URL:https://playpittsburgh.com/event/grandparents-day-pittsburgh-zoo-ppg-aquarium/
LOCATION:Pittsburgh Zoo & PPG Aquarium\, 7340 Butler St\, Pittsburgh\, PA\, 15206\, United States
CATEGORIES:Animal Attractions,Free
GEO:40.4858637;-79.9209215
X-APPLE-STRUCTURED-LOCATION;VALUE=URI;X-ADDRESS=Pittsburgh Zoo & PPG Aquarium 7340 Butler St Pittsburgh PA 15206 United States;X-APPLE-RADIUS=500;X-TITLE=7340 Butler St:geo:-79.9209215,40.4858637
END:VEVENT
BEGIN:VEVENT
DTSTART;TZID=America/New_York:20140907T090000
DTEND;TZID=America/New_York:20140907T170000
DTSTAMP:20260421T215518
CREATED:20140902T013834Z
LAST-MODIFIED:20140902T013834Z
UID:6722-1410080400-1410109200@playpittsburgh.com
SUMMARY:Grandparents Day @ Pittsburgh Zoo & PPG Aquarium
DESCRIPTION:Grandparents receive free admission\, tram rides\, and one coffee or tea when accompanied by a grandchild.
URL:https://playpittsburgh.com/event/grandparents-day-pittsburgh-zoo-ppg-aquarium-2/
LOCATION:Pittsburgh Zoo & PPG Aquarium\, 7340 Butler St\, Pittsburgh\, PA\, 15206\, United States
CATEGORIES:Animal Attractions,Free
GEO:40.4858637;-79.9209215
X-APPLE-STRUCTURED-LOCATION;VALUE=URI;X-ADDRESS=Pittsburgh Zoo & PPG Aquarium 7340 Butler St Pittsburgh PA 15206 United States;X-APPLE-RADIUS=500;X-TITLE=7340 Butler St:geo:-79.9209215,40.4858637
END:VEVENT
BEGIN:VEVENT
DTSTART;VALUE=DATE:20140920
DTEND;VALUE=DATE:20140922
DTSTAMP:20260421T215518
CREATED:20140901T160319Z
LAST-MODIFIED:20140901T160319Z
UID:3393-1411171200-1411343999@playpittsburgh.com
SUMMARY:Fall Festival Kick-off Weekend @ Soergel's
DESCRIPTION:Children’s activities include Straw Tunnel\, Sluice\, Little Diggers\, Giant Slide\, Shootin’ Gallery\, Bounce House\, Train Ride\, Flippin’ Fish\, Tractor Hayrides\, Pirate Ship Play Area (free)\, Tiny Town Play Area(free)\, Straw Stack (free)\, Farm Animals (free) and more! Admission is free and activities are pay as you play. \nThere will be a ton a great food every fall festival weekend including hot dogs\, kettle corn\, pie\, apple cider\, hot sandwiches\, candy apples\, caramel apples\, funnel cake\, ice cream and more! \n>>Read about our trip to Soergel’s! 
URL:https://playpittsburgh.com/event/fall-festival-kick-off-weekend-soergels/
LOCATION:Soergel Orchards\, 2573 Brandt School Road\, Wexford\, PA\, 15090\, United States
CATEGORIES:Animal Attractions,Festivals,Outdoor
GEO:40.612184;-80.092151
X-APPLE-STRUCTURED-LOCATION;VALUE=URI;X-ADDRESS=Soergel Orchards 2573 Brandt School Road Wexford PA 15090 United States;X-APPLE-RADIUS=500;X-TITLE=2573 Brandt School Road:geo:-80.092151,40.612184
END:VEVENT
BEGIN:VEVENT
DTSTART;VALUE=DATE:20140920
DTEND;VALUE=DATE:20140922
DTSTAMP:20260421T215518
CREATED:20140901T160319Z
LAST-MODIFIED:20140901T160319Z
UID:6566-1411171200-1411343999@playpittsburgh.com
SUMMARY:Fall Festival Kick-off Weekend @ Soergel's
DESCRIPTION:Children’s activities include Straw Tunnel\, Sluice\, Little Diggers\, Giant Slide\, Shootin’ Gallery\, Bounce House\, Train Ride\, Flippin’ Fish\, Tractor Hayrides\, Pirate Ship Play Area (free)\, Tiny Town Play Area(free)\, Straw Stack (free)\, Farm Animals (free) and more! Admission is free and activities are pay as you play. \nThere will be a ton a great food every fall festival weekend including hot dogs\, kettle corn\, pie\, apple cider\, hot sandwiches\, candy apples\, caramel apples\, funnel cake\, ice cream and more! \n>>Read about our trip to Soergel’s! 
URL:https://playpittsburgh.com/event/fall-festival-kick-off-weekend-soergels-2/
LOCATION:Soergel Orchards\, 2573 Brandt School Road\, Wexford\, PA\, 15090\, United States
CATEGORIES:Animal Attractions,Festivals,Outdoor
GEO:40.612184;-80.092151
X-APPLE-STRUCTURED-LOCATION;VALUE=URI;X-ADDRESS=Soergel Orchards 2573 Brandt School Road Wexford PA 15090 United States;X-APPLE-RADIUS=500;X-TITLE=2573 Brandt School Road:geo:-80.092151,40.612184
END:VEVENT
BEGIN:VEVENT
DTSTART;TZID=America/New_York:20140927T120000
DTEND;TZID=America/New_York:20140927T170000
DTSTAMP:20260421T215518
CREATED:20140830T171134Z
LAST-MODIFIED:20140830T171134Z
UID:3316-1411819200-1411837200@playpittsburgh.com
SUMMARY:Cheeseman Farm Pumpkin Festival
DESCRIPTION:2014 Pumpkin Festival Saturdays and Sundays September 27th through November 1st\, 2014 12:00 Noon to 5:00 PM Fall is a special time of year on the farm and every year we host a local pumpkin festival. It’s time for harvest and here you can pickup your local favorites\, Honey\, Apple Butter and of course Pumpkins. The pumpkin festival is a great way to spend a day with the family and enjoy the fall weather. Start a new family tradition take a hay ride to our pumpkin patch and pick out this years holiday decorations. wagon and tractor Hay Rides Petting Zoo Hay Jump Pumpkin Video (upon request) Concession Stand Holiday Items Pumpkins and Gourds Indiana Corn Corn Stalks Hay Bales The cost of the hayride is $4.00 per person. Children 2 years and under are free when accompanied by an adult. Prices do not include the cost of the pumpkin. All pumpkins picked in the patch will be brought back\, weighed and will be priced at 40 cents per pound. On this farm we grow fun!
URL:https://playpittsburgh.com/event/cheeseman-farm-pumpkin-festival/2014-09-27/
LOCATION:Cheeseman Farm\, 147 Kennedy Rd\, Portersville \, PA\, 16051\, United States
CATEGORIES:Animal Attractions,Festivals,Outdoor
GEO:40.9419861;-80.1701606
X-APPLE-STRUCTURED-LOCATION;VALUE=URI;X-ADDRESS=Cheeseman Farm 147 Kennedy Rd Portersville  PA 16051 United States;X-APPLE-RADIUS=500;X-TITLE=147 Kennedy Rd:geo:-80.1701606,40.9419861
END:VEVENT
BEGIN:VEVENT
DTSTART;TZID=America/New_York:20140928T120000
DTEND;TZID=America/New_York:20140928T170000
DTSTAMP:20260421T215518
CREATED:20140830T171248Z
LAST-MODIFIED:20140830T171248Z
UID:3323-1411905600-1411923600@playpittsburgh.com
SUMMARY:Cheeseman Farm Pumpkin Festival
DESCRIPTION:2014 Pumpkin Festival Saturdays and Sundays September 27th through November 1st\, 2014 12:00 Noon to 5:00 PM Fall is a special time of year on the farm and every year we host a local pumpkin festival. It’s time for harvest and here you can pickup your local favorites\, Honey\, Apple Butter and of course Pumpkins. The pumpkin festival is a great way to spend a day with the family and enjoy the fall weather. Start a new family tradition take a hay ride to our pumpkin patch and pick out this years holiday decorations. wagon and tractor Hay Rides Petting Zoo Hay Jump Pumpkin Video (upon request) Concession Stand Holiday Items Pumpkins and Gourds Indiana Corn Corn Stalks Hay Bales The cost of the hayride is $4.00 per person. Children 2 years and under are free when accompanied by an adult. Prices do not include the cost of the pumpkin. All pumpkins picked in the patch will be brought back\, weighed and will be priced at 40 cents per pound. On this farm we grow fun!
URL:https://playpittsburgh.com/event/cheeseman-farm-pumpkin-festival-2/2014-09-28/
LOCATION:Cheeseman Farm\, 147 Kennedy Rd\, Portersville \, PA\, 16051\, United States
CATEGORIES:Animal Attractions,Festivals,Outdoor
GEO:40.9419861;-80.1701606
X-APPLE-STRUCTURED-LOCATION;VALUE=URI;X-ADDRESS=Cheeseman Farm 147 Kennedy Rd Portersville  PA 16051 United States;X-APPLE-RADIUS=500;X-TITLE=147 Kennedy Rd:geo:-80.1701606,40.9419861
END:VEVENT
BEGIN:VEVENT
DTSTART;TZID=America/New_York:20141002T100000
DTEND;TZID=America/New_York:20141002T220000
DTSTAMP:20260421T215518
CREATED:20140929T232806Z
LAST-MODIFIED:20140929T232806Z
UID:3908-1412244000-1412287200@playpittsburgh.com
SUMMARY:Night at the Zoo at Living Treasures Animal Park
DESCRIPTION:October is an exciting time at Living Treasures! “Night at the Zoo” event runs every Thursday\, Friday\, and Saturday in October from 7-11pm\, weather permitting. \nThis a non-scary family event where you are invited to take a walk in the dark through our torch-lit walkways to view the wild and interesting behaviors that many wild animals have at night. Hear the calls of many vocal animals\, and spot the glowing eyes of the big cats and alligators. \nThis is a rare opportunity to observe over 70 species of animals\, many of which are nocturnal. \nTHE DETAILS:\n• Children ages 3-11 accompanied by an adult will receive FREE ADMISSION from 7-11pm when they bring a jack-o-lantern.**\n• Jack-o-lanterns will be entered into a weekly contest\, where 1 winner from each age group will be chosen each week.\n• All guests are invited to come in costume!! (Please no scary costumes.)\n• Guests who get their photo taken at our photo center will automatically be entered into a weekly contest\, where 1 winner is chosen weekly.\n• Get your family’s Halloween photo holding a live snake or alligator while our trained staff controls the “business end” of these reptiles!\n• “Treat” bags will be given to every guest in costume before they leave the park.\n• Pumpkins and refreshments will be available.\n• Flashlights are available for purchase in the gift shop to help you spot our animals. \nNote: Living Treasures remains open daily from 10:00am-6:00pm in addition to the Night at the Zoo event. \n**For free admission\, we will accept carved pumpkins and decorated pumpkins. \n 
URL:https://playpittsburgh.com/event/night-at-the-zoo-at-living-treasures-animal-park/2014-10-02/
LOCATION:Living Treasures Animal Park (Moraine)\, 268 Fox Rd\, New Caslte\, 16101\, United States
CATEGORIES:Animal Attractions
GEO:40.968618;-80.214726
X-APPLE-STRUCTURED-LOCATION;VALUE=URI;X-ADDRESS=Living Treasures Animal Park (Moraine) 268 Fox Rd New Caslte 16101 United States;X-APPLE-RADIUS=500;X-TITLE=268 Fox Rd:geo:-80.214726,40.968618
END:VEVENT
BEGIN:VEVENT
DTSTART;TZID=America/New_York:20141003T100000
DTEND;TZID=America/New_York:20141003T220000
DTSTAMP:20260421T215518
CREATED:20140929T233427Z
LAST-MODIFIED:20140929T233427Z
UID:3914-1412330400-1412373600@playpittsburgh.com
SUMMARY:Night at the Zoo at Living Treasures Animal Park
DESCRIPTION:October is an exciting time at Living Treasures! “Night at the Zoo” event runs every Thursday\, Friday\, and Saturday in October from 7-11pm\, weather permitting. \nThis a non-scary family event where you are invited to take a walk in the dark through our torch-lit walkways to view the wild and interesting behaviors that many wild animals have at night. Hear the calls of many vocal animals\, and spot the glowing eyes of the big cats and alligators. \nThis is a rare opportunity to observe over 70 species of animals\, many of which are nocturnal. \nTHE DETAILS:\n• Children ages 3-11 accompanied by an adult will receive FREE ADMISSION from 7-11pm when they bring a jack-o-lantern.**\n• Jack-o-lanterns will be entered into a weekly contest\, where 1 winner from each age group will be chosen each week.\n• All guests are invited to come in costume!! (Please no scary costumes.)\n• Guests who get their photo taken at our photo center will automatically be entered into a weekly contest\, where 1 winner is chosen weekly.\n• Get your family’s Halloween photo holding a live snake or alligator while our trained staff controls the “business end” of these reptiles!\n• “Treat” bags will be given to every guest in costume before they leave the park.\n• Pumpkins and refreshments will be available.\n• Flashlights are available for purchase in the gift shop to help you spot our animals. \nNote: Living Treasures remains open daily from 10:00am-6:00pm in addition to the Night at the Zoo event. \n**For free admission\, we will accept carved pumpkins and decorated pumpkins. \n 
URL:https://playpittsburgh.com/event/night-at-the-zoo-at-living-treasures-animal-park-2/2014-10-03/
LOCATION:Living Treasures Animal Park (Moraine)\, 268 Fox Rd\, New Caslte\, 16101\, United States
CATEGORIES:Animal Attractions
GEO:40.968618;-80.214726
X-APPLE-STRUCTURED-LOCATION;VALUE=URI;X-ADDRESS=Living Treasures Animal Park (Moraine) 268 Fox Rd New Caslte 16101 United States;X-APPLE-RADIUS=500;X-TITLE=268 Fox Rd:geo:-80.214726,40.968618
END:VEVENT
BEGIN:VEVENT
DTSTART;TZID=America/New_York:20141004T100000
DTEND;TZID=America/New_York:20141004T110000
DTSTAMP:20260421T215518
CREATED:20140904T055320Z
LAST-MODIFIED:20140904T055419Z
UID:3658-1412416800-1412420400@playpittsburgh.com
SUMMARY:Bird Walk @ Beechwood Farms Nature Preserve
DESCRIPTION:Audubon Society of Western PA -Beechwood Farms Nature Reserve Birding Walk\nFree admission: 10am\nJoin Audubon for a naturalist-led walk on the trails at Beechwood Farms Nature Resrve. We’ll be on the lookout for birds migrating through the reserve. Appropriate for all ages. Reservation required. Space is limited\, so register early. Visit aswp.org to register or call (412) 963-6100
URL:https://playpittsburgh.com/event/bird-walk-beechwood-farms-nature-preserve/
LOCATION:Beechwood Farms Nature Reserve\, 614 Dorseyville Rd\, Fox Chapel\, PA\, 15238\, United States
CATEGORIES:Animal Attractions,Free,Outdoor
GEO:40.542569;-79.905324
X-APPLE-STRUCTURED-LOCATION;VALUE=URI;X-ADDRESS=Beechwood Farms Nature Reserve 614 Dorseyville Rd Fox Chapel PA 15238 United States;X-APPLE-RADIUS=500;X-TITLE=614 Dorseyville Rd:geo:-79.905324,40.542569
END:VEVENT
BEGIN:VEVENT
DTSTART;TZID=America/New_York:20141004T100000
DTEND;TZID=America/New_York:20141004T170000
DTSTAMP:20260421T215518
CREATED:20140929T233529Z
LAST-MODIFIED:20140929T233529Z
UID:3919-1412416800-1412442000@playpittsburgh.com
SUMMARY:Night at the Zoo at Living Treasures Animal Park
DESCRIPTION:October is an exciting time at Living Treasures! “Night at the Zoo” event runs every Thursday\, Friday\, and Saturday in October from 7-11pm\, weather permitting. \nThis a non-scary family event where you are invited to take a walk in the dark through our torch-lit walkways to view the wild and interesting behaviors that many wild animals have at night. Hear the calls of many vocal animals\, and spot the glowing eyes of the big cats and alligators. \nThis is a rare opportunity to observe over 70 species of animals\, many of which are nocturnal. \nTHE DETAILS:\n• Children ages 3-11 accompanied by an adult will receive FREE ADMISSION from 7-11pm when they bring a jack-o-lantern.**\n• Jack-o-lanterns will be entered into a weekly contest\, where 1 winner from each age group will be chosen each week.\n• All guests are invited to come in costume!! (Please no scary costumes.)\n• Guests who get their photo taken at our photo center will automatically be entered into a weekly contest\, where 1 winner is chosen weekly.\n• Get your family’s Halloween photo holding a live snake or alligator while our trained staff controls the “business end” of these reptiles!\n• “Treat” bags will be given to every guest in costume before they leave the park.\n• Pumpkins and refreshments will be available.\n• Flashlights are available for purchase in the gift shop to help you spot our animals. \nNote: Living Treasures remains open daily from 10:00am-6:00pm in addition to the Night at the Zoo event. \n**For free admission\, we will accept carved pumpkins and decorated pumpkins. \n 
URL:https://playpittsburgh.com/event/night-at-the-zoo-at-living-treasures-animal-park-3/2014-10-04/
LOCATION:Living Treasures Animal Park (Moraine)\, 268 Fox Rd\, New Caslte\, 16101\, United States
CATEGORIES:Animal Attractions
GEO:40.968618;-80.214726
X-APPLE-STRUCTURED-LOCATION;VALUE=URI;X-ADDRESS=Living Treasures Animal Park (Moraine) 268 Fox Rd New Caslte 16101 United States;X-APPLE-RADIUS=500;X-TITLE=268 Fox Rd:geo:-80.214726,40.968618
END:VEVENT
BEGIN:VEVENT
DTSTART;TZID=America/New_York:20141004T100000
DTEND;TZID=America/New_York:20141004T170000
DTSTAMP:20260421T215518
CREATED:20140904T054547Z
LAST-MODIFIED:20140904T054547Z
UID:3656-1412416800-1412442000@playpittsburgh.com
SUMMARY:FREE Admission @ National Aviary
DESCRIPTION:Discover more than 150 amazing bird species from around the world under one roof on Pittsburgh’s Northside. Get nose-to-beak with a colony of African penguins; admire free-flying birds in the tropical rainforest; meet Wookie\, our two-toed sloth; and explore our newest exhibit Canary’s Call\, home to six Malayan Flying Foxes.
URL:https://playpittsburgh.com/event/free-admission-national-aviary/
LOCATION:The National Aviary\, 700 Arch St\, Pittsburgh\, PA\, 15212\, United States
CATEGORIES:Animal Attractions,Free,Museums,RADical Days
GEO:40.4523434;-80.0088818
X-APPLE-STRUCTURED-LOCATION;VALUE=URI;X-ADDRESS=The National Aviary 700 Arch St Pittsburgh PA 15212 United States;X-APPLE-RADIUS=500;X-TITLE=700 Arch St:geo:-80.0088818,40.4523434
END:VEVENT
BEGIN:VEVENT
DTSTART;TZID=America/New_York:20141018T110000
DTEND;TZID=America/New_York:20141018T160000
DTSTAMP:20260421T215518
CREATED:20140930T030155Z
LAST-MODIFIED:20140930T030415Z
UID:3933-1413630000-1413648000@playpittsburgh.com
SUMMARY:Zoo Boo at Pittsburgh Zoo & PPG Aquarium
DESCRIPTION:Venture through the Zoo collecting candy\, enjoying the animals\, and participating in other fun activities along the way. Stop by your favorite haunts and make a deliciously sweet treat or get spooked at the haunted house. Conjure up a frightfully fun costume for the Halloween parade and costume contest at Water’s Edge. \nAll activities are free and included with general admission. Costumes not required. \nGo Green for Halloween by bringing your own trick-or-treat bag.
URL:https://playpittsburgh.com/event/zoo-boo-at-pittsburgh-zoo-ppg-aquarium/2014-10-18/
LOCATION:Pittsburgh Zoo & PPG Aquarium\, 7340 Butler St\, Pittsburgh\, PA\, 15206\, United States
CATEGORIES:Animal Attractions,Outdoor
GEO:40.4858637;-79.9209215
X-APPLE-STRUCTURED-LOCATION;VALUE=URI;X-ADDRESS=Pittsburgh Zoo & PPG Aquarium 7340 Butler St Pittsburgh PA 15206 United States;X-APPLE-RADIUS=500;X-TITLE=7340 Butler St:geo:-79.9209215,40.4858637
END:VEVENT
BEGIN:VEVENT
DTSTART;TZID=America/New_York:20141018T110000
DTEND;TZID=America/New_York:20141018T160000
DTSTAMP:20260421T215518
CREATED:20140930T030155Z
LAST-MODIFIED:20140930T030155Z
UID:6825-1413630000-1413648000@playpittsburgh.com
SUMMARY:Zoo Boo at Pittsburgh Zoo & PPG Aquarium
DESCRIPTION:Venture through the Zoo collecting candy\, enjoying the animals\, and participating in other fun activities along the way. Stop by your favorite haunts and make a deliciously sweet treat or get spooked at the haunted house. Conjure up a frightfully fun costume for the Halloween parade and costume contest at Water’s Edge. \nAll activities are free and included with general admission. Costumes not required. \nGo Green for Halloween by bringing your own trick-or-treat bag.
URL:https://playpittsburgh.com/event/zoo-boo-at-pittsburgh-zoo-ppg-aquarium-3/2014-10-18/
LOCATION:Pittsburgh Zoo & PPG Aquarium\, 7340 Butler St\, Pittsburgh\, PA\, 15206\, United States
CATEGORIES:Animal Attractions,Outdoor
GEO:40.4858637;-79.9209215
X-APPLE-STRUCTURED-LOCATION;VALUE=URI;X-ADDRESS=Pittsburgh Zoo & PPG Aquarium 7340 Butler St Pittsburgh PA 15206 United States;X-APPLE-RADIUS=500;X-TITLE=7340 Butler St:geo:-79.9209215,40.4858637
END:VEVENT
BEGIN:VEVENT
DTSTART;TZID=America/New_York:20141019T110000
DTEND;TZID=America/New_York:20141019T160000
DTSTAMP:20260421T215518
CREATED:20140930T030605Z
LAST-MODIFIED:20140930T030605Z
UID:3935-1413716400-1413734400@playpittsburgh.com
SUMMARY:Zoo Boo at Pittsburgh Zoo & PPG Aquarium
DESCRIPTION:Venture through the Zoo collecting candy\, enjoying the animals\, and participating in other fun activities along the way. Stop by your favorite haunts and make a deliciously sweet treat or get spooked at the haunted house. Conjure up a frightfully fun costume for the Halloween parade and costume contest at Water’s Edge. \nAll activities are free and included with general admission. Costumes not required. \nGo Green for Halloween by bringing your own trick-or-treat bag. \n  \n 
URL:https://playpittsburgh.com/event/zoo-boo-at-pittsburgh-zoo-ppg-aquarium-2/2014-10-19/
LOCATION:Pittsburgh Zoo & PPG Aquarium\, 7340 Butler St\, Pittsburgh\, PA\, 15206\, United States
CATEGORIES:Animal Attractions
GEO:40.4858637;-79.9209215
X-APPLE-STRUCTURED-LOCATION;VALUE=URI;X-ADDRESS=Pittsburgh Zoo & PPG Aquarium 7340 Butler St Pittsburgh PA 15206 United States;X-APPLE-RADIUS=500;X-TITLE=7340 Butler St:geo:-79.9209215,40.4858637
END:VEVENT
BEGIN:VEVENT
DTSTART;TZID=America/New_York:20141019T110000
DTEND;TZID=America/New_York:20141019T160000
DTSTAMP:20260421T215518
CREATED:20140930T030605Z
LAST-MODIFIED:20140930T030605Z
UID:6827-1413716400-1413734400@playpittsburgh.com
SUMMARY:Zoo Boo at Pittsburgh Zoo & PPG Aquarium
DESCRIPTION:Venture through the Zoo collecting candy\, enjoying the animals\, and participating in other fun activities along the way. Stop by your favorite haunts and make a deliciously sweet treat or get spooked at the haunted house. Conjure up a frightfully fun costume for the Halloween parade and costume contest at Water’s Edge. \nAll activities are free and included with general admission. Costumes not required. \nGo Green for Halloween by bringing your own trick-or-treat bag. \n  \n 
URL:https://playpittsburgh.com/event/zoo-boo-at-pittsburgh-zoo-ppg-aquarium-2-2/2014-10-19/
LOCATION:Pittsburgh Zoo & PPG Aquarium\, 7340 Butler St\, Pittsburgh\, PA\, 15206\, United States
CATEGORIES:Animal Attractions
GEO:40.4858637;-79.9209215
X-APPLE-STRUCTURED-LOCATION;VALUE=URI;X-ADDRESS=Pittsburgh Zoo & PPG Aquarium 7340 Butler St Pittsburgh PA 15206 United States;X-APPLE-RADIUS=500;X-TITLE=7340 Butler St:geo:-79.9209215,40.4858637
END:VEVENT
BEGIN:VEVENT
DTSTART;TZID=America/New_York:20141109T100000
DTEND;TZID=America/New_York:20141109T160000
DTSTAMP:20260421T215518
CREATED:20140904T180937Z
LAST-MODIFIED:20140904T180937Z
UID:6737-1415527200-1415548800@playpittsburgh.com
SUMMARY:FREE Admission @ Pittsburgh Zoo & PPG Aquarium
DESCRIPTION:Combine learning\, fun and exploration! Thousands of wild animals\, including sea lions\, leopards\, elephants\, polar bears\, giraffes and penguins\, representing every continent offer a stunning view of our world. Sponsored by PPG Industries. Performances by Pittsburgh CLO Mini-Stars (12:30pm) and Three Rivers Young Peoples Orchestra (3:30pm). \nPlease note: the Zoo entrance is next to major construction on Butler Street at the Highland Park Bridge – delays are possible if construction continues past October. Check as the date gets closer for updated information.
URL:https://playpittsburgh.com/event/free-admission-pittsburgh-zoo-ppg-aquarium-2/
LOCATION:Pittsburgh Zoo & PPG Aquarium\, 7340 Butler St\, Pittsburgh\, PA\, 15206\, United States
CATEGORIES:Animal Attractions,Free,RADical Days
ATTACH;FMTTYPE=image/jpeg:https://playpittsburgh.com/wp-content/uploads/2014/09/pittsburgh-zoo-4.jpg
GEO:40.4858637;-79.9209215
X-APPLE-STRUCTURED-LOCATION;VALUE=URI;X-ADDRESS=Pittsburgh Zoo & PPG Aquarium 7340 Butler St Pittsburgh PA 15206 United States;X-APPLE-RADIUS=500;X-TITLE=7340 Butler St:geo:-79.9209215,40.4858637
END:VEVENT
BEGIN:VEVENT
DTSTART;TZID=America/New_York:20141109T100000
DTEND;TZID=America/New_York:20141109T160000
DTSTAMP:20260421T215518
CREATED:20140904T180937Z
LAST-MODIFIED:20141006T044249Z
UID:3701-1415527200-1415548800@playpittsburgh.com
SUMMARY:FREE Admission @ Pittsburgh Zoo & PPG Aquarium
DESCRIPTION:Combine learning\, fun and exploration! Thousands of wild animals\, including sea lions\, leopards\, elephants\, polar bears\, giraffes and penguins\, representing every continent offer a stunning view of our world. Sponsored by PPG Industries. Performances by Pittsburgh CLO Mini-Stars (12:30pm) and Three Rivers Young Peoples Orchestra (3:30pm). \nPlease note: the Zoo entrance is next to major construction on Butler Street at the Highland Park Bridge – delays are possible if construction continues past October. Check as the date gets closer for updated information.
URL:https://playpittsburgh.com/event/free-admission-pittsburgh-zoo-ppg-aquarium/
LOCATION:Pittsburgh Zoo & PPG Aquarium\, 7340 Butler St\, Pittsburgh\, PA\, 15206\, United States
CATEGORIES:Animal Attractions,Free,RADical Days
GEO:40.4858637;-79.9209215
X-APPLE-STRUCTURED-LOCATION;VALUE=URI;X-ADDRESS=Pittsburgh Zoo & PPG Aquarium 7340 Butler St Pittsburgh PA 15206 United States;X-APPLE-RADIUS=500;X-TITLE=7340 Butler St:geo:-79.9209215,40.4858637
END:VEVENT
END:VCALENDAR