BEGIN:VCALENDAR
VERSION:2.0
PRODID:-//Play Pittsburgh - ECPv6.15.20//NONSGML v1.0//EN
CALSCALE:GREGORIAN
METHOD:PUBLISH
X-ORIGINAL-URL:https://playpittsburgh.com
X-WR-CALDESC:Events for Play Pittsburgh
REFRESH-INTERVAL;VALUE=DURATION:PT1H
X-Robots-Tag:noindex
X-PUBLISHED-TTL:PT1H
BEGIN:VTIMEZONE
TZID:America/New_York
BEGIN:DAYLIGHT
TZOFFSETFROM:-0500
TZOFFSETTO:-0400
TZNAME:EDT
DTSTART:20130310T070000
END:DAYLIGHT
BEGIN:STANDARD
TZOFFSETFROM:-0400
TZOFFSETTO:-0500
TZNAME:EST
DTSTART:20131103T060000
END:STANDARD
BEGIN:DAYLIGHT
TZOFFSETFROM:-0500
TZOFFSETTO:-0400
TZNAME:EDT
DTSTART:20140309T070000
END:DAYLIGHT
BEGIN:STANDARD
TZOFFSETFROM:-0400
TZOFFSETTO:-0500
TZNAME:EST
DTSTART:20141102T060000
END:STANDARD
BEGIN:DAYLIGHT
TZOFFSETFROM:-0500
TZOFFSETTO:-0400
TZNAME:EDT
DTSTART:20150308T070000
END:DAYLIGHT
BEGIN:STANDARD
TZOFFSETFROM:-0400
TZOFFSETTO:-0500
TZNAME:EST
DTSTART:20151101T060000
END:STANDARD
END:VTIMEZONE
BEGIN:VEVENT
DTSTART;VALUE=DATE:20141206
DTEND;VALUE=DATE:20141207
DTSTAMP:20260422T050113
CREATED:20141114T022059Z
LAST-MODIFIED:20141114T022059Z
UID:4457-1417824000-1417910399@playpittsburgh.com
SUMMARY:Yuletide in Sewickley
DESCRIPTION:Catch a free carriage ride and enjoy live performances on Saturday and Sunday afternoons! Enjoy the many activities that are planned throughout the 2014 holiday season. \nSaturday November 29th\n10:00 am – 5:00 pm Small Business Saturday\nEntertainment by: \nFriday\, December 5th\n5:00 pm – 9:00 pm Light Up Night\nEntertainment by: See Light Up Night page for details \nSaturday\, December 6th\n10:30 a.m. Santa Parade\n11:00 a.m. – 1:00 p.m. Santa at Wolcott Park\n11:00 a.m. – 1:00 p.m. Carriage Rides\nEntertainment: \nSunday\, December 7th\n11:00 am – 1:00 pm Santa at Wolcott Park\n11:00 am – 1:00 pm Carriage Rides\nEntertainment: \nSaturday\, December 13th\n11:00 a.m. – 1:00 p.m. Santa at Wolcott Park\n11:00 a.m. – 1:00 p.m. Carriage Rides\nEntertainment: \nSunday\, December 14th\n11:00 am – 1:00 pm Santa at Wolcott Park\n11:00 am – 1:00 pm Carriage Rides\nEntertainment: \nSaturday\, December 20th\n11:00 am – 1:00 pm Santa at Wolcott Park\n11:00 am – 1:00 pm Carriage Rides\nEntertainment: \nSunday\, December 21st\n1:00 pm – 3:00 pm Carriage Rides\nEntertainment:
URL:https://playpittsburgh.com/event/yuletide-in-sewickley/2014-12-06/
LOCATION:Sewickley\, PA\, United States
ATTACH;FMTTYPE=:
GEO:41.2033216;-77.1945247
END:VEVENT
END:VCALENDAR