BEGIN:VCALENDAR
VERSION:2.0
PRODID:-//Play Pittsburgh - ECPv6.15.20//NONSGML v1.0//EN
CALSCALE:GREGORIAN
METHOD:PUBLISH
X-WR-CALNAME:Play Pittsburgh
X-ORIGINAL-URL:https://playpittsburgh.com
X-WR-CALDESC:Events for Play Pittsburgh
REFRESH-INTERVAL;VALUE=DURATION:PT1H
X-Robots-Tag:noindex
X-PUBLISHED-TTL:PT1H
BEGIN:VTIMEZONE
TZID:America/New_York
BEGIN:DAYLIGHT
TZOFFSETFROM:-0500
TZOFFSETTO:-0400
TZNAME:EDT
DTSTART:20150308T070000
END:DAYLIGHT
BEGIN:STANDARD
TZOFFSETFROM:-0400
TZOFFSETTO:-0500
TZNAME:EST
DTSTART:20151101T060000
END:STANDARD
BEGIN:DAYLIGHT
TZOFFSETFROM:-0500
TZOFFSETTO:-0400
TZNAME:EDT
DTSTART:20160313T070000
END:DAYLIGHT
BEGIN:STANDARD
TZOFFSETFROM:-0400
TZOFFSETTO:-0500
TZNAME:EST
DTSTART:20161106T060000
END:STANDARD
BEGIN:DAYLIGHT
TZOFFSETFROM:-0500
TZOFFSETTO:-0400
TZNAME:EDT
DTSTART:20170312T070000
END:DAYLIGHT
BEGIN:STANDARD
TZOFFSETFROM:-0400
TZOFFSETTO:-0500
TZNAME:EST
DTSTART:20171105T060000
END:STANDARD
END:VTIMEZONE
BEGIN:VEVENT
DTSTART;TZID=America/New_York:20160904T100000
DTEND;TZID=America/New_York:20160904T110000
DTSTAMP:20260421T175950
CREATED:20160710T130333Z
LAST-MODIFIED:20160710T130333Z
UID:9682-1472983200-1472986800@playpittsburgh.com
SUMMARY:Yoga in Market Square
DESCRIPTION:Yoga in the Square offers FREE one-hour yoga practices led by some of the city’s best yoga instructors in the heart of Downtown. \nYoga in the Square 2016 will be every Sunday at 10:00 a.m. from May 29 – September 4.
URL:https://playpittsburgh.com/event/yoga-in-the-square/2016-09-04/
LOCATION:Market Square\, 23 Market Place\, Forbes Avenue and Market Place\, Pittsburgh\, PA\, 15222\, United States
GEO:40.4400253;-80.0030034
X-APPLE-STRUCTURED-LOCATION;VALUE=URI;X-ADDRESS=Market Square 23 Market Place Forbes Avenue and Market Place Pittsburgh PA 15222 United States;X-APPLE-RADIUS=500;X-TITLE=23 Market Place\, Forbes Avenue and Market Place:geo:-80.0030034,40.4400253
END:VEVENT
BEGIN:VEVENT
DTSTART;TZID=America/New_York:20160828T100000
DTEND;TZID=America/New_York:20160828T110000
DTSTAMP:20260421T175950
CREATED:20160710T130333Z
LAST-MODIFIED:20160710T130333Z
UID:9681-1472378400-1472382000@playpittsburgh.com
SUMMARY:Yoga in Market Square
DESCRIPTION:Yoga in the Square offers FREE one-hour yoga practices led by some of the city’s best yoga instructors in the heart of Downtown. \nYoga in the Square 2016 will be every Sunday at 10:00 a.m. from May 29 – September 4.
URL:https://playpittsburgh.com/event/yoga-in-the-square/2016-08-28/
LOCATION:Market Square\, 23 Market Place\, Forbes Avenue and Market Place\, Pittsburgh\, PA\, 15222\, United States
GEO:40.4400253;-80.0030034
X-APPLE-STRUCTURED-LOCATION;VALUE=URI;X-ADDRESS=Market Square 23 Market Place Forbes Avenue and Market Place Pittsburgh PA 15222 United States;X-APPLE-RADIUS=500;X-TITLE=23 Market Place\, Forbes Avenue and Market Place:geo:-80.0030034,40.4400253
END:VEVENT
BEGIN:VEVENT
DTSTART;TZID=America/New_York:20160821T100000
DTEND;TZID=America/New_York:20160821T110000
DTSTAMP:20260421T175950
CREATED:20160710T130333Z
LAST-MODIFIED:20160710T130333Z
UID:9680-1471773600-1471777200@playpittsburgh.com
SUMMARY:Yoga in Market Square
DESCRIPTION:Yoga in the Square offers FREE one-hour yoga practices led by some of the city’s best yoga instructors in the heart of Downtown. \nYoga in the Square 2016 will be every Sunday at 10:00 a.m. from May 29 – September 4.
URL:https://playpittsburgh.com/event/yoga-in-the-square/2016-08-21/
LOCATION:Market Square\, 23 Market Place\, Forbes Avenue and Market Place\, Pittsburgh\, PA\, 15222\, United States
GEO:40.4400253;-80.0030034
X-APPLE-STRUCTURED-LOCATION;VALUE=URI;X-ADDRESS=Market Square 23 Market Place Forbes Avenue and Market Place Pittsburgh PA 15222 United States;X-APPLE-RADIUS=500;X-TITLE=23 Market Place\, Forbes Avenue and Market Place:geo:-80.0030034,40.4400253
END:VEVENT
BEGIN:VEVENT
DTSTART;TZID=America/New_York:20160814T100000
DTEND;TZID=America/New_York:20160814T110000
DTSTAMP:20260421T175950
CREATED:20160710T130333Z
LAST-MODIFIED:20160710T130333Z
UID:9679-1471168800-1471172400@playpittsburgh.com
SUMMARY:Yoga in Market Square
DESCRIPTION:Yoga in the Square offers FREE one-hour yoga practices led by some of the city’s best yoga instructors in the heart of Downtown. \nYoga in the Square 2016 will be every Sunday at 10:00 a.m. from May 29 – September 4.
URL:https://playpittsburgh.com/event/yoga-in-the-square/2016-08-14/
LOCATION:Market Square\, 23 Market Place\, Forbes Avenue and Market Place\, Pittsburgh\, PA\, 15222\, United States
GEO:40.4400253;-80.0030034
X-APPLE-STRUCTURED-LOCATION;VALUE=URI;X-ADDRESS=Market Square 23 Market Place Forbes Avenue and Market Place Pittsburgh PA 15222 United States;X-APPLE-RADIUS=500;X-TITLE=23 Market Place\, Forbes Avenue and Market Place:geo:-80.0030034,40.4400253
END:VEVENT
BEGIN:VEVENT
DTSTART;TZID=America/New_York:20160807T100000
DTEND;TZID=America/New_York:20160807T110000
DTSTAMP:20260421T175950
CREATED:20160710T130333Z
LAST-MODIFIED:20160710T130333Z
UID:9678-1470564000-1470567600@playpittsburgh.com
SUMMARY:Yoga in Market Square
DESCRIPTION:Yoga in the Square offers FREE one-hour yoga practices led by some of the city’s best yoga instructors in the heart of Downtown. \nYoga in the Square 2016 will be every Sunday at 10:00 a.m. from May 29 – September 4.
URL:https://playpittsburgh.com/event/yoga-in-the-square/2016-08-07/
LOCATION:Market Square\, 23 Market Place\, Forbes Avenue and Market Place\, Pittsburgh\, PA\, 15222\, United States
GEO:40.4400253;-80.0030034
X-APPLE-STRUCTURED-LOCATION;VALUE=URI;X-ADDRESS=Market Square 23 Market Place Forbes Avenue and Market Place Pittsburgh PA 15222 United States;X-APPLE-RADIUS=500;X-TITLE=23 Market Place\, Forbes Avenue and Market Place:geo:-80.0030034,40.4400253
END:VEVENT
BEGIN:VEVENT
DTSTART;TZID=America/New_York:20160731T100000
DTEND;TZID=America/New_York:20160731T110000
DTSTAMP:20260421T175950
CREATED:20160710T130333Z
LAST-MODIFIED:20160710T130333Z
UID:9677-1469959200-1469962800@playpittsburgh.com
SUMMARY:Yoga in Market Square
DESCRIPTION:Yoga in the Square offers FREE one-hour yoga practices led by some of the city’s best yoga instructors in the heart of Downtown. \nYoga in the Square 2016 will be every Sunday at 10:00 a.m. from May 29 – September 4.
URL:https://playpittsburgh.com/event/yoga-in-the-square/2016-07-31/
LOCATION:Market Square\, 23 Market Place\, Forbes Avenue and Market Place\, Pittsburgh\, PA\, 15222\, United States
GEO:40.4400253;-80.0030034
X-APPLE-STRUCTURED-LOCATION;VALUE=URI;X-ADDRESS=Market Square 23 Market Place Forbes Avenue and Market Place Pittsburgh PA 15222 United States;X-APPLE-RADIUS=500;X-TITLE=23 Market Place\, Forbes Avenue and Market Place:geo:-80.0030034,40.4400253
END:VEVENT
BEGIN:VEVENT
DTSTART;TZID=America/New_York:20160724T100000
DTEND;TZID=America/New_York:20160724T110000
DTSTAMP:20260421T175950
CREATED:20160710T130333Z
LAST-MODIFIED:20160710T130333Z
UID:9676-1469354400-1469358000@playpittsburgh.com
SUMMARY:Yoga in Market Square
DESCRIPTION:Yoga in the Square offers FREE one-hour yoga practices led by some of the city’s best yoga instructors in the heart of Downtown. \nYoga in the Square 2016 will be every Sunday at 10:00 a.m. from May 29 – September 4.
URL:https://playpittsburgh.com/event/yoga-in-the-square/2016-07-24/
LOCATION:Market Square\, 23 Market Place\, Forbes Avenue and Market Place\, Pittsburgh\, PA\, 15222\, United States
GEO:40.4400253;-80.0030034
X-APPLE-STRUCTURED-LOCATION;VALUE=URI;X-ADDRESS=Market Square 23 Market Place Forbes Avenue and Market Place Pittsburgh PA 15222 United States;X-APPLE-RADIUS=500;X-TITLE=23 Market Place\, Forbes Avenue and Market Place:geo:-80.0030034,40.4400253
END:VEVENT
BEGIN:VEVENT
DTSTART;TZID=America/New_York:20160717T100000
DTEND;TZID=America/New_York:20160717T110000
DTSTAMP:20260421T175950
CREATED:20160710T130333Z
LAST-MODIFIED:20160710T130333Z
UID:9675-1468749600-1468753200@playpittsburgh.com
SUMMARY:Yoga in Market Square
DESCRIPTION:Yoga in the Square offers FREE one-hour yoga practices led by some of the city’s best yoga instructors in the heart of Downtown. \nYoga in the Square 2016 will be every Sunday at 10:00 a.m. from May 29 – September 4.
URL:https://playpittsburgh.com/event/yoga-in-the-square/2016-07-17/
LOCATION:Market Square\, 23 Market Place\, Forbes Avenue and Market Place\, Pittsburgh\, PA\, 15222\, United States
GEO:40.4400253;-80.0030034
X-APPLE-STRUCTURED-LOCATION;VALUE=URI;X-ADDRESS=Market Square 23 Market Place Forbes Avenue and Market Place Pittsburgh PA 15222 United States;X-APPLE-RADIUS=500;X-TITLE=23 Market Place\, Forbes Avenue and Market Place:geo:-80.0030034,40.4400253
END:VEVENT
BEGIN:VEVENT
DTSTART;TZID=America/New_York:20160710T100000
DTEND;TZID=America/New_York:20160710T110000
DTSTAMP:20260421T175950
CREATED:20160710T130333Z
LAST-MODIFIED:20160710T130333Z
UID:9674-1468144800-1468148400@playpittsburgh.com
SUMMARY:Yoga in Market Square
DESCRIPTION:Yoga in the Square offers FREE one-hour yoga practices led by some of the city’s best yoga instructors in the heart of Downtown. \nYoga in the Square 2016 will be every Sunday at 10:00 a.m. from May 29 – September 4.
URL:https://playpittsburgh.com/event/yoga-in-the-square/2016-07-10/
LOCATION:Market Square\, 23 Market Place\, Forbes Avenue and Market Place\, Pittsburgh\, PA\, 15222\, United States
GEO:40.4400253;-80.0030034
X-APPLE-STRUCTURED-LOCATION;VALUE=URI;X-ADDRESS=Market Square 23 Market Place Forbes Avenue and Market Place Pittsburgh PA 15222 United States;X-APPLE-RADIUS=500;X-TITLE=23 Market Place\, Forbes Avenue and Market Place:geo:-80.0030034,40.4400253
END:VEVENT
END:VCALENDAR