BEGIN:VCALENDAR
VERSION:2.0
PRODID:-//Play Pittsburgh - ECPv6.15.20//NONSGML v1.0//EN
CALSCALE:GREGORIAN
METHOD:PUBLISH
X-ORIGINAL-URL:https://playpittsburgh.com
X-WR-CALDESC:Events for Play Pittsburgh
REFRESH-INTERVAL;VALUE=DURATION:PT1H
X-Robots-Tag:noindex
X-PUBLISHED-TTL:PT1H
BEGIN:VTIMEZONE
TZID:America/New_York
BEGIN:DAYLIGHT
TZOFFSETFROM:-0500
TZOFFSETTO:-0400
TZNAME:EDT
DTSTART:20130310T070000
END:DAYLIGHT
BEGIN:STANDARD
TZOFFSETFROM:-0400
TZOFFSETTO:-0500
TZNAME:EST
DTSTART:20131103T060000
END:STANDARD
BEGIN:DAYLIGHT
TZOFFSETFROM:-0500
TZOFFSETTO:-0400
TZNAME:EDT
DTSTART:20140309T070000
END:DAYLIGHT
BEGIN:STANDARD
TZOFFSETFROM:-0400
TZOFFSETTO:-0500
TZNAME:EST
DTSTART:20141102T060000
END:STANDARD
BEGIN:DAYLIGHT
TZOFFSETFROM:-0500
TZOFFSETTO:-0400
TZNAME:EDT
DTSTART:20150308T070000
END:DAYLIGHT
BEGIN:STANDARD
TZOFFSETFROM:-0400
TZOFFSETTO:-0500
TZNAME:EST
DTSTART:20151101T060000
END:STANDARD
END:VTIMEZONE
BEGIN:VEVENT
DTSTART;VALUE=DATE:20141231
DTEND;VALUE=DATE:20150101
DTSTAMP:20260422T024035
CREATED:20141205T080737Z
LAST-MODIFIED:20141205T080737Z
UID:8229-1419984000-1420070399@playpittsburgh.com
SUMMARY:Winter Camps at Carnegie Museum of Natural History
DESCRIPTION:Keep the kids busy while on break at the Carnegie Museum of Natural History! \nDecember 30\, December 31; 9 a.m.–3 p.m. \nRegistration required by December 23\nContact Program Registration at 412.622.3288 or email ProgramRegistration@carnegiemuseums.org.\nPayment is due at time of registration. Post-camp child care is available from 3–6 p.m. for an additional $10 per child\, per day. \nExperience the fun and excitement of summer camp in December! Investigate science and culture over your winter break at Carnegie Museum of Natural History. Each day of camp features new experiments\, exhibition explorations\, and creative activities for ages 6–13. Sign up for one or both days. \nMonday\, December 30\n Peculiar Paleontology (Ages 6–7)\nInvestigate prehistoric life to the extreme\, from a gigantic mosasaur to tiny mammals\nthat shared the dinosaurs’ world! Investigate fossils\, feathers\, and more as you get\nan inside look at Mesozoic paleontology. \nEgyptian Exploration (Ages 8–10) \nLearn about the fascinating customs\, crafts\, and culture of ancient Egyptians by\nexploring Walton Hall of Ancient Egypt. Try your hand at hieroglyphics\, pottery\, model\nmummification\, and more. \nTuesday\, December 31\n Life on the Nile (Ages 6–7)\nJourney up the Nile to discover awesome ancient Egypt. Learn about the role of\nanimals in Egyptian life and lore. Explore the secret life of beetles by observing live\ninsects and seeing how they measure up to the mystical ancient Egyptian scarab. \nRockhounds (Ages 8–10) \nTake your interest in rocks to the next level with this in-depth geology investigation.\nExamine rocks\, gems\, minerals\, and fossils in the lab and in our exhibition halls.\nConduct experiments with model magma and lava to explore how geologic events\nchange the face of the earth. \nBringing Paleontology to Life (Ages 11–13)\nLearn about the science and art that go into recreating a view of prehistoric life\nbased on fossils from the field. Explore the collections to investigate ideas about\ndinosaur skin\, muscles\, and movement.
URL:https://playpittsburgh.com/event/winter-camps-at-carnegie-museum-of-natural-history/2014-12-31/
LOCATION:Carnegie Museum of Natural History\, 4400 Forbes Avenue\, Pittsburgh\, 15213\, United States
GEO:40.4435041;-79.9495881
X-APPLE-STRUCTURED-LOCATION;VALUE=URI;X-ADDRESS=Carnegie Museum of Natural History 4400 Forbes Avenue Pittsburgh 15213 United States;X-APPLE-RADIUS=500;X-TITLE=4400 Forbes Avenue:geo:-79.9495881,40.4435041
END:VEVENT
BEGIN:VEVENT
DTSTART;VALUE=DATE:20141230
DTEND;VALUE=DATE:20141231
DTSTAMP:20260422T024035
CREATED:20141205T080737Z
LAST-MODIFIED:20141205T080737Z
UID:5212-1419897600-1419983999@playpittsburgh.com
SUMMARY:Winter Camps at Carnegie Museum of Natural History
DESCRIPTION:Keep the kids busy while on break at the Carnegie Museum of Natural History! \nDecember 30\, December 31; 9 a.m.–3 p.m. \nRegistration required by December 23\nContact Program Registration at 412.622.3288 or email ProgramRegistration@carnegiemuseums.org.\nPayment is due at time of registration. Post-camp child care is available from 3–6 p.m. for an additional $10 per child\, per day. \nExperience the fun and excitement of summer camp in December! Investigate science and culture over your winter break at Carnegie Museum of Natural History. Each day of camp features new experiments\, exhibition explorations\, and creative activities for ages 6–13. Sign up for one or both days. \nMonday\, December 30\n Peculiar Paleontology (Ages 6–7)\nInvestigate prehistoric life to the extreme\, from a gigantic mosasaur to tiny mammals\nthat shared the dinosaurs’ world! Investigate fossils\, feathers\, and more as you get\nan inside look at Mesozoic paleontology. \nEgyptian Exploration (Ages 8–10) \nLearn about the fascinating customs\, crafts\, and culture of ancient Egyptians by\nexploring Walton Hall of Ancient Egypt. Try your hand at hieroglyphics\, pottery\, model\nmummification\, and more. \nTuesday\, December 31\n Life on the Nile (Ages 6–7)\nJourney up the Nile to discover awesome ancient Egypt. Learn about the role of\nanimals in Egyptian life and lore. Explore the secret life of beetles by observing live\ninsects and seeing how they measure up to the mystical ancient Egyptian scarab. \nRockhounds (Ages 8–10) \nTake your interest in rocks to the next level with this in-depth geology investigation.\nExamine rocks\, gems\, minerals\, and fossils in the lab and in our exhibition halls.\nConduct experiments with model magma and lava to explore how geologic events\nchange the face of the earth. \nBringing Paleontology to Life (Ages 11–13)\nLearn about the science and art that go into recreating a view of prehistoric life\nbased on fossils from the field. Explore the collections to investigate ideas about\ndinosaur skin\, muscles\, and movement.
URL:https://playpittsburgh.com/event/winter-camps-at-carnegie-museum-of-natural-history/2014-12-30/
LOCATION:Carnegie Museum of Natural History\, 4400 Forbes Avenue\, Pittsburgh\, 15213\, United States
GEO:40.4435041;-79.9495881
X-APPLE-STRUCTURED-LOCATION;VALUE=URI;X-ADDRESS=Carnegie Museum of Natural History 4400 Forbes Avenue Pittsburgh 15213 United States;X-APPLE-RADIUS=500;X-TITLE=4400 Forbes Avenue:geo:-79.9495881,40.4435041
END:VEVENT
END:VCALENDAR