BEGIN:VCALENDAR
VERSION:2.0
PRODID:-//Play Pittsburgh - ECPv6.15.20//NONSGML v1.0//EN
CALSCALE:GREGORIAN
METHOD:PUBLISH
X-WR-CALNAME:Play Pittsburgh
X-ORIGINAL-URL:https://playpittsburgh.com
X-WR-CALDESC:Events for Play Pittsburgh
REFRESH-INTERVAL;VALUE=DURATION:PT1H
X-Robots-Tag:noindex
X-PUBLISHED-TTL:PT1H
BEGIN:VTIMEZONE
TZID:America/New_York
BEGIN:DAYLIGHT
TZOFFSETFROM:-0500
TZOFFSETTO:-0400
TZNAME:EDT
DTSTART:20130310T070000
END:DAYLIGHT
BEGIN:STANDARD
TZOFFSETFROM:-0400
TZOFFSETTO:-0500
TZNAME:EST
DTSTART:20131103T060000
END:STANDARD
BEGIN:DAYLIGHT
TZOFFSETFROM:-0500
TZOFFSETTO:-0400
TZNAME:EDT
DTSTART:20140309T070000
END:DAYLIGHT
BEGIN:STANDARD
TZOFFSETFROM:-0400
TZOFFSETTO:-0500
TZNAME:EST
DTSTART:20141102T060000
END:STANDARD
BEGIN:DAYLIGHT
TZOFFSETFROM:-0500
TZOFFSETTO:-0400
TZNAME:EDT
DTSTART:20150308T070000
END:DAYLIGHT
BEGIN:STANDARD
TZOFFSETFROM:-0400
TZOFFSETTO:-0500
TZNAME:EST
DTSTART:20151101T060000
END:STANDARD
END:VTIMEZONE
BEGIN:VEVENT
DTSTART;TZID=America/New_York:20140703T110000
DTEND;TZID=America/New_York:20140703T200000
DTSTAMP:20260421T201044
CREATED:20140523T160350Z
LAST-MODIFIED:20140523T160350Z
UID:1590-1404385200-1404417600@playpittsburgh.com
SUMMARY:Westmoreland Arts & Heritage Festival
DESCRIPTION:The acclaimed Westmoreland Arts & Heritage Festival offers the best in visual and live performing arts\, traditional and fine crafts\, cultural heritage activities\, humanities\, and exciting ethnic foods\, providing something for everyone’s tastes and keeping people coming back year after year. \nAn annual summer celebration\, the free Festival takes place at Twin Lakes Park in Greensburg\, July 3 through July 6\, 2014. Times are from 11am-8pm each day. Annual attendance is over 150\,000.
URL:https://playpittsburgh.com/event/westmoreland-arts-heritage-festival-2/2014-07-03/
LOCATION:Westmoreland Arts & Heritage Festival\, 252 Twin Lakes Road\, Latrobe\, PA\, 15650\, United States
CATEGORIES:Festivals,Free,Outdoor
GEO:40.323017;-79.468632
X-APPLE-STRUCTURED-LOCATION;VALUE=URI;X-ADDRESS=Westmoreland Arts & Heritage Festival 252 Twin Lakes Road Latrobe PA 15650 United States;X-APPLE-RADIUS=500;X-TITLE=252 Twin Lakes Road:geo:-79.468632,40.323017
END:VEVENT
END:VCALENDAR