BEGIN:VCALENDAR
VERSION:2.0
PRODID:-//Play Pittsburgh - ECPv6.15.20//NONSGML v1.0//EN
CALSCALE:GREGORIAN
METHOD:PUBLISH
X-WR-CALNAME:Play Pittsburgh
X-ORIGINAL-URL:https://playpittsburgh.com
X-WR-CALDESC:Events for Play Pittsburgh
REFRESH-INTERVAL;VALUE=DURATION:PT1H
X-Robots-Tag:noindex
X-PUBLISHED-TTL:PT1H
BEGIN:VTIMEZONE
TZID:America/New_York
BEGIN:DAYLIGHT
TZOFFSETFROM:-0500
TZOFFSETTO:-0400
TZNAME:EDT
DTSTART:20130310T070000
END:DAYLIGHT
BEGIN:STANDARD
TZOFFSETFROM:-0400
TZOFFSETTO:-0500
TZNAME:EST
DTSTART:20131103T060000
END:STANDARD
BEGIN:DAYLIGHT
TZOFFSETFROM:-0500
TZOFFSETTO:-0400
TZNAME:EDT
DTSTART:20140309T070000
END:DAYLIGHT
BEGIN:STANDARD
TZOFFSETFROM:-0400
TZOFFSETTO:-0500
TZNAME:EST
DTSTART:20141102T060000
END:STANDARD
BEGIN:DAYLIGHT
TZOFFSETFROM:-0500
TZOFFSETTO:-0400
TZNAME:EDT
DTSTART:20150308T070000
END:DAYLIGHT
BEGIN:STANDARD
TZOFFSETFROM:-0400
TZOFFSETTO:-0500
TZNAME:EST
DTSTART:20151101T060000
END:STANDARD
BEGIN:DAYLIGHT
TZOFFSETFROM:-0500
TZOFFSETTO:-0400
TZNAME:EDT
DTSTART:20160313T070000
END:DAYLIGHT
BEGIN:STANDARD
TZOFFSETFROM:-0400
TZOFFSETTO:-0500
TZNAME:EST
DTSTART:20161106T060000
END:STANDARD
END:VTIMEZONE
BEGIN:VEVENT
DTSTART;VALUE=DATE:20150111
DTEND;VALUE=DATE:20150112
DTSTAMP:20260422T050232
CREATED:20141123T033659Z
LAST-MODIFIED:20141123T033659Z
UID:7950-1420934400-1421020799@playpittsburgh.com
SUMMARY:Western Pennsylvania Model Railroad Museum
DESCRIPTION:The Western Pennsylvania Model Railroad Museum is a volunteer non-profit organization dedicated to the preservation of history of railroading in the Pittsburgh area. This is done in part by creating a 40′ X 100′ HO scale\, prototypical and historically accurate model railroad. A project that has been on going since 1988. \nMeasuring in at 4\,000 square feet\, the display is one of the largest in the nation. It depicts the tracks between Pittsburgh\, PA to Cumberland Maryland set in the summer of 1952\, and portrays numerous landmarks such as the P&LE train station (Market Square in Pittsburgh)\, J&L Steel Mill\, Cox’s Department Store (McKeesport\, PA)\, Falling Water\, Ohiopyle PA\, Helmstetter’s Curve and the Cumberland Station (Cumberland\, MD). \nThe Holiday Train Show runs from November 8th through January 11th. They’re open Fridays\, Saturdays and Sundays. \nAdmission: $6 for adults\, $4 for children under 12 \n\n\n\nSAT. NOV. 08\n11:00 am\n05:00 pm\n\n\nSUN. NOV. 09\n11:00 am\n05:00 pm\n\n\nFRI. NOV. 14\n06:00 pm\n09:00 pm\n\n\nSAT. NOV. 15\n11:00 am\n05:00 pm\n\n\nSUN. NOV. 16\n11:00 am\n05:00 pm\n\n\nFRI. NOV. 21\n6:00PM\n09:00 pm\n\n\nSAT. NOV. 22\n11:00 am\n05:00 pm\n\n\nSUN. NOV. 23\n11:00 am\n05:00 pm\n\n\nFRI. NOV. 28\n11:00AM\n09:00 pm\n\n\nSAT. NOV.29\n11:00 am\n05:00 pm\n\n\nSUN. NOV.30\n11:00 am\n05:00 pm\n\n\nFRI. DEC. 05\n06:00 pm\n09:00 pm\n\n\nSAT. DEC. 06\n11:00 am\n05:00 pm\n\n\nSUN. DEC. 07\n11:00 am\n05:00 pm\n\n\nFRI. DEC. 12\n06:00 pm\n09:00 pm\n\n\nSAT. DEC. 13\n11:00 am\n05:00 pm\n\n\nSUN. DEC. 14\n11:00 am\n05:00 pm\n\n\nFRI. DEC. 19\n06:00 pm\n09:00 pm\n\n\nSAT. DEC. 20\n11:00 am\n05:00 pm\n\n\nSUN. DEC. 21\n11:00 am\n05:00 pm\n\n\nWED. DEC. 24\nCLOSED\n\n\nTHURS. DEC. 25\nCLOSED\n\n\nFRI. DEC. 26\n11:00 am\n09:00 pm\n\n\nSAT. DEC. 27\n11:00 am\n05:00 pm\n\n\nSUN. DEC. 28\n11:00 am\n05:00 pm\n\n\nMON. DEC. 29\n11:00 am\n05:00 pm\n\n\nTUES. DEC. 30\n11:00 am\n05:00 pm\n\n\nWED. DEC. 31\n11:00 am\n05:00 pm\n\n\nTHURS. JAN. 01\nCLOSED\n\n\nFRI. JAN. 02\n11:00 am\n09:00 pm\n\n\nSAT. JAN. 03\n11:00 am\n05:00 pm\n\n\nSUN. JAN. 04\n11:00 am\n05:00 pm\n\n\nFRI. JAN. 09\n06:00 pm\n09:00 pm\n\n\nSAT. JAN. 10\n11:00 am\n05:00 pm\n\n\nSUN. JAN. 11\n11:00 am\n05:00 pm\n\n\n\n 
URL:https://playpittsburgh.com/event/western-pennsylvania-model-railroad-museum/2015-01-11/
LOCATION:Western PA Model Railroad Museum\, 5507 Lakeside Dr\, Gibsonia\, PA\, 15044\, United States
ATTACH;FMTTYPE=:
GEO:40.631295;-79.9728
X-APPLE-STRUCTURED-LOCATION;VALUE=URI;X-ADDRESS=Western PA Model Railroad Museum 5507 Lakeside Dr Gibsonia PA 15044 United States;X-APPLE-RADIUS=500;X-TITLE=5507 Lakeside Dr:geo:-79.9728,40.631295
END:VEVENT
BEGIN:VEVENT
DTSTART;VALUE=DATE:20150104
DTEND;VALUE=DATE:20150105
DTSTAMP:20260422T050232
CREATED:20141123T033659Z
LAST-MODIFIED:20141123T033659Z
UID:7949-1420329600-1420415999@playpittsburgh.com
SUMMARY:Western Pennsylvania Model Railroad Museum
DESCRIPTION:The Western Pennsylvania Model Railroad Museum is a volunteer non-profit organization dedicated to the preservation of history of railroading in the Pittsburgh area. This is done in part by creating a 40′ X 100′ HO scale\, prototypical and historically accurate model railroad. A project that has been on going since 1988. \nMeasuring in at 4\,000 square feet\, the display is one of the largest in the nation. It depicts the tracks between Pittsburgh\, PA to Cumberland Maryland set in the summer of 1952\, and portrays numerous landmarks such as the P&LE train station (Market Square in Pittsburgh)\, J&L Steel Mill\, Cox’s Department Store (McKeesport\, PA)\, Falling Water\, Ohiopyle PA\, Helmstetter’s Curve and the Cumberland Station (Cumberland\, MD). \nThe Holiday Train Show runs from November 8th through January 11th. They’re open Fridays\, Saturdays and Sundays. \nAdmission: $6 for adults\, $4 for children under 12 \n\n\n\nSAT. NOV. 08\n11:00 am\n05:00 pm\n\n\nSUN. NOV. 09\n11:00 am\n05:00 pm\n\n\nFRI. NOV. 14\n06:00 pm\n09:00 pm\n\n\nSAT. NOV. 15\n11:00 am\n05:00 pm\n\n\nSUN. NOV. 16\n11:00 am\n05:00 pm\n\n\nFRI. NOV. 21\n6:00PM\n09:00 pm\n\n\nSAT. NOV. 22\n11:00 am\n05:00 pm\n\n\nSUN. NOV. 23\n11:00 am\n05:00 pm\n\n\nFRI. NOV. 28\n11:00AM\n09:00 pm\n\n\nSAT. NOV.29\n11:00 am\n05:00 pm\n\n\nSUN. NOV.30\n11:00 am\n05:00 pm\n\n\nFRI. DEC. 05\n06:00 pm\n09:00 pm\n\n\nSAT. DEC. 06\n11:00 am\n05:00 pm\n\n\nSUN. DEC. 07\n11:00 am\n05:00 pm\n\n\nFRI. DEC. 12\n06:00 pm\n09:00 pm\n\n\nSAT. DEC. 13\n11:00 am\n05:00 pm\n\n\nSUN. DEC. 14\n11:00 am\n05:00 pm\n\n\nFRI. DEC. 19\n06:00 pm\n09:00 pm\n\n\nSAT. DEC. 20\n11:00 am\n05:00 pm\n\n\nSUN. DEC. 21\n11:00 am\n05:00 pm\n\n\nWED. DEC. 24\nCLOSED\n\n\nTHURS. DEC. 25\nCLOSED\n\n\nFRI. DEC. 26\n11:00 am\n09:00 pm\n\n\nSAT. DEC. 27\n11:00 am\n05:00 pm\n\n\nSUN. DEC. 28\n11:00 am\n05:00 pm\n\n\nMON. DEC. 29\n11:00 am\n05:00 pm\n\n\nTUES. DEC. 30\n11:00 am\n05:00 pm\n\n\nWED. DEC. 31\n11:00 am\n05:00 pm\n\n\nTHURS. JAN. 01\nCLOSED\n\n\nFRI. JAN. 02\n11:00 am\n09:00 pm\n\n\nSAT. JAN. 03\n11:00 am\n05:00 pm\n\n\nSUN. JAN. 04\n11:00 am\n05:00 pm\n\n\nFRI. JAN. 09\n06:00 pm\n09:00 pm\n\n\nSAT. JAN. 10\n11:00 am\n05:00 pm\n\n\nSUN. JAN. 11\n11:00 am\n05:00 pm\n\n\n\n 
URL:https://playpittsburgh.com/event/western-pennsylvania-model-railroad-museum/2015-01-04/
LOCATION:Western PA Model Railroad Museum\, 5507 Lakeside Dr\, Gibsonia\, PA\, 15044\, United States
ATTACH;FMTTYPE=:
GEO:40.631295;-79.9728
X-APPLE-STRUCTURED-LOCATION;VALUE=URI;X-ADDRESS=Western PA Model Railroad Museum 5507 Lakeside Dr Gibsonia PA 15044 United States;X-APPLE-RADIUS=500;X-TITLE=5507 Lakeside Dr:geo:-79.9728,40.631295
END:VEVENT
BEGIN:VEVENT
DTSTART;VALUE=DATE:20141228
DTEND;VALUE=DATE:20141229
DTSTAMP:20260422T050232
CREATED:20141123T033659Z
LAST-MODIFIED:20141123T033659Z
UID:7948-1419724800-1419811199@playpittsburgh.com
SUMMARY:Western Pennsylvania Model Railroad Museum
DESCRIPTION:The Western Pennsylvania Model Railroad Museum is a volunteer non-profit organization dedicated to the preservation of history of railroading in the Pittsburgh area. This is done in part by creating a 40′ X 100′ HO scale\, prototypical and historically accurate model railroad. A project that has been on going since 1988. \nMeasuring in at 4\,000 square feet\, the display is one of the largest in the nation. It depicts the tracks between Pittsburgh\, PA to Cumberland Maryland set in the summer of 1952\, and portrays numerous landmarks such as the P&LE train station (Market Square in Pittsburgh)\, J&L Steel Mill\, Cox’s Department Store (McKeesport\, PA)\, Falling Water\, Ohiopyle PA\, Helmstetter’s Curve and the Cumberland Station (Cumberland\, MD). \nThe Holiday Train Show runs from November 8th through January 11th. They’re open Fridays\, Saturdays and Sundays. \nAdmission: $6 for adults\, $4 for children under 12 \n\n\n\nSAT. NOV. 08\n11:00 am\n05:00 pm\n\n\nSUN. NOV. 09\n11:00 am\n05:00 pm\n\n\nFRI. NOV. 14\n06:00 pm\n09:00 pm\n\n\nSAT. NOV. 15\n11:00 am\n05:00 pm\n\n\nSUN. NOV. 16\n11:00 am\n05:00 pm\n\n\nFRI. NOV. 21\n6:00PM\n09:00 pm\n\n\nSAT. NOV. 22\n11:00 am\n05:00 pm\n\n\nSUN. NOV. 23\n11:00 am\n05:00 pm\n\n\nFRI. NOV. 28\n11:00AM\n09:00 pm\n\n\nSAT. NOV.29\n11:00 am\n05:00 pm\n\n\nSUN. NOV.30\n11:00 am\n05:00 pm\n\n\nFRI. DEC. 05\n06:00 pm\n09:00 pm\n\n\nSAT. DEC. 06\n11:00 am\n05:00 pm\n\n\nSUN. DEC. 07\n11:00 am\n05:00 pm\n\n\nFRI. DEC. 12\n06:00 pm\n09:00 pm\n\n\nSAT. DEC. 13\n11:00 am\n05:00 pm\n\n\nSUN. DEC. 14\n11:00 am\n05:00 pm\n\n\nFRI. DEC. 19\n06:00 pm\n09:00 pm\n\n\nSAT. DEC. 20\n11:00 am\n05:00 pm\n\n\nSUN. DEC. 21\n11:00 am\n05:00 pm\n\n\nWED. DEC. 24\nCLOSED\n\n\nTHURS. DEC. 25\nCLOSED\n\n\nFRI. DEC. 26\n11:00 am\n09:00 pm\n\n\nSAT. DEC. 27\n11:00 am\n05:00 pm\n\n\nSUN. DEC. 28\n11:00 am\n05:00 pm\n\n\nMON. DEC. 29\n11:00 am\n05:00 pm\n\n\nTUES. DEC. 30\n11:00 am\n05:00 pm\n\n\nWED. DEC. 31\n11:00 am\n05:00 pm\n\n\nTHURS. JAN. 01\nCLOSED\n\n\nFRI. JAN. 02\n11:00 am\n09:00 pm\n\n\nSAT. JAN. 03\n11:00 am\n05:00 pm\n\n\nSUN. JAN. 04\n11:00 am\n05:00 pm\n\n\nFRI. JAN. 09\n06:00 pm\n09:00 pm\n\n\nSAT. JAN. 10\n11:00 am\n05:00 pm\n\n\nSUN. JAN. 11\n11:00 am\n05:00 pm\n\n\n\n 
URL:https://playpittsburgh.com/event/western-pennsylvania-model-railroad-museum/2014-12-28/
LOCATION:Western PA Model Railroad Museum\, 5507 Lakeside Dr\, Gibsonia\, PA\, 15044\, United States
ATTACH;FMTTYPE=:
GEO:40.631295;-79.9728
X-APPLE-STRUCTURED-LOCATION;VALUE=URI;X-ADDRESS=Western PA Model Railroad Museum 5507 Lakeside Dr Gibsonia PA 15044 United States;X-APPLE-RADIUS=500;X-TITLE=5507 Lakeside Dr:geo:-79.9728,40.631295
END:VEVENT
BEGIN:VEVENT
DTSTART;VALUE=DATE:20141221
DTEND;VALUE=DATE:20141222
DTSTAMP:20260422T050232
CREATED:20141123T033659Z
LAST-MODIFIED:20141123T033659Z
UID:7947-1419120000-1419206399@playpittsburgh.com
SUMMARY:Western Pennsylvania Model Railroad Museum
DESCRIPTION:The Western Pennsylvania Model Railroad Museum is a volunteer non-profit organization dedicated to the preservation of history of railroading in the Pittsburgh area. This is done in part by creating a 40′ X 100′ HO scale\, prototypical and historically accurate model railroad. A project that has been on going since 1988. \nMeasuring in at 4\,000 square feet\, the display is one of the largest in the nation. It depicts the tracks between Pittsburgh\, PA to Cumberland Maryland set in the summer of 1952\, and portrays numerous landmarks such as the P&LE train station (Market Square in Pittsburgh)\, J&L Steel Mill\, Cox’s Department Store (McKeesport\, PA)\, Falling Water\, Ohiopyle PA\, Helmstetter’s Curve and the Cumberland Station (Cumberland\, MD). \nThe Holiday Train Show runs from November 8th through January 11th. They’re open Fridays\, Saturdays and Sundays. \nAdmission: $6 for adults\, $4 for children under 12 \n\n\n\nSAT. NOV. 08\n11:00 am\n05:00 pm\n\n\nSUN. NOV. 09\n11:00 am\n05:00 pm\n\n\nFRI. NOV. 14\n06:00 pm\n09:00 pm\n\n\nSAT. NOV. 15\n11:00 am\n05:00 pm\n\n\nSUN. NOV. 16\n11:00 am\n05:00 pm\n\n\nFRI. NOV. 21\n6:00PM\n09:00 pm\n\n\nSAT. NOV. 22\n11:00 am\n05:00 pm\n\n\nSUN. NOV. 23\n11:00 am\n05:00 pm\n\n\nFRI. NOV. 28\n11:00AM\n09:00 pm\n\n\nSAT. NOV.29\n11:00 am\n05:00 pm\n\n\nSUN. NOV.30\n11:00 am\n05:00 pm\n\n\nFRI. DEC. 05\n06:00 pm\n09:00 pm\n\n\nSAT. DEC. 06\n11:00 am\n05:00 pm\n\n\nSUN. DEC. 07\n11:00 am\n05:00 pm\n\n\nFRI. DEC. 12\n06:00 pm\n09:00 pm\n\n\nSAT. DEC. 13\n11:00 am\n05:00 pm\n\n\nSUN. DEC. 14\n11:00 am\n05:00 pm\n\n\nFRI. DEC. 19\n06:00 pm\n09:00 pm\n\n\nSAT. DEC. 20\n11:00 am\n05:00 pm\n\n\nSUN. DEC. 21\n11:00 am\n05:00 pm\n\n\nWED. DEC. 24\nCLOSED\n\n\nTHURS. DEC. 25\nCLOSED\n\n\nFRI. DEC. 26\n11:00 am\n09:00 pm\n\n\nSAT. DEC. 27\n11:00 am\n05:00 pm\n\n\nSUN. DEC. 28\n11:00 am\n05:00 pm\n\n\nMON. DEC. 29\n11:00 am\n05:00 pm\n\n\nTUES. DEC. 30\n11:00 am\n05:00 pm\n\n\nWED. DEC. 31\n11:00 am\n05:00 pm\n\n\nTHURS. JAN. 01\nCLOSED\n\n\nFRI. JAN. 02\n11:00 am\n09:00 pm\n\n\nSAT. JAN. 03\n11:00 am\n05:00 pm\n\n\nSUN. JAN. 04\n11:00 am\n05:00 pm\n\n\nFRI. JAN. 09\n06:00 pm\n09:00 pm\n\n\nSAT. JAN. 10\n11:00 am\n05:00 pm\n\n\nSUN. JAN. 11\n11:00 am\n05:00 pm\n\n\n\n 
URL:https://playpittsburgh.com/event/western-pennsylvania-model-railroad-museum/2014-12-21/
LOCATION:Western PA Model Railroad Museum\, 5507 Lakeside Dr\, Gibsonia\, PA\, 15044\, United States
ATTACH;FMTTYPE=:
GEO:40.631295;-79.9728
X-APPLE-STRUCTURED-LOCATION;VALUE=URI;X-ADDRESS=Western PA Model Railroad Museum 5507 Lakeside Dr Gibsonia PA 15044 United States;X-APPLE-RADIUS=500;X-TITLE=5507 Lakeside Dr:geo:-79.9728,40.631295
END:VEVENT
BEGIN:VEVENT
DTSTART;VALUE=DATE:20141214
DTEND;VALUE=DATE:20141215
DTSTAMP:20260422T050232
CREATED:20141123T033658Z
LAST-MODIFIED:20141123T033658Z
UID:7946-1418515200-1418601599@playpittsburgh.com
SUMMARY:Western Pennsylvania Model Railroad Museum
DESCRIPTION:The Western Pennsylvania Model Railroad Museum is a volunteer non-profit organization dedicated to the preservation of history of railroading in the Pittsburgh area. This is done in part by creating a 40′ X 100′ HO scale\, prototypical and historically accurate model railroad. A project that has been on going since 1988. \nMeasuring in at 4\,000 square feet\, the display is one of the largest in the nation. It depicts the tracks between Pittsburgh\, PA to Cumberland Maryland set in the summer of 1952\, and portrays numerous landmarks such as the P&LE train station (Market Square in Pittsburgh)\, J&L Steel Mill\, Cox’s Department Store (McKeesport\, PA)\, Falling Water\, Ohiopyle PA\, Helmstetter’s Curve and the Cumberland Station (Cumberland\, MD). \nThe Holiday Train Show runs from November 8th through January 11th. They’re open Fridays\, Saturdays and Sundays. \nAdmission: $6 for adults\, $4 for children under 12 \n\n\n\nSAT. NOV. 08\n11:00 am\n05:00 pm\n\n\nSUN. NOV. 09\n11:00 am\n05:00 pm\n\n\nFRI. NOV. 14\n06:00 pm\n09:00 pm\n\n\nSAT. NOV. 15\n11:00 am\n05:00 pm\n\n\nSUN. NOV. 16\n11:00 am\n05:00 pm\n\n\nFRI. NOV. 21\n6:00PM\n09:00 pm\n\n\nSAT. NOV. 22\n11:00 am\n05:00 pm\n\n\nSUN. NOV. 23\n11:00 am\n05:00 pm\n\n\nFRI. NOV. 28\n11:00AM\n09:00 pm\n\n\nSAT. NOV.29\n11:00 am\n05:00 pm\n\n\nSUN. NOV.30\n11:00 am\n05:00 pm\n\n\nFRI. DEC. 05\n06:00 pm\n09:00 pm\n\n\nSAT. DEC. 06\n11:00 am\n05:00 pm\n\n\nSUN. DEC. 07\n11:00 am\n05:00 pm\n\n\nFRI. DEC. 12\n06:00 pm\n09:00 pm\n\n\nSAT. DEC. 13\n11:00 am\n05:00 pm\n\n\nSUN. DEC. 14\n11:00 am\n05:00 pm\n\n\nFRI. DEC. 19\n06:00 pm\n09:00 pm\n\n\nSAT. DEC. 20\n11:00 am\n05:00 pm\n\n\nSUN. DEC. 21\n11:00 am\n05:00 pm\n\n\nWED. DEC. 24\nCLOSED\n\n\nTHURS. DEC. 25\nCLOSED\n\n\nFRI. DEC. 26\n11:00 am\n09:00 pm\n\n\nSAT. DEC. 27\n11:00 am\n05:00 pm\n\n\nSUN. DEC. 28\n11:00 am\n05:00 pm\n\n\nMON. DEC. 29\n11:00 am\n05:00 pm\n\n\nTUES. DEC. 30\n11:00 am\n05:00 pm\n\n\nWED. DEC. 31\n11:00 am\n05:00 pm\n\n\nTHURS. JAN. 01\nCLOSED\n\n\nFRI. JAN. 02\n11:00 am\n09:00 pm\n\n\nSAT. JAN. 03\n11:00 am\n05:00 pm\n\n\nSUN. JAN. 04\n11:00 am\n05:00 pm\n\n\nFRI. JAN. 09\n06:00 pm\n09:00 pm\n\n\nSAT. JAN. 10\n11:00 am\n05:00 pm\n\n\nSUN. JAN. 11\n11:00 am\n05:00 pm\n\n\n\n 
URL:https://playpittsburgh.com/event/western-pennsylvania-model-railroad-museum/2014-12-14/
LOCATION:Western PA Model Railroad Museum\, 5507 Lakeside Dr\, Gibsonia\, PA\, 15044\, United States
ATTACH;FMTTYPE=:
GEO:40.631295;-79.9728
X-APPLE-STRUCTURED-LOCATION;VALUE=URI;X-ADDRESS=Western PA Model Railroad Museum 5507 Lakeside Dr Gibsonia PA 15044 United States;X-APPLE-RADIUS=500;X-TITLE=5507 Lakeside Dr:geo:-79.9728,40.631295
END:VEVENT
BEGIN:VEVENT
DTSTART;VALUE=DATE:20141207
DTEND;VALUE=DATE:20141208
DTSTAMP:20260422T050232
CREATED:20141123T033658Z
LAST-MODIFIED:20141123T033658Z
UID:7945-1417910400-1417996799@playpittsburgh.com
SUMMARY:Western Pennsylvania Model Railroad Museum
DESCRIPTION:The Western Pennsylvania Model Railroad Museum is a volunteer non-profit organization dedicated to the preservation of history of railroading in the Pittsburgh area. This is done in part by creating a 40′ X 100′ HO scale\, prototypical and historically accurate model railroad. A project that has been on going since 1988. \nMeasuring in at 4\,000 square feet\, the display is one of the largest in the nation. It depicts the tracks between Pittsburgh\, PA to Cumberland Maryland set in the summer of 1952\, and portrays numerous landmarks such as the P&LE train station (Market Square in Pittsburgh)\, J&L Steel Mill\, Cox’s Department Store (McKeesport\, PA)\, Falling Water\, Ohiopyle PA\, Helmstetter’s Curve and the Cumberland Station (Cumberland\, MD). \nThe Holiday Train Show runs from November 8th through January 11th. They’re open Fridays\, Saturdays and Sundays. \nAdmission: $6 for adults\, $4 for children under 12 \n\n\n\nSAT. NOV. 08\n11:00 am\n05:00 pm\n\n\nSUN. NOV. 09\n11:00 am\n05:00 pm\n\n\nFRI. NOV. 14\n06:00 pm\n09:00 pm\n\n\nSAT. NOV. 15\n11:00 am\n05:00 pm\n\n\nSUN. NOV. 16\n11:00 am\n05:00 pm\n\n\nFRI. NOV. 21\n6:00PM\n09:00 pm\n\n\nSAT. NOV. 22\n11:00 am\n05:00 pm\n\n\nSUN. NOV. 23\n11:00 am\n05:00 pm\n\n\nFRI. NOV. 28\n11:00AM\n09:00 pm\n\n\nSAT. NOV.29\n11:00 am\n05:00 pm\n\n\nSUN. NOV.30\n11:00 am\n05:00 pm\n\n\nFRI. DEC. 05\n06:00 pm\n09:00 pm\n\n\nSAT. DEC. 06\n11:00 am\n05:00 pm\n\n\nSUN. DEC. 07\n11:00 am\n05:00 pm\n\n\nFRI. DEC. 12\n06:00 pm\n09:00 pm\n\n\nSAT. DEC. 13\n11:00 am\n05:00 pm\n\n\nSUN. DEC. 14\n11:00 am\n05:00 pm\n\n\nFRI. DEC. 19\n06:00 pm\n09:00 pm\n\n\nSAT. DEC. 20\n11:00 am\n05:00 pm\n\n\nSUN. DEC. 21\n11:00 am\n05:00 pm\n\n\nWED. DEC. 24\nCLOSED\n\n\nTHURS. DEC. 25\nCLOSED\n\n\nFRI. DEC. 26\n11:00 am\n09:00 pm\n\n\nSAT. DEC. 27\n11:00 am\n05:00 pm\n\n\nSUN. DEC. 28\n11:00 am\n05:00 pm\n\n\nMON. DEC. 29\n11:00 am\n05:00 pm\n\n\nTUES. DEC. 30\n11:00 am\n05:00 pm\n\n\nWED. DEC. 31\n11:00 am\n05:00 pm\n\n\nTHURS. JAN. 01\nCLOSED\n\n\nFRI. JAN. 02\n11:00 am\n09:00 pm\n\n\nSAT. JAN. 03\n11:00 am\n05:00 pm\n\n\nSUN. JAN. 04\n11:00 am\n05:00 pm\n\n\nFRI. JAN. 09\n06:00 pm\n09:00 pm\n\n\nSAT. JAN. 10\n11:00 am\n05:00 pm\n\n\nSUN. JAN. 11\n11:00 am\n05:00 pm\n\n\n\n 
URL:https://playpittsburgh.com/event/western-pennsylvania-model-railroad-museum/2014-12-07/
LOCATION:Western PA Model Railroad Museum\, 5507 Lakeside Dr\, Gibsonia\, PA\, 15044\, United States
ATTACH;FMTTYPE=:
GEO:40.631295;-79.9728
X-APPLE-STRUCTURED-LOCATION;VALUE=URI;X-ADDRESS=Western PA Model Railroad Museum 5507 Lakeside Dr Gibsonia PA 15044 United States;X-APPLE-RADIUS=500;X-TITLE=5507 Lakeside Dr:geo:-79.9728,40.631295
END:VEVENT
BEGIN:VEVENT
DTSTART;VALUE=DATE:20141130
DTEND;VALUE=DATE:20141201
DTSTAMP:20260422T050232
CREATED:20141123T033658Z
LAST-MODIFIED:20141123T033658Z
UID:7944-1417305600-1417391999@playpittsburgh.com
SUMMARY:Western Pennsylvania Model Railroad Museum
DESCRIPTION:The Western Pennsylvania Model Railroad Museum is a volunteer non-profit organization dedicated to the preservation of history of railroading in the Pittsburgh area. This is done in part by creating a 40′ X 100′ HO scale\, prototypical and historically accurate model railroad. A project that has been on going since 1988. \nMeasuring in at 4\,000 square feet\, the display is one of the largest in the nation. It depicts the tracks between Pittsburgh\, PA to Cumberland Maryland set in the summer of 1952\, and portrays numerous landmarks such as the P&LE train station (Market Square in Pittsburgh)\, J&L Steel Mill\, Cox’s Department Store (McKeesport\, PA)\, Falling Water\, Ohiopyle PA\, Helmstetter’s Curve and the Cumberland Station (Cumberland\, MD). \nThe Holiday Train Show runs from November 8th through January 11th. They’re open Fridays\, Saturdays and Sundays. \nAdmission: $6 for adults\, $4 for children under 12 \n\n\n\nSAT. NOV. 08\n11:00 am\n05:00 pm\n\n\nSUN. NOV. 09\n11:00 am\n05:00 pm\n\n\nFRI. NOV. 14\n06:00 pm\n09:00 pm\n\n\nSAT. NOV. 15\n11:00 am\n05:00 pm\n\n\nSUN. NOV. 16\n11:00 am\n05:00 pm\n\n\nFRI. NOV. 21\n6:00PM\n09:00 pm\n\n\nSAT. NOV. 22\n11:00 am\n05:00 pm\n\n\nSUN. NOV. 23\n11:00 am\n05:00 pm\n\n\nFRI. NOV. 28\n11:00AM\n09:00 pm\n\n\nSAT. NOV.29\n11:00 am\n05:00 pm\n\n\nSUN. NOV.30\n11:00 am\n05:00 pm\n\n\nFRI. DEC. 05\n06:00 pm\n09:00 pm\n\n\nSAT. DEC. 06\n11:00 am\n05:00 pm\n\n\nSUN. DEC. 07\n11:00 am\n05:00 pm\n\n\nFRI. DEC. 12\n06:00 pm\n09:00 pm\n\n\nSAT. DEC. 13\n11:00 am\n05:00 pm\n\n\nSUN. DEC. 14\n11:00 am\n05:00 pm\n\n\nFRI. DEC. 19\n06:00 pm\n09:00 pm\n\n\nSAT. DEC. 20\n11:00 am\n05:00 pm\n\n\nSUN. DEC. 21\n11:00 am\n05:00 pm\n\n\nWED. DEC. 24\nCLOSED\n\n\nTHURS. DEC. 25\nCLOSED\n\n\nFRI. DEC. 26\n11:00 am\n09:00 pm\n\n\nSAT. DEC. 27\n11:00 am\n05:00 pm\n\n\nSUN. DEC. 28\n11:00 am\n05:00 pm\n\n\nMON. DEC. 29\n11:00 am\n05:00 pm\n\n\nTUES. DEC. 30\n11:00 am\n05:00 pm\n\n\nWED. DEC. 31\n11:00 am\n05:00 pm\n\n\nTHURS. JAN. 01\nCLOSED\n\n\nFRI. JAN. 02\n11:00 am\n09:00 pm\n\n\nSAT. JAN. 03\n11:00 am\n05:00 pm\n\n\nSUN. JAN. 04\n11:00 am\n05:00 pm\n\n\nFRI. JAN. 09\n06:00 pm\n09:00 pm\n\n\nSAT. JAN. 10\n11:00 am\n05:00 pm\n\n\nSUN. JAN. 11\n11:00 am\n05:00 pm\n\n\n\n 
URL:https://playpittsburgh.com/event/western-pennsylvania-model-railroad-museum/2014-11-30/
LOCATION:Western PA Model Railroad Museum\, 5507 Lakeside Dr\, Gibsonia\, PA\, 15044\, United States
ATTACH;FMTTYPE=:
GEO:40.631295;-79.9728
X-APPLE-STRUCTURED-LOCATION;VALUE=URI;X-ADDRESS=Western PA Model Railroad Museum 5507 Lakeside Dr Gibsonia PA 15044 United States;X-APPLE-RADIUS=500;X-TITLE=5507 Lakeside Dr:geo:-79.9728,40.631295
END:VEVENT
BEGIN:VEVENT
DTSTART;VALUE=DATE:20141123
DTEND;VALUE=DATE:20141124
DTSTAMP:20260422T050232
CREATED:20141123T033658Z
LAST-MODIFIED:20141123T033658Z
UID:4614-1416700800-1416787199@playpittsburgh.com
SUMMARY:Western Pennsylvania Model Railroad Museum
DESCRIPTION:The Western Pennsylvania Model Railroad Museum is a volunteer non-profit organization dedicated to the preservation of history of railroading in the Pittsburgh area. This is done in part by creating a 40′ X 100′ HO scale\, prototypical and historically accurate model railroad. A project that has been on going since 1988. \nMeasuring in at 4\,000 square feet\, the display is one of the largest in the nation. It depicts the tracks between Pittsburgh\, PA to Cumberland Maryland set in the summer of 1952\, and portrays numerous landmarks such as the P&LE train station (Market Square in Pittsburgh)\, J&L Steel Mill\, Cox’s Department Store (McKeesport\, PA)\, Falling Water\, Ohiopyle PA\, Helmstetter’s Curve and the Cumberland Station (Cumberland\, MD). \nThe Holiday Train Show runs from November 8th through January 11th. They’re open Fridays\, Saturdays and Sundays. \nAdmission: $6 for adults\, $4 for children under 12 \n\n\n\nSAT. NOV. 08\n11:00 am\n05:00 pm\n\n\nSUN. NOV. 09\n11:00 am\n05:00 pm\n\n\nFRI. NOV. 14\n06:00 pm\n09:00 pm\n\n\nSAT. NOV. 15\n11:00 am\n05:00 pm\n\n\nSUN. NOV. 16\n11:00 am\n05:00 pm\n\n\nFRI. NOV. 21\n6:00PM\n09:00 pm\n\n\nSAT. NOV. 22\n11:00 am\n05:00 pm\n\n\nSUN. NOV. 23\n11:00 am\n05:00 pm\n\n\nFRI. NOV. 28\n11:00AM\n09:00 pm\n\n\nSAT. NOV.29\n11:00 am\n05:00 pm\n\n\nSUN. NOV.30\n11:00 am\n05:00 pm\n\n\nFRI. DEC. 05\n06:00 pm\n09:00 pm\n\n\nSAT. DEC. 06\n11:00 am\n05:00 pm\n\n\nSUN. DEC. 07\n11:00 am\n05:00 pm\n\n\nFRI. DEC. 12\n06:00 pm\n09:00 pm\n\n\nSAT. DEC. 13\n11:00 am\n05:00 pm\n\n\nSUN. DEC. 14\n11:00 am\n05:00 pm\n\n\nFRI. DEC. 19\n06:00 pm\n09:00 pm\n\n\nSAT. DEC. 20\n11:00 am\n05:00 pm\n\n\nSUN. DEC. 21\n11:00 am\n05:00 pm\n\n\nWED. DEC. 24\nCLOSED\n\n\nTHURS. DEC. 25\nCLOSED\n\n\nFRI. DEC. 26\n11:00 am\n09:00 pm\n\n\nSAT. DEC. 27\n11:00 am\n05:00 pm\n\n\nSUN. DEC. 28\n11:00 am\n05:00 pm\n\n\nMON. DEC. 29\n11:00 am\n05:00 pm\n\n\nTUES. DEC. 30\n11:00 am\n05:00 pm\n\n\nWED. DEC. 31\n11:00 am\n05:00 pm\n\n\nTHURS. JAN. 01\nCLOSED\n\n\nFRI. JAN. 02\n11:00 am\n09:00 pm\n\n\nSAT. JAN. 03\n11:00 am\n05:00 pm\n\n\nSUN. JAN. 04\n11:00 am\n05:00 pm\n\n\nFRI. JAN. 09\n06:00 pm\n09:00 pm\n\n\nSAT. JAN. 10\n11:00 am\n05:00 pm\n\n\nSUN. JAN. 11\n11:00 am\n05:00 pm\n\n\n\n 
URL:https://playpittsburgh.com/event/western-pennsylvania-model-railroad-museum/2014-11-23/
LOCATION:Western PA Model Railroad Museum\, 5507 Lakeside Dr\, Gibsonia\, PA\, 15044\, United States
ATTACH;FMTTYPE=:
GEO:40.631295;-79.9728
X-APPLE-STRUCTURED-LOCATION;VALUE=URI;X-ADDRESS=Western PA Model Railroad Museum 5507 Lakeside Dr Gibsonia PA 15044 United States;X-APPLE-RADIUS=500;X-TITLE=5507 Lakeside Dr:geo:-79.9728,40.631295
END:VEVENT
END:VCALENDAR