BEGIN:VCALENDAR
VERSION:2.0
PRODID:-//Play Pittsburgh - ECPv6.15.20//NONSGML v1.0//EN
CALSCALE:GREGORIAN
METHOD:PUBLISH
X-ORIGINAL-URL:https://playpittsburgh.com
X-WR-CALDESC:Events for Play Pittsburgh
REFRESH-INTERVAL;VALUE=DURATION:PT1H
X-Robots-Tag:noindex
X-PUBLISHED-TTL:PT1H
BEGIN:VTIMEZONE
TZID:America/New_York
BEGIN:DAYLIGHT
TZOFFSETFROM:-0500
TZOFFSETTO:-0400
TZNAME:EDT
DTSTART:20130310T070000
END:DAYLIGHT
BEGIN:STANDARD
TZOFFSETFROM:-0400
TZOFFSETTO:-0500
TZNAME:EST
DTSTART:20131103T060000
END:STANDARD
BEGIN:DAYLIGHT
TZOFFSETFROM:-0500
TZOFFSETTO:-0400
TZNAME:EDT
DTSTART:20140309T070000
END:DAYLIGHT
BEGIN:STANDARD
TZOFFSETFROM:-0400
TZOFFSETTO:-0500
TZNAME:EST
DTSTART:20141102T060000
END:STANDARD
BEGIN:DAYLIGHT
TZOFFSETFROM:-0500
TZOFFSETTO:-0400
TZNAME:EDT
DTSTART:20150308T070000
END:DAYLIGHT
BEGIN:STANDARD
TZOFFSETFROM:-0400
TZOFFSETTO:-0500
TZNAME:EST
DTSTART:20151101T060000
END:STANDARD
END:VTIMEZONE
BEGIN:VEVENT
DTSTART;TZID=America/New_York:20140730T100000
DTEND;TZID=America/New_York:20140730T170000
DTSTAMP:20260422T050352
CREATED:20140728T204553Z
LAST-MODIFIED:20140728T204553Z
UID:6424-1406714400-1406739600@playpittsburgh.com
SUMMARY:Weather Wednesdays @ Children's Museum
DESCRIPTION:Child admission for children 2 and up is based on that day’s forecasted high temperature for Pittsburgh\, PA\, by the National Weather Service\, as forecasted at 5:00 pm the previous day (e.g. 73 degrees = $7 child admission\, 87 degrees = $8 child admission\, etc.)
URL:https://playpittsburgh.com/event/weather-wednesdays-childrens-museum-2/2014-07-30/
LOCATION:Children’s Museum of Pittsburgh\, 10 Children's Way\, Allegheny Square\, Pittsburgh\, PA\, 15212\, United States
CATEGORIES:Indoor Play,Museums
GEO:40.4528353;-80.0064158
X-APPLE-STRUCTURED-LOCATION;VALUE=URI;X-ADDRESS=Children’s Museum of Pittsburgh 10 Children's Way Allegheny Square Pittsburgh PA 15212 United States;X-APPLE-RADIUS=500;X-TITLE=10 Children's Way\, Allegheny Square:geo:-80.0064158,40.4528353
END:VEVENT
END:VCALENDAR