BEGIN:VCALENDAR
VERSION:2.0
PRODID:-//Play Pittsburgh - ECPv6.15.20//NONSGML v1.0//EN
CALSCALE:GREGORIAN
METHOD:PUBLISH
X-ORIGINAL-URL:https://playpittsburgh.com
X-WR-CALDESC:Events for Play Pittsburgh
REFRESH-INTERVAL;VALUE=DURATION:PT1H
X-Robots-Tag:noindex
X-PUBLISHED-TTL:PT1H
BEGIN:VTIMEZONE
TZID:America/New_York
BEGIN:DAYLIGHT
TZOFFSETFROM:-0500
TZOFFSETTO:-0400
TZNAME:EDT
DTSTART:20140309T070000
END:DAYLIGHT
BEGIN:STANDARD
TZOFFSETFROM:-0400
TZOFFSETTO:-0500
TZNAME:EST
DTSTART:20141102T060000
END:STANDARD
BEGIN:DAYLIGHT
TZOFFSETFROM:-0500
TZOFFSETTO:-0400
TZNAME:EDT
DTSTART:20150308T070000
END:DAYLIGHT
BEGIN:STANDARD
TZOFFSETFROM:-0400
TZOFFSETTO:-0500
TZNAME:EST
DTSTART:20151101T060000
END:STANDARD
BEGIN:DAYLIGHT
TZOFFSETFROM:-0500
TZOFFSETTO:-0400
TZNAME:EDT
DTSTART:20160313T070000
END:DAYLIGHT
BEGIN:STANDARD
TZOFFSETFROM:-0400
TZOFFSETTO:-0500
TZNAME:EST
DTSTART:20161106T060000
END:STANDARD
END:VTIMEZONE
BEGIN:VEVENT
DTSTART;TZID=America/New_York:20150729T100000
DTEND;TZID=America/New_York:20150729T113000
DTSTAMP:20260422T092813
CREATED:20150531T195242Z
LAST-MODIFIED:20150531T195242Z
UID:8936-1438164000-1438169400@playpittsburgh.com
SUMMARY:Waterworks Cinemas $1 Kid’s Summer Movie Series
DESCRIPTION:Enjoy $1 family-friendly movies every Wednesday and Thursday at 10am at Waterworks Cinemas. \n\nJune 24 & 25 Rio\nJuly 1 & 2 Diary of a Wimpy Kid\nJuly 8 & 9 Ice Age The Meltdown\nJuly 15 & 16 Fantastic Mr. Fox\nJuly 22 & 23 Horton Hears a Who\nJuly 29 & 30 Night at the Museum
URL:https://playpittsburgh.com/event/waterworks-cinemas-1-kids-summer-movie-series/2015-07-29/
LOCATION:Waterworks Cinema\, 930 Freeport Rd\, Pittsburgh\, PA\, 15238\, United States
GEO:40.4899789;-79.8934731
X-APPLE-STRUCTURED-LOCATION;VALUE=URI;X-ADDRESS=Waterworks Cinema 930 Freeport Rd Pittsburgh PA 15238 United States;X-APPLE-RADIUS=500;X-TITLE=930 Freeport Rd:geo:-79.8934731,40.4899789
END:VEVENT
BEGIN:VEVENT
DTSTART;TZID=America/New_York:20150722T100000
DTEND;TZID=America/New_York:20150722T113000
DTSTAMP:20260422T092813
CREATED:20150531T195242Z
LAST-MODIFIED:20150531T195242Z
UID:8935-1437559200-1437564600@playpittsburgh.com
SUMMARY:Waterworks Cinemas $1 Kid’s Summer Movie Series
DESCRIPTION:Enjoy $1 family-friendly movies every Wednesday and Thursday at 10am at Waterworks Cinemas. \n\nJune 24 & 25 Rio\nJuly 1 & 2 Diary of a Wimpy Kid\nJuly 8 & 9 Ice Age The Meltdown\nJuly 15 & 16 Fantastic Mr. Fox\nJuly 22 & 23 Horton Hears a Who\nJuly 29 & 30 Night at the Museum
URL:https://playpittsburgh.com/event/waterworks-cinemas-1-kids-summer-movie-series/2015-07-22/
LOCATION:Waterworks Cinema\, 930 Freeport Rd\, Pittsburgh\, PA\, 15238\, United States
GEO:40.4899789;-79.8934731
X-APPLE-STRUCTURED-LOCATION;VALUE=URI;X-ADDRESS=Waterworks Cinema 930 Freeport Rd Pittsburgh PA 15238 United States;X-APPLE-RADIUS=500;X-TITLE=930 Freeport Rd:geo:-79.8934731,40.4899789
END:VEVENT
BEGIN:VEVENT
DTSTART;TZID=America/New_York:20150715T100000
DTEND;TZID=America/New_York:20150715T113000
DTSTAMP:20260422T092813
CREATED:20150531T195242Z
LAST-MODIFIED:20150531T195242Z
UID:8934-1436954400-1436959800@playpittsburgh.com
SUMMARY:Waterworks Cinemas $1 Kid’s Summer Movie Series
DESCRIPTION:Enjoy $1 family-friendly movies every Wednesday and Thursday at 10am at Waterworks Cinemas. \n\nJune 24 & 25 Rio\nJuly 1 & 2 Diary of a Wimpy Kid\nJuly 8 & 9 Ice Age The Meltdown\nJuly 15 & 16 Fantastic Mr. Fox\nJuly 22 & 23 Horton Hears a Who\nJuly 29 & 30 Night at the Museum
URL:https://playpittsburgh.com/event/waterworks-cinemas-1-kids-summer-movie-series/2015-07-15/
LOCATION:Waterworks Cinema\, 930 Freeport Rd\, Pittsburgh\, PA\, 15238\, United States
GEO:40.4899789;-79.8934731
X-APPLE-STRUCTURED-LOCATION;VALUE=URI;X-ADDRESS=Waterworks Cinema 930 Freeport Rd Pittsburgh PA 15238 United States;X-APPLE-RADIUS=500;X-TITLE=930 Freeport Rd:geo:-79.8934731,40.4899789
END:VEVENT
BEGIN:VEVENT
DTSTART;TZID=America/New_York:20150708T100000
DTEND;TZID=America/New_York:20150708T113000
DTSTAMP:20260422T092813
CREATED:20150531T195242Z
LAST-MODIFIED:20150531T195242Z
UID:8933-1436349600-1436355000@playpittsburgh.com
SUMMARY:Waterworks Cinemas $1 Kid’s Summer Movie Series
DESCRIPTION:Enjoy $1 family-friendly movies every Wednesday and Thursday at 10am at Waterworks Cinemas. \n\nJune 24 & 25 Rio\nJuly 1 & 2 Diary of a Wimpy Kid\nJuly 8 & 9 Ice Age The Meltdown\nJuly 15 & 16 Fantastic Mr. Fox\nJuly 22 & 23 Horton Hears a Who\nJuly 29 & 30 Night at the Museum
URL:https://playpittsburgh.com/event/waterworks-cinemas-1-kids-summer-movie-series/2015-07-08/
LOCATION:Waterworks Cinema\, 930 Freeport Rd\, Pittsburgh\, PA\, 15238\, United States
GEO:40.4899789;-79.8934731
X-APPLE-STRUCTURED-LOCATION;VALUE=URI;X-ADDRESS=Waterworks Cinema 930 Freeport Rd Pittsburgh PA 15238 United States;X-APPLE-RADIUS=500;X-TITLE=930 Freeport Rd:geo:-79.8934731,40.4899789
END:VEVENT
BEGIN:VEVENT
DTSTART;TZID=America/New_York:20150701T100000
DTEND;TZID=America/New_York:20150701T113000
DTSTAMP:20260422T092813
CREATED:20150531T195242Z
LAST-MODIFIED:20150531T195242Z
UID:8932-1435744800-1435750200@playpittsburgh.com
SUMMARY:Waterworks Cinemas $1 Kid’s Summer Movie Series
DESCRIPTION:Enjoy $1 family-friendly movies every Wednesday and Thursday at 10am at Waterworks Cinemas. \n\nJune 24 & 25 Rio\nJuly 1 & 2 Diary of a Wimpy Kid\nJuly 8 & 9 Ice Age The Meltdown\nJuly 15 & 16 Fantastic Mr. Fox\nJuly 22 & 23 Horton Hears a Who\nJuly 29 & 30 Night at the Museum
URL:https://playpittsburgh.com/event/waterworks-cinemas-1-kids-summer-movie-series/2015-07-01/
LOCATION:Waterworks Cinema\, 930 Freeport Rd\, Pittsburgh\, PA\, 15238\, United States
GEO:40.4899789;-79.8934731
X-APPLE-STRUCTURED-LOCATION;VALUE=URI;X-ADDRESS=Waterworks Cinema 930 Freeport Rd Pittsburgh PA 15238 United States;X-APPLE-RADIUS=500;X-TITLE=930 Freeport Rd:geo:-79.8934731,40.4899789
END:VEVENT
BEGIN:VEVENT
DTSTART;TZID=America/New_York:20150624T100000
DTEND;TZID=America/New_York:20150624T113000
DTSTAMP:20260422T092813
CREATED:20150531T195242Z
LAST-MODIFIED:20150531T195242Z
UID:8931-1435140000-1435145400@playpittsburgh.com
SUMMARY:Waterworks Cinemas $1 Kid’s Summer Movie Series
DESCRIPTION:Enjoy $1 family-friendly movies every Wednesday and Thursday at 10am at Waterworks Cinemas. \n\nJune 24 & 25 Rio\nJuly 1 & 2 Diary of a Wimpy Kid\nJuly 8 & 9 Ice Age The Meltdown\nJuly 15 & 16 Fantastic Mr. Fox\nJuly 22 & 23 Horton Hears a Who\nJuly 29 & 30 Night at the Museum
URL:https://playpittsburgh.com/event/waterworks-cinemas-1-kids-summer-movie-series/2015-06-24/
LOCATION:Waterworks Cinema\, 930 Freeport Rd\, Pittsburgh\, PA\, 15238\, United States
GEO:40.4899789;-79.8934731
X-APPLE-STRUCTURED-LOCATION;VALUE=URI;X-ADDRESS=Waterworks Cinema 930 Freeport Rd Pittsburgh PA 15238 United States;X-APPLE-RADIUS=500;X-TITLE=930 Freeport Rd:geo:-79.8934731,40.4899789
END:VEVENT
END:VCALENDAR