BEGIN:VCALENDAR
VERSION:2.0
PRODID:-//Play Pittsburgh - ECPv6.15.20//NONSGML v1.0//EN
CALSCALE:GREGORIAN
METHOD:PUBLISH
X-ORIGINAL-URL:https://playpittsburgh.com
X-WR-CALDESC:Events for Play Pittsburgh
REFRESH-INTERVAL;VALUE=DURATION:PT1H
X-Robots-Tag:noindex
X-PUBLISHED-TTL:PT1H
BEGIN:VTIMEZONE
TZID:America/New_York
BEGIN:DAYLIGHT
TZOFFSETFROM:-0500
TZOFFSETTO:-0400
TZNAME:EDT
DTSTART:20140309T070000
END:DAYLIGHT
BEGIN:STANDARD
TZOFFSETFROM:-0400
TZOFFSETTO:-0500
TZNAME:EST
DTSTART:20141102T060000
END:STANDARD
BEGIN:DAYLIGHT
TZOFFSETFROM:-0500
TZOFFSETTO:-0400
TZNAME:EDT
DTSTART:20150308T070000
END:DAYLIGHT
BEGIN:STANDARD
TZOFFSETFROM:-0400
TZOFFSETTO:-0500
TZNAME:EST
DTSTART:20151101T060000
END:STANDARD
BEGIN:DAYLIGHT
TZOFFSETFROM:-0500
TZOFFSETTO:-0400
TZNAME:EDT
DTSTART:20160313T070000
END:DAYLIGHT
BEGIN:STANDARD
TZOFFSETFROM:-0400
TZOFFSETTO:-0500
TZNAME:EST
DTSTART:20161106T060000
END:STANDARD
END:VTIMEZONE
BEGIN:VEVENT
DTSTART;TZID=America/New_York:20150607T090000
DTEND;TZID=America/New_York:20150607T150000
DTSTAMP:20260424T063843
CREATED:20150531T202358Z
LAST-MODIFIED:20150531T202358Z
UID:8949-1433667600-1433689200@playpittsburgh.com
SUMMARY:Triple B Farms Strawberry Festival
DESCRIPTION:3 Weekends of Fun!\nJune 6/7\nJune 13/14\nJune 20/21 \n$6 per person includes Play all Day Festival Activities\nFarm Animals\, Bee Barn\, Education Acres\n2 Giant Slides\, Rope Maze\, & NEW Tire Mountain\nFarm Playground\, Hayrides\, Visit Strawberry Girl \nFood Barn OPEN: 9am-Noon Strawberry Pancake Breakfast\n10am-3pm Lunch Items\, Strawberry Desserts
URL:https://playpittsburgh.com/event/triple-b-farms-strawberry-festival-2/2015-06-07/
LOCATION:Triple B Farms\, 823 Berry Ln\, Monongahela\, PA\, 15063\, United States
GEO:40.227675;-79.946589
X-APPLE-STRUCTURED-LOCATION;VALUE=URI;X-ADDRESS=Triple B Farms 823 Berry Ln Monongahela PA 15063 United States;X-APPLE-RADIUS=500;X-TITLE=823 Berry Ln:geo:-79.946589,40.227675
END:VEVENT
END:VCALENDAR