BEGIN:VCALENDAR
VERSION:2.0
PRODID:-//Play Pittsburgh - ECPv6.15.20//NONSGML v1.0//EN
CALSCALE:GREGORIAN
METHOD:PUBLISH
X-ORIGINAL-URL:https://playpittsburgh.com
X-WR-CALDESC:Events for Play Pittsburgh
REFRESH-INTERVAL;VALUE=DURATION:PT1H
X-Robots-Tag:noindex
X-PUBLISHED-TTL:PT1H
BEGIN:VTIMEZONE
TZID:America/New_York
BEGIN:DAYLIGHT
TZOFFSETFROM:-0500
TZOFFSETTO:-0400
TZNAME:EDT
DTSTART:20140309T070000
END:DAYLIGHT
BEGIN:STANDARD
TZOFFSETFROM:-0400
TZOFFSETTO:-0500
TZNAME:EST
DTSTART:20141102T060000
END:STANDARD
BEGIN:DAYLIGHT
TZOFFSETFROM:-0500
TZOFFSETTO:-0400
TZNAME:EDT
DTSTART:20150308T070000
END:DAYLIGHT
BEGIN:STANDARD
TZOFFSETFROM:-0400
TZOFFSETTO:-0500
TZNAME:EST
DTSTART:20151101T060000
END:STANDARD
BEGIN:DAYLIGHT
TZOFFSETFROM:-0500
TZOFFSETTO:-0400
TZNAME:EDT
DTSTART:20160313T070000
END:DAYLIGHT
BEGIN:STANDARD
TZOFFSETFROM:-0400
TZOFFSETTO:-0500
TZNAME:EST
DTSTART:20161106T060000
END:STANDARD
END:VTIMEZONE
BEGIN:VEVENT
DTSTART;TZID=America/New_York:20150613T100000
DTEND;TZID=America/New_York:20150613T160000
DTSTAMP:20260424T082037
CREATED:20150530T005433Z
LAST-MODIFIED:20150530T005433Z
UID:8785-1434189600-1434211200@playpittsburgh.com
SUMMARY:Trax Farms Strawberry Festival
DESCRIPTION:2015 Trax Farm Strawberry Festival is on Saturday\, June 13th & Sunday\, June 14th. Both days are filled with delicious strawberry treats\, children’s activities and more. Event hours are 10:00 am – 4:00 pm. \nStrawberry Festival Activities \n\nGarden Craft\nBounce House\nRainbow Express Train Rides\nStrawberry Festival Live Entertainment\nSaturday – The Right Turn Clyde Band\nSunday – See the Summer\n\nStrawberry Festival Menu \n\nHam BBQ\nHot Dog\nSoft Pretzel\nBelgium Waffle\nStrawberry Shortcake\nStrawberry Sundae\nBowl of Strawberries\nHand Dipped Ice Cream\nStrawberry Slushie\nMilkshakes – Strawberry\, Chocolate & Vanilla\nChocolate Covered Strawberries\nPop\nWater\nCapri Sun\nCoffee
URL:https://playpittsburgh.com/event/trax-farms-strawberry-festival/2015-06-13/
LOCATION:Trax Farm\, 528 Trax Rd\, Finleyville \, PA\, 15332\, United States
GEO:40.2765472;-80.0307832
X-APPLE-STRUCTURED-LOCATION;VALUE=URI;X-ADDRESS=Trax Farm 528 Trax Rd Finleyville  PA 15332 United States;X-APPLE-RADIUS=500;X-TITLE=528 Trax Rd:geo:-80.0307832,40.2765472
END:VEVENT
END:VCALENDAR