BEGIN:VCALENDAR
VERSION:2.0
PRODID:-//Play Pittsburgh - ECPv6.15.20//NONSGML v1.0//EN
CALSCALE:GREGORIAN
METHOD:PUBLISH
X-WR-CALNAME:Play Pittsburgh
X-ORIGINAL-URL:https://playpittsburgh.com
X-WR-CALDESC:Events for Play Pittsburgh
REFRESH-INTERVAL;VALUE=DURATION:PT1H
X-Robots-Tag:noindex
X-PUBLISHED-TTL:PT1H
BEGIN:VTIMEZONE
TZID:America/New_York
BEGIN:DAYLIGHT
TZOFFSETFROM:-0500
TZOFFSETTO:-0400
TZNAME:EDT
DTSTART:20140309T070000
END:DAYLIGHT
BEGIN:STANDARD
TZOFFSETFROM:-0400
TZOFFSETTO:-0500
TZNAME:EST
DTSTART:20141102T060000
END:STANDARD
BEGIN:DAYLIGHT
TZOFFSETFROM:-0500
TZOFFSETTO:-0400
TZNAME:EDT
DTSTART:20150308T070000
END:DAYLIGHT
BEGIN:STANDARD
TZOFFSETFROM:-0400
TZOFFSETTO:-0500
TZNAME:EST
DTSTART:20151101T060000
END:STANDARD
BEGIN:DAYLIGHT
TZOFFSETFROM:-0500
TZOFFSETTO:-0400
TZNAME:EDT
DTSTART:20160313T070000
END:DAYLIGHT
BEGIN:STANDARD
TZOFFSETFROM:-0400
TZOFFSETTO:-0500
TZNAME:EST
DTSTART:20161106T060000
END:STANDARD
END:VTIMEZONE
BEGIN:VEVENT
DTSTART;TZID=America/New_York:20150605T120000
DTEND;TZID=America/New_York:20150605T210000
DTSTAMP:20260424T063409
CREATED:20150529T193520Z
LAST-MODIFIED:20150529T193520Z
UID:8651-1433505600-1433538000@playpittsburgh.com
SUMMARY:Three Rivers Arts Festival
DESCRIPTION:The Dollar Bank Three Rivers Arts Festival\, a production of the Pittsburgh Cultural Trust\, is a celebration of the arts in downtown Pittsburgh unlike any other in the nation.  Each of its world-class\, multi-disciplinary performing and visual arts attractions is free to attend and open to the public! \nThe Festival begins on the first Friday in June and takes place at the confluence of Pittsburgh’s famed three rivers in Point State Park\, throughout picturesque Gateway Center\, and in the city’s world-renowned Cultural District.
URL:https://playpittsburgh.com/event/three-rivers-arts-festival-2/2015-06-05/
LOCATION:Downtown Pittsburgh
END:VEVENT
END:VCALENDAR