BEGIN:VCALENDAR
VERSION:2.0
PRODID:-//Play Pittsburgh - ECPv6.15.20//NONSGML v1.0//EN
CALSCALE:GREGORIAN
METHOD:PUBLISH
X-ORIGINAL-URL:https://playpittsburgh.com
X-WR-CALDESC:Events for Play Pittsburgh
REFRESH-INTERVAL;VALUE=DURATION:PT1H
X-Robots-Tag:noindex
X-PUBLISHED-TTL:PT1H
BEGIN:VTIMEZONE
TZID:America/New_York
BEGIN:DAYLIGHT
TZOFFSETFROM:-0500
TZOFFSETTO:-0400
TZNAME:EDT
DTSTART:20130310T070000
END:DAYLIGHT
BEGIN:STANDARD
TZOFFSETFROM:-0400
TZOFFSETTO:-0500
TZNAME:EST
DTSTART:20131103T060000
END:STANDARD
BEGIN:DAYLIGHT
TZOFFSETFROM:-0500
TZOFFSETTO:-0400
TZNAME:EDT
DTSTART:20140309T070000
END:DAYLIGHT
BEGIN:STANDARD
TZOFFSETFROM:-0400
TZOFFSETTO:-0500
TZNAME:EST
DTSTART:20141102T060000
END:STANDARD
BEGIN:DAYLIGHT
TZOFFSETFROM:-0500
TZOFFSETTO:-0400
TZNAME:EDT
DTSTART:20150308T070000
END:DAYLIGHT
BEGIN:STANDARD
TZOFFSETFROM:-0400
TZOFFSETTO:-0500
TZNAME:EST
DTSTART:20151101T060000
END:STANDARD
END:VTIMEZONE
BEGIN:VEVENT
DTSTART;TZID=America/New_York:20140602T103000
DTEND;TZID=America/New_York:20140602T111500
DTSTAMP:20260422T092547
CREATED:20140522T195706Z
LAST-MODIFIED:20140522T195706Z
UID:1539-1401705000-1401707700@playpittsburgh.com
SUMMARY:Story Time @ Soergel Orchards
DESCRIPTION:Join Soergel’s for a special story time! Participants will meet outside the Market’s main entrance.
URL:https://playpittsburgh.com/event/story-time-soergel-orchards/2014-06-02/
LOCATION:Soergel Orchards\, 2573 Brandt School Road\, Wexford\, PA\, 15090\, United States
GEO:40.612184;-80.092151
X-APPLE-STRUCTURED-LOCATION;VALUE=URI;X-ADDRESS=Soergel Orchards 2573 Brandt School Road Wexford PA 15090 United States;X-APPLE-RADIUS=500;X-TITLE=2573 Brandt School Road:geo:-80.092151,40.612184
END:VEVENT
END:VCALENDAR