BEGIN:VCALENDAR
VERSION:2.0
PRODID:-//Play Pittsburgh - ECPv6.15.20//NONSGML v1.0//EN
CALSCALE:GREGORIAN
METHOD:PUBLISH
X-WR-CALNAME:Play Pittsburgh
X-ORIGINAL-URL:https://playpittsburgh.com
X-WR-CALDESC:Events for Play Pittsburgh
REFRESH-INTERVAL;VALUE=DURATION:PT1H
X-Robots-Tag:noindex
X-PUBLISHED-TTL:PT1H
BEGIN:VTIMEZONE
TZID:America/New_York
BEGIN:DAYLIGHT
TZOFFSETFROM:-0500
TZOFFSETTO:-0400
TZNAME:EDT
DTSTART:20130310T070000
END:DAYLIGHT
BEGIN:STANDARD
TZOFFSETFROM:-0400
TZOFFSETTO:-0500
TZNAME:EST
DTSTART:20131103T060000
END:STANDARD
BEGIN:DAYLIGHT
TZOFFSETFROM:-0500
TZOFFSETTO:-0400
TZNAME:EDT
DTSTART:20140309T070000
END:DAYLIGHT
BEGIN:STANDARD
TZOFFSETFROM:-0400
TZOFFSETTO:-0500
TZNAME:EST
DTSTART:20141102T060000
END:STANDARD
BEGIN:DAYLIGHT
TZOFFSETFROM:-0500
TZOFFSETTO:-0400
TZNAME:EDT
DTSTART:20150308T070000
END:DAYLIGHT
BEGIN:STANDARD
TZOFFSETFROM:-0400
TZOFFSETTO:-0500
TZNAME:EST
DTSTART:20151101T060000
END:STANDARD
END:VTIMEZONE
BEGIN:VEVENT
DTSTART;TZID=America/New_York:20140923T110000
DTEND;TZID=America/New_York:20140923T113000
DTSTAMP:20260422T030138
CREATED:20140918T071613Z
LAST-MODIFIED:20140918T071613Z
UID:3866-1411470000-1411471800@playpittsburgh.com
SUMMARY:Story Time @ Barnes & Noble (Waterfront)
DESCRIPTION:Story times include songs\, snacks\, stories and crafts. Each week they introduce old and new characters to delight even the smallest readers. \n\nSeptember 23rd: Don’t Let the Crayons Quit! Storytime\nSeptember 30th: The Day the Crayons Quit\nOctober 7th: The Book with No Pictures\nOctober 21st: Horton and the Kwuggerbug and more Lost Stories
URL:https://playpittsburgh.com/event/story-time-barnes-noble-waterfront/2014-09-23/
LOCATION:Barnes & Noble Waterfront\, 100 West Bridge Street\, Pittsburgh\, PA\, 15120\, United States
CATEGORIES:Free
GEO:40.4040168;-79.918751
X-APPLE-STRUCTURED-LOCATION;VALUE=URI;X-ADDRESS=Barnes & Noble Waterfront 100 West Bridge Street Pittsburgh PA 15120 United States;X-APPLE-RADIUS=500;X-TITLE=100 West Bridge Street:geo:-79.918751,40.4040168
END:VEVENT
END:VCALENDAR