BEGIN:VCALENDAR
VERSION:2.0
PRODID:-//Play Pittsburgh - ECPv6.15.20//NONSGML v1.0//EN
CALSCALE:GREGORIAN
METHOD:PUBLISH
X-ORIGINAL-URL:https://playpittsburgh.com
X-WR-CALDESC:Events for Play Pittsburgh
REFRESH-INTERVAL;VALUE=DURATION:PT1H
X-Robots-Tag:noindex
X-PUBLISHED-TTL:PT1H
BEGIN:VTIMEZONE
TZID:America/New_York
BEGIN:DAYLIGHT
TZOFFSETFROM:-0500
TZOFFSETTO:-0400
TZNAME:EDT
DTSTART:20130310T070000
END:DAYLIGHT
BEGIN:STANDARD
TZOFFSETFROM:-0400
TZOFFSETTO:-0500
TZNAME:EST
DTSTART:20131103T060000
END:STANDARD
BEGIN:DAYLIGHT
TZOFFSETFROM:-0500
TZOFFSETTO:-0400
TZNAME:EDT
DTSTART:20140309T070000
END:DAYLIGHT
BEGIN:STANDARD
TZOFFSETFROM:-0400
TZOFFSETTO:-0500
TZNAME:EST
DTSTART:20141102T060000
END:STANDARD
BEGIN:DAYLIGHT
TZOFFSETFROM:-0500
TZOFFSETTO:-0400
TZNAME:EDT
DTSTART:20150308T070000
END:DAYLIGHT
BEGIN:STANDARD
TZOFFSETFROM:-0400
TZOFFSETTO:-0500
TZNAME:EST
DTSTART:20151101T060000
END:STANDARD
END:VTIMEZONE
BEGIN:VEVENT
DTSTART;TZID=America/New_York:20140918T110000
DTEND;TZID=America/New_York:20140918T113000
DTSTAMP:20260422T162904
CREATED:20140918T062217Z
LAST-MODIFIED:20140918T062217Z
UID:6777-1411038000-1411039800@playpittsburgh.com
SUMMARY:Story Time @ Barnes & Noble (Settlers Ridge)
DESCRIPTION:Story times include songs\, snacks\, stories and crafts. Each week they introduce old and new characters to delight even the smallest readers. \n\nSeptember 18th: Penguin and Pumpkin\nSeptember 25th: Leonardo\, the Terrible Monster\nOctober 2nd: Pumpkin Time!\nOctober 9th: Skeleton for Dinner\nOctober 16th: The Ghosts Go Haunting\nOctober 23rd: Creepy Carrots!\nOctober 30th: Crankenstein\nNovember 6th\nNovember 13th\nNovember 20th\nNovember 27th\nDecember 4th\nDecember 12th
URL:https://playpittsburgh.com/event/story-time-barnes-noble-settlers-ridge-2-2/2014-09-18/
LOCATION:Barnes & Noble Settlers Ridge\, 800 Settlers Ridge Center Drive\, Pittsburgh\, PA\, 15205\, United States
CATEGORIES:Free
GEO:40.4385586;-80.1463994
X-APPLE-STRUCTURED-LOCATION;VALUE=URI;X-ADDRESS=Barnes & Noble Settlers Ridge 800 Settlers Ridge Center Drive Pittsburgh PA 15205 United States;X-APPLE-RADIUS=500;X-TITLE=800 Settlers Ridge Center Drive:geo:-80.1463994,40.4385586
END:VEVENT
END:VCALENDAR