BEGIN:VCALENDAR
VERSION:2.0
PRODID:-//Play Pittsburgh - ECPv6.15.20//NONSGML v1.0//EN
CALSCALE:GREGORIAN
METHOD:PUBLISH
X-ORIGINAL-URL:https://playpittsburgh.com
X-WR-CALDESC:Events for Play Pittsburgh
REFRESH-INTERVAL;VALUE=DURATION:PT1H
X-Robots-Tag:noindex
X-PUBLISHED-TTL:PT1H
BEGIN:VTIMEZONE
TZID:America/New_York
BEGIN:DAYLIGHT
TZOFFSETFROM:-0500
TZOFFSETTO:-0400
TZNAME:EDT
DTSTART:20130310T070000
END:DAYLIGHT
BEGIN:STANDARD
TZOFFSETFROM:-0400
TZOFFSETTO:-0500
TZNAME:EST
DTSTART:20131103T060000
END:STANDARD
BEGIN:DAYLIGHT
TZOFFSETFROM:-0500
TZOFFSETTO:-0400
TZNAME:EDT
DTSTART:20140309T070000
END:DAYLIGHT
BEGIN:STANDARD
TZOFFSETFROM:-0400
TZOFFSETTO:-0500
TZNAME:EST
DTSTART:20141102T060000
END:STANDARD
BEGIN:DAYLIGHT
TZOFFSETFROM:-0500
TZOFFSETTO:-0400
TZNAME:EDT
DTSTART:20150308T070000
END:DAYLIGHT
BEGIN:STANDARD
TZOFFSETFROM:-0400
TZOFFSETTO:-0500
TZNAME:EST
DTSTART:20151101T060000
END:STANDARD
END:VTIMEZONE
BEGIN:VEVENT
DTSTART;TZID=America/New_York:20140921T110000
DTEND;TZID=America/New_York:20140921T113000
DTSTAMP:20260422T033837
CREATED:20140918T054151Z
LAST-MODIFIED:20140918T054151Z
UID:3827-1411297200-1411299000@playpittsburgh.com
SUMMARY:Story Time @ Barnes & Noble (Greensburg)
DESCRIPTION:Story times include songs\, snacks\, stories and crafts. Each week they introduce old and new characters to delight even the smallest readers. \n\nSeptember 20th: Curious George\nSeptember 27th: The Elf on the Shelf A Birthday Tradition\nOctober 4th: The Book with No Pictures\nOctober 11th: Star Wars The Adventures of Luke Skywalker\, Jedi Knight\nOctober 18th: Fall Storytime\nOctober 25th: Click\, Clack\, Boo! A Tricky Treat
URL:https://playpittsburgh.com/event/story-time-barnes-noble-greensburg-2/2014-09-21/
LOCATION:Barnes & Noble Greensburg\, 5155 Route 30\, Greensburg\, PA\, 15601\, United States
CATEGORIES:Free
GEO:40.3032755;-79.498194
X-APPLE-STRUCTURED-LOCATION;VALUE=URI;X-ADDRESS=Barnes & Noble Greensburg 5155 Route 30 Greensburg PA 15601 United States;X-APPLE-RADIUS=500;X-TITLE=5155 Route 30:geo:-79.498194,40.3032755
END:VEVENT
END:VCALENDAR