BEGIN:VCALENDAR
VERSION:2.0
PRODID:-//Play Pittsburgh - ECPv6.15.20//NONSGML v1.0//EN
CALSCALE:GREGORIAN
METHOD:PUBLISH
X-WR-CALNAME:Play Pittsburgh
X-ORIGINAL-URL:https://playpittsburgh.com
X-WR-CALDESC:Events for Play Pittsburgh
REFRESH-INTERVAL;VALUE=DURATION:PT1H
X-Robots-Tag:noindex
X-PUBLISHED-TTL:PT1H
BEGIN:VTIMEZONE
TZID:America/New_York
BEGIN:DAYLIGHT
TZOFFSETFROM:-0500
TZOFFSETTO:-0400
TZNAME:EDT
DTSTART:20130310T070000
END:DAYLIGHT
BEGIN:STANDARD
TZOFFSETFROM:-0400
TZOFFSETTO:-0500
TZNAME:EST
DTSTART:20131103T060000
END:STANDARD
BEGIN:DAYLIGHT
TZOFFSETFROM:-0500
TZOFFSETTO:-0400
TZNAME:EDT
DTSTART:20140309T070000
END:DAYLIGHT
BEGIN:STANDARD
TZOFFSETFROM:-0400
TZOFFSETTO:-0500
TZNAME:EST
DTSTART:20141102T060000
END:STANDARD
BEGIN:DAYLIGHT
TZOFFSETFROM:-0500
TZOFFSETTO:-0400
TZNAME:EDT
DTSTART:20150308T070000
END:DAYLIGHT
BEGIN:STANDARD
TZOFFSETFROM:-0400
TZOFFSETTO:-0500
TZNAME:EST
DTSTART:20151101T060000
END:STANDARD
END:VTIMEZONE
BEGIN:VEVENT
DTSTART;TZID=America/New_York:20141006T103000
DTEND;TZID=America/New_York:20141006T111500
DTSTAMP:20260423T102242
CREATED:20141005T210049Z
LAST-MODIFIED:20141005T210049Z
UID:3989-1412591400-1412594100@playpittsburgh.com
SUMMARY:Story Time at Soergel Orchards
DESCRIPTION:Each week guests will travel to a new location on the farm for a special story time featuring a farm-related children’s book! The group meets in front of the market and travels (sometimes by tractor ride!) to a special location on the farm.
URL:https://playpittsburgh.com/event/story-time-at-soergel-orchards/2014-10-06/
LOCATION:Soergel Orchards\, 2573 Brandt School Road\, Wexford\, PA\, 15090\, United States
CATEGORIES:Free
ATTACH;FMTTYPE=image/jpeg:https://playpittsburgh.com/wp-content/uploads/2014/04/IMG_2021.jpg
GEO:40.612184;-80.092151
X-APPLE-STRUCTURED-LOCATION;VALUE=URI;X-ADDRESS=Soergel Orchards 2573 Brandt School Road Wexford PA 15090 United States;X-APPLE-RADIUS=500;X-TITLE=2573 Brandt School Road:geo:-80.092151,40.612184
END:VEVENT
END:VCALENDAR