BEGIN:VCALENDAR
VERSION:2.0
PRODID:-//Play Pittsburgh - ECPv6.15.20//NONSGML v1.0//EN
CALSCALE:GREGORIAN
METHOD:PUBLISH
X-WR-CALNAME:Play Pittsburgh
X-ORIGINAL-URL:https://playpittsburgh.com
X-WR-CALDESC:Events for Play Pittsburgh
REFRESH-INTERVAL;VALUE=DURATION:PT1H
X-Robots-Tag:noindex
X-PUBLISHED-TTL:PT1H
BEGIN:VTIMEZONE
TZID:America/New_York
BEGIN:DAYLIGHT
TZOFFSETFROM:-0500
TZOFFSETTO:-0400
TZNAME:EDT
DTSTART:20140309T070000
END:DAYLIGHT
BEGIN:STANDARD
TZOFFSETFROM:-0400
TZOFFSETTO:-0500
TZNAME:EST
DTSTART:20141102T060000
END:STANDARD
BEGIN:DAYLIGHT
TZOFFSETFROM:-0500
TZOFFSETTO:-0400
TZNAME:EDT
DTSTART:20150308T070000
END:DAYLIGHT
BEGIN:STANDARD
TZOFFSETFROM:-0400
TZOFFSETTO:-0500
TZNAME:EST
DTSTART:20151101T060000
END:STANDARD
BEGIN:DAYLIGHT
TZOFFSETFROM:-0500
TZOFFSETTO:-0400
TZNAME:EDT
DTSTART:20160313T070000
END:DAYLIGHT
BEGIN:STANDARD
TZOFFSETFROM:-0400
TZOFFSETTO:-0500
TZNAME:EST
DTSTART:20161106T060000
END:STANDARD
END:VTIMEZONE
BEGIN:VEVENT
DTSTART;TZID=America/New_York:20150530T103000
DTEND;TZID=America/New_York:20150530T113000
DTSTAMP:20260422T060044
CREATED:20150328T221509Z
LAST-MODIFIED:20150328T221509Z
UID:8596-1432981800-1432985400@playpittsburgh.com
SUMMARY:Story Time at Carnegie Music Hall of Homestead
DESCRIPTION:Join your friends for two stories and a craft in the Children’s room!
URL:https://playpittsburgh.com/event/story-time-at-carnegie-music-hall-of-homestead/2015-05-30/
LOCATION:Carnegie Music Hall of Homestead\, 510 E 10th Ave\, Homestead\, PA\, 15120\, United States
GEO:40.4070139;-79.902948
X-APPLE-STRUCTURED-LOCATION;VALUE=URI;X-ADDRESS=Carnegie Music Hall of Homestead 510 E 10th Ave Homestead PA 15120 United States;X-APPLE-RADIUS=500;X-TITLE=510 E 10th Ave:geo:-79.902948,40.4070139
END:VEVENT
BEGIN:VEVENT
DTSTART;TZID=America/New_York:20150523T103000
DTEND;TZID=America/New_York:20150523T113000
DTSTAMP:20260422T060044
CREATED:20150328T221509Z
LAST-MODIFIED:20150328T221509Z
UID:8595-1432377000-1432380600@playpittsburgh.com
SUMMARY:Story Time at Carnegie Music Hall of Homestead
DESCRIPTION:Join your friends for two stories and a craft in the Children’s room!
URL:https://playpittsburgh.com/event/story-time-at-carnegie-music-hall-of-homestead/2015-05-23/
LOCATION:Carnegie Music Hall of Homestead\, 510 E 10th Ave\, Homestead\, PA\, 15120\, United States
GEO:40.4070139;-79.902948
X-APPLE-STRUCTURED-LOCATION;VALUE=URI;X-ADDRESS=Carnegie Music Hall of Homestead 510 E 10th Ave Homestead PA 15120 United States;X-APPLE-RADIUS=500;X-TITLE=510 E 10th Ave:geo:-79.902948,40.4070139
END:VEVENT
BEGIN:VEVENT
DTSTART;TZID=America/New_York:20150516T103000
DTEND;TZID=America/New_York:20150516T113000
DTSTAMP:20260422T060044
CREATED:20150328T221509Z
LAST-MODIFIED:20150328T221509Z
UID:8594-1431772200-1431775800@playpittsburgh.com
SUMMARY:Story Time at Carnegie Music Hall of Homestead
DESCRIPTION:Join your friends for two stories and a craft in the Children’s room!
URL:https://playpittsburgh.com/event/story-time-at-carnegie-music-hall-of-homestead/2015-05-16/
LOCATION:Carnegie Music Hall of Homestead\, 510 E 10th Ave\, Homestead\, PA\, 15120\, United States
GEO:40.4070139;-79.902948
X-APPLE-STRUCTURED-LOCATION;VALUE=URI;X-ADDRESS=Carnegie Music Hall of Homestead 510 E 10th Ave Homestead PA 15120 United States;X-APPLE-RADIUS=500;X-TITLE=510 E 10th Ave:geo:-79.902948,40.4070139
END:VEVENT
BEGIN:VEVENT
DTSTART;TZID=America/New_York:20150509T103000
DTEND;TZID=America/New_York:20150509T113000
DTSTAMP:20260422T060044
CREATED:20150328T221509Z
LAST-MODIFIED:20150328T221509Z
UID:8593-1431167400-1431171000@playpittsburgh.com
SUMMARY:Story Time at Carnegie Music Hall of Homestead
DESCRIPTION:Join your friends for two stories and a craft in the Children’s room!
URL:https://playpittsburgh.com/event/story-time-at-carnegie-music-hall-of-homestead/2015-05-09/
LOCATION:Carnegie Music Hall of Homestead\, 510 E 10th Ave\, Homestead\, PA\, 15120\, United States
GEO:40.4070139;-79.902948
X-APPLE-STRUCTURED-LOCATION;VALUE=URI;X-ADDRESS=Carnegie Music Hall of Homestead 510 E 10th Ave Homestead PA 15120 United States;X-APPLE-RADIUS=500;X-TITLE=510 E 10th Ave:geo:-79.902948,40.4070139
END:VEVENT
BEGIN:VEVENT
DTSTART;TZID=America/New_York:20150502T103000
DTEND;TZID=America/New_York:20150502T113000
DTSTAMP:20260422T060044
CREATED:20150328T221509Z
LAST-MODIFIED:20150328T221509Z
UID:8592-1430562600-1430566200@playpittsburgh.com
SUMMARY:Story Time at Carnegie Music Hall of Homestead
DESCRIPTION:Join your friends for two stories and a craft in the Children’s room!
URL:https://playpittsburgh.com/event/story-time-at-carnegie-music-hall-of-homestead/2015-05-02/
LOCATION:Carnegie Music Hall of Homestead\, 510 E 10th Ave\, Homestead\, PA\, 15120\, United States
GEO:40.4070139;-79.902948
X-APPLE-STRUCTURED-LOCATION;VALUE=URI;X-ADDRESS=Carnegie Music Hall of Homestead 510 E 10th Ave Homestead PA 15120 United States;X-APPLE-RADIUS=500;X-TITLE=510 E 10th Ave:geo:-79.902948,40.4070139
END:VEVENT
BEGIN:VEVENT
DTSTART;TZID=America/New_York:20150425T103000
DTEND;TZID=America/New_York:20150425T113000
DTSTAMP:20260422T060044
CREATED:20150328T221509Z
LAST-MODIFIED:20150328T221509Z
UID:8591-1429957800-1429961400@playpittsburgh.com
SUMMARY:Story Time at Carnegie Music Hall of Homestead
DESCRIPTION:Join your friends for two stories and a craft in the Children’s room!
URL:https://playpittsburgh.com/event/story-time-at-carnegie-music-hall-of-homestead/2015-04-25/
LOCATION:Carnegie Music Hall of Homestead\, 510 E 10th Ave\, Homestead\, PA\, 15120\, United States
GEO:40.4070139;-79.902948
X-APPLE-STRUCTURED-LOCATION;VALUE=URI;X-ADDRESS=Carnegie Music Hall of Homestead 510 E 10th Ave Homestead PA 15120 United States;X-APPLE-RADIUS=500;X-TITLE=510 E 10th Ave:geo:-79.902948,40.4070139
END:VEVENT
BEGIN:VEVENT
DTSTART;TZID=America/New_York:20150418T103000
DTEND;TZID=America/New_York:20150418T113000
DTSTAMP:20260422T060044
CREATED:20150328T221509Z
LAST-MODIFIED:20150328T221509Z
UID:8590-1429353000-1429356600@playpittsburgh.com
SUMMARY:Story Time at Carnegie Music Hall of Homestead
DESCRIPTION:Join your friends for two stories and a craft in the Children’s room!
URL:https://playpittsburgh.com/event/story-time-at-carnegie-music-hall-of-homestead/2015-04-18/
LOCATION:Carnegie Music Hall of Homestead\, 510 E 10th Ave\, Homestead\, PA\, 15120\, United States
GEO:40.4070139;-79.902948
X-APPLE-STRUCTURED-LOCATION;VALUE=URI;X-ADDRESS=Carnegie Music Hall of Homestead 510 E 10th Ave Homestead PA 15120 United States;X-APPLE-RADIUS=500;X-TITLE=510 E 10th Ave:geo:-79.902948,40.4070139
END:VEVENT
BEGIN:VEVENT
DTSTART;TZID=America/New_York:20150411T103000
DTEND;TZID=America/New_York:20150411T113000
DTSTAMP:20260422T060044
CREATED:20150328T221509Z
LAST-MODIFIED:20150328T221509Z
UID:8589-1428748200-1428751800@playpittsburgh.com
SUMMARY:Story Time at Carnegie Music Hall of Homestead
DESCRIPTION:Join your friends for two stories and a craft in the Children’s room!
URL:https://playpittsburgh.com/event/story-time-at-carnegie-music-hall-of-homestead/2015-04-11/
LOCATION:Carnegie Music Hall of Homestead\, 510 E 10th Ave\, Homestead\, PA\, 15120\, United States
GEO:40.4070139;-79.902948
X-APPLE-STRUCTURED-LOCATION;VALUE=URI;X-ADDRESS=Carnegie Music Hall of Homestead 510 E 10th Ave Homestead PA 15120 United States;X-APPLE-RADIUS=500;X-TITLE=510 E 10th Ave:geo:-79.902948,40.4070139
END:VEVENT
BEGIN:VEVENT
DTSTART;TZID=America/New_York:20150404T103000
DTEND;TZID=America/New_York:20150404T113000
DTSTAMP:20260422T060044
CREATED:20150328T221509Z
LAST-MODIFIED:20150328T221509Z
UID:5924-1428143400-1428147000@playpittsburgh.com
SUMMARY:Story Time at Carnegie Music Hall of Homestead
DESCRIPTION:Join your friends for two stories and a craft in the Children’s room!
URL:https://playpittsburgh.com/event/story-time-at-carnegie-music-hall-of-homestead/2015-04-04/
LOCATION:Carnegie Music Hall of Homestead\, 510 E 10th Ave\, Homestead\, PA\, 15120\, United States
GEO:40.4070139;-79.902948
X-APPLE-STRUCTURED-LOCATION;VALUE=URI;X-ADDRESS=Carnegie Music Hall of Homestead 510 E 10th Ave Homestead PA 15120 United States;X-APPLE-RADIUS=500;X-TITLE=510 E 10th Ave:geo:-79.902948,40.4070139
END:VEVENT
END:VCALENDAR