BEGIN:VCALENDAR
VERSION:2.0
PRODID:-//Play Pittsburgh - ECPv6.15.20//NONSGML v1.0//EN
CALSCALE:GREGORIAN
METHOD:PUBLISH
X-WR-CALNAME:Play Pittsburgh
X-ORIGINAL-URL:https://playpittsburgh.com
X-WR-CALDESC:Events for Play Pittsburgh
REFRESH-INTERVAL;VALUE=DURATION:PT1H
X-Robots-Tag:noindex
X-PUBLISHED-TTL:PT1H
BEGIN:VTIMEZONE
TZID:America/New_York
BEGIN:DAYLIGHT
TZOFFSETFROM:-0500
TZOFFSETTO:-0400
TZNAME:EDT
DTSTART:20130310T070000
END:DAYLIGHT
BEGIN:STANDARD
TZOFFSETFROM:-0400
TZOFFSETTO:-0500
TZNAME:EST
DTSTART:20131103T060000
END:STANDARD
BEGIN:DAYLIGHT
TZOFFSETFROM:-0500
TZOFFSETTO:-0400
TZNAME:EDT
DTSTART:20140309T070000
END:DAYLIGHT
BEGIN:STANDARD
TZOFFSETFROM:-0400
TZOFFSETTO:-0500
TZNAME:EST
DTSTART:20141102T060000
END:STANDARD
BEGIN:DAYLIGHT
TZOFFSETFROM:-0500
TZOFFSETTO:-0400
TZNAME:EDT
DTSTART:20150308T070000
END:DAYLIGHT
BEGIN:STANDARD
TZOFFSETFROM:-0400
TZOFFSETTO:-0500
TZNAME:EST
DTSTART:20151101T060000
END:STANDARD
END:VTIMEZONE
BEGIN:VEVENT
DTSTART;TZID=America/New_York:20140627T170000
DTEND;TZID=America/New_York:20140627T200000
DTSTAMP:20260421T223504
CREATED:20140625T044117Z
LAST-MODIFIED:20140626T145124Z
UID:2058-1403888400-1403899200@playpittsburgh.com
SUMMARY:Starlite Car Cruise & Community Event
DESCRIPTION:The largest weekly car cruise in the Western Pennsylvania area! Stop by for FREE face painting and a bouncy house! The Wexford Starlite Car Cruise is hosted by North Way Christian Community. It is a family-friendly\, community event where car enthusiasts of all types\, spectators and families gather for a fun\, relaxing and entertaining summer evening. The cruise is FREE and is entirely supported by our dedicated volunteer staff.
URL:https://playpittsburgh.com/event/starlite-car-cruise-community-event/2014-06-27/
LOCATION:Northway Church\, 12121 Perry Highway\, Wexford\, PA\, 15090\, United States
CATEGORIES:Free,Outdoor
GEO:40.634799;-80.062565
X-APPLE-STRUCTURED-LOCATION;VALUE=URI;X-ADDRESS=Northway Church 12121 Perry Highway Wexford PA 15090 United States;X-APPLE-RADIUS=500;X-TITLE=12121 Perry Highway:geo:-80.062565,40.634799
END:VEVENT
END:VCALENDAR