BEGIN:VCALENDAR
VERSION:2.0
PRODID:-//Play Pittsburgh - ECPv6.15.20//NONSGML v1.0//EN
CALSCALE:GREGORIAN
METHOD:PUBLISH
X-WR-CALNAME:Play Pittsburgh
X-ORIGINAL-URL:https://playpittsburgh.com
X-WR-CALDESC:Events for Play Pittsburgh
REFRESH-INTERVAL;VALUE=DURATION:PT1H
X-Robots-Tag:noindex
X-PUBLISHED-TTL:PT1H
BEGIN:VTIMEZONE
TZID:America/New_York
BEGIN:DAYLIGHT
TZOFFSETFROM:-0500
TZOFFSETTO:-0400
TZNAME:EDT
DTSTART:20150308T070000
END:DAYLIGHT
BEGIN:STANDARD
TZOFFSETFROM:-0400
TZOFFSETTO:-0500
TZNAME:EST
DTSTART:20151101T060000
END:STANDARD
BEGIN:DAYLIGHT
TZOFFSETFROM:-0500
TZOFFSETTO:-0400
TZNAME:EDT
DTSTART:20160313T070000
END:DAYLIGHT
BEGIN:STANDARD
TZOFFSETFROM:-0400
TZOFFSETTO:-0500
TZNAME:EST
DTSTART:20161106T060000
END:STANDARD
BEGIN:DAYLIGHT
TZOFFSETFROM:-0500
TZOFFSETTO:-0400
TZNAME:EDT
DTSTART:20170312T070000
END:DAYLIGHT
BEGIN:STANDARD
TZOFFSETFROM:-0400
TZOFFSETTO:-0500
TZNAME:EST
DTSTART:20171105T060000
END:STANDARD
END:VTIMEZONE
BEGIN:VEVENT
DTSTART;TZID=America/New_York:20160715T193000
DTEND;TZID=America/New_York:20160715T210000
DTSTAMP:20260424T063615
CREATED:20160715T024605Z
LAST-MODIFIED:20160715T024605Z
UID:9876-1468611000-1468616400@playpittsburgh.com
SUMMARY:South Park Free Summer Concert Series
DESCRIPTION:Free concerts at South Park’s Amphitheater \nJuly 15 @ 7:30 pm\nRandy Bachman\, founding member of The Guess Who and Bachman Turner Overdrive\, with special guest Bill Toms & Hard Rain\n(Rock/Blues) \nJuly 22 @ 7:30 pm\nSummer of Love Experience\, celebrating the songs of the Woodstock generation \nJuly 29 @ 7:30 pm\nThe Cactus Blossoms with special guest Molly Alphabet\n(Rockabilly/Country/Americana) \nAugust 5 @ 7:30 pm\nRuthie Foster with special guest Brooke Annibale\n(Blues/Folk) \nAugust 12 @ 7:30 pm\nJana Kramer with Special Guest Township Road\n(Country) \nAugust 19 @ 7:30 pm\nDuquesne University Tamburitzans\n(Eastern European Folk Music & Dance) \nAugust 26 @ 7:30pm\nThink Pink Floyd\n(Classic Rock) \nSeptember 2 @ 7:30 pm\nRiver City Brass Band\n(Classical/Pops/Jazz)
URL:https://playpittsburgh.com/event/south-park-free-summer-concert-series/2016-07-15/
LOCATION:South Park Amphitheater\, Buffalo Drive\, Library \, PA\, 15219\, United States
GEO:40.3053675;-79.9958723
X-APPLE-STRUCTURED-LOCATION;VALUE=URI;X-ADDRESS=South Park Amphitheater Buffalo Drive Library  PA 15219 United States;X-APPLE-RADIUS=500;X-TITLE=Buffalo Drive:geo:-79.9958723,40.3053675
END:VEVENT
END:VCALENDAR