BEGIN:VCALENDAR
VERSION:2.0
PRODID:-//Play Pittsburgh - ECPv6.15.20//NONSGML v1.0//EN
CALSCALE:GREGORIAN
METHOD:PUBLISH
X-WR-CALNAME:Play Pittsburgh
X-ORIGINAL-URL:https://playpittsburgh.com
X-WR-CALDESC:Events for Play Pittsburgh
REFRESH-INTERVAL;VALUE=DURATION:PT1H
X-Robots-Tag:noindex
X-PUBLISHED-TTL:PT1H
BEGIN:VTIMEZONE
TZID:America/New_York
BEGIN:DAYLIGHT
TZOFFSETFROM:-0500
TZOFFSETTO:-0400
TZNAME:EDT
DTSTART:20150308T070000
END:DAYLIGHT
BEGIN:STANDARD
TZOFFSETFROM:-0400
TZOFFSETTO:-0500
TZNAME:EST
DTSTART:20151101T060000
END:STANDARD
BEGIN:DAYLIGHT
TZOFFSETFROM:-0500
TZOFFSETTO:-0400
TZNAME:EDT
DTSTART:20160313T070000
END:DAYLIGHT
BEGIN:STANDARD
TZOFFSETFROM:-0400
TZOFFSETTO:-0500
TZNAME:EST
DTSTART:20161106T060000
END:STANDARD
BEGIN:DAYLIGHT
TZOFFSETFROM:-0500
TZOFFSETTO:-0400
TZNAME:EDT
DTSTART:20170312T070000
END:DAYLIGHT
BEGIN:STANDARD
TZOFFSETFROM:-0400
TZOFFSETTO:-0500
TZNAME:EST
DTSTART:20171105T060000
END:STANDARD
END:VTIMEZONE
BEGIN:VEVENT
DTSTART;TZID=America/New_York:20160831T121500
DTEND;TZID=America/New_York:20160831T130000
DTSTAMP:20260421T182037
CREATED:20160705T112002Z
LAST-MODIFIED:20160705T112002Z
UID:9606-1472645700-1472648400@playpittsburgh.com
SUMMARY:Solar Concert Series
DESCRIPTION:Enjoy free live music outside in the sunshine at Buhl Community Park at Allegheny Square. Bring your lunch and enjoy family-friendly concerts on a solar-powered sound system Wednesdays at 12:15 p.m. in July and August. This year’s lineup and links where you can learn more about each artist/band: \nJuly 6 – Truth and Rites – TnR is a Roots Reggae band based in Pittsburgh\nJuly 13 – Mike Why – Beatboxer\, vocalist\, and maker of funny sounds\nJuly 20 – City Dwelling Nature Seekers – City Dwelling Nature Seekers is a folk/rock band that has been performing locally and touring for the past 8 years\nJuly 27 – Meeting of Important People Acoustic! – Pittsburgh-based rock and roll band with a new album called Troika\nAugust 8 – SLB All Stars – Musicians from the Saturday Light Brigade playing your favorite songs\nAugust 10 – Lee Robinson and Iska – Exciting\, powerful musical journey through jazz styles of contemporary funk\, classical and original compositions.\nAugust 17 – Jakob’s Ferry Stragglers – The Jakob’s Ferry Stragglers draw freely from old-time\, bluegrass\, country\, jazz\, rockabilly and swing styles to create their tight\, high-energy string band music.\nAugust 24 – Heather Kropf – Pittsburgh-based artist Heather Kropf has forged a reputation as a talented\, dedicated songwriter and performer\, producing albums with attention to details that feature some of the city’s best players.\nAugust 31 – Ben Shannon – Ben Shannon is a performing songwriter in the American folk music tradition.
URL:https://playpittsburgh.com/event/solar-concert-series/2016-08-31/
LOCATION:Buhl Community Park\, 10 Children's Way\, Pittsburgh \, PA\, 15212
CATEGORIES:Free,Outdoor,Performing Arts
GEO:40.4527589;-80.0065519
X-APPLE-STRUCTURED-LOCATION;VALUE=URI;X-ADDRESS=Buhl Community Park 10 Children's Way Pittsburgh  PA 15212;X-APPLE-RADIUS=500;X-TITLE=10 Children's Way:geo:-80.0065519,40.4527589
END:VEVENT
BEGIN:VEVENT
DTSTART;TZID=America/New_York:20160824T121500
DTEND;TZID=America/New_York:20160824T130000
DTSTAMP:20260421T182037
CREATED:20160705T112002Z
LAST-MODIFIED:20160705T112002Z
UID:9605-1472040900-1472043600@playpittsburgh.com
SUMMARY:Solar Concert Series
DESCRIPTION:Enjoy free live music outside in the sunshine at Buhl Community Park at Allegheny Square. Bring your lunch and enjoy family-friendly concerts on a solar-powered sound system Wednesdays at 12:15 p.m. in July and August. This year’s lineup and links where you can learn more about each artist/band: \nJuly 6 – Truth and Rites – TnR is a Roots Reggae band based in Pittsburgh\nJuly 13 – Mike Why – Beatboxer\, vocalist\, and maker of funny sounds\nJuly 20 – City Dwelling Nature Seekers – City Dwelling Nature Seekers is a folk/rock band that has been performing locally and touring for the past 8 years\nJuly 27 – Meeting of Important People Acoustic! – Pittsburgh-based rock and roll band with a new album called Troika\nAugust 8 – SLB All Stars – Musicians from the Saturday Light Brigade playing your favorite songs\nAugust 10 – Lee Robinson and Iska – Exciting\, powerful musical journey through jazz styles of contemporary funk\, classical and original compositions.\nAugust 17 – Jakob’s Ferry Stragglers – The Jakob’s Ferry Stragglers draw freely from old-time\, bluegrass\, country\, jazz\, rockabilly and swing styles to create their tight\, high-energy string band music.\nAugust 24 – Heather Kropf – Pittsburgh-based artist Heather Kropf has forged a reputation as a talented\, dedicated songwriter and performer\, producing albums with attention to details that feature some of the city’s best players.\nAugust 31 – Ben Shannon – Ben Shannon is a performing songwriter in the American folk music tradition.
URL:https://playpittsburgh.com/event/solar-concert-series/2016-08-24/
LOCATION:Buhl Community Park\, 10 Children's Way\, Pittsburgh \, PA\, 15212
CATEGORIES:Free,Outdoor,Performing Arts
GEO:40.4527589;-80.0065519
X-APPLE-STRUCTURED-LOCATION;VALUE=URI;X-ADDRESS=Buhl Community Park 10 Children's Way Pittsburgh  PA 15212;X-APPLE-RADIUS=500;X-TITLE=10 Children's Way:geo:-80.0065519,40.4527589
END:VEVENT
BEGIN:VEVENT
DTSTART;TZID=America/New_York:20160817T121500
DTEND;TZID=America/New_York:20160817T130000
DTSTAMP:20260421T182037
CREATED:20160705T112002Z
LAST-MODIFIED:20160705T112002Z
UID:9604-1471436100-1471438800@playpittsburgh.com
SUMMARY:Solar Concert Series
DESCRIPTION:Enjoy free live music outside in the sunshine at Buhl Community Park at Allegheny Square. Bring your lunch and enjoy family-friendly concerts on a solar-powered sound system Wednesdays at 12:15 p.m. in July and August. This year’s lineup and links where you can learn more about each artist/band: \nJuly 6 – Truth and Rites – TnR is a Roots Reggae band based in Pittsburgh\nJuly 13 – Mike Why – Beatboxer\, vocalist\, and maker of funny sounds\nJuly 20 – City Dwelling Nature Seekers – City Dwelling Nature Seekers is a folk/rock band that has been performing locally and touring for the past 8 years\nJuly 27 – Meeting of Important People Acoustic! – Pittsburgh-based rock and roll band with a new album called Troika\nAugust 8 – SLB All Stars – Musicians from the Saturday Light Brigade playing your favorite songs\nAugust 10 – Lee Robinson and Iska – Exciting\, powerful musical journey through jazz styles of contemporary funk\, classical and original compositions.\nAugust 17 – Jakob’s Ferry Stragglers – The Jakob’s Ferry Stragglers draw freely from old-time\, bluegrass\, country\, jazz\, rockabilly and swing styles to create their tight\, high-energy string band music.\nAugust 24 – Heather Kropf – Pittsburgh-based artist Heather Kropf has forged a reputation as a talented\, dedicated songwriter and performer\, producing albums with attention to details that feature some of the city’s best players.\nAugust 31 – Ben Shannon – Ben Shannon is a performing songwriter in the American folk music tradition.
URL:https://playpittsburgh.com/event/solar-concert-series/2016-08-17/
LOCATION:Buhl Community Park\, 10 Children's Way\, Pittsburgh \, PA\, 15212
CATEGORIES:Free,Outdoor,Performing Arts
GEO:40.4527589;-80.0065519
X-APPLE-STRUCTURED-LOCATION;VALUE=URI;X-ADDRESS=Buhl Community Park 10 Children's Way Pittsburgh  PA 15212;X-APPLE-RADIUS=500;X-TITLE=10 Children's Way:geo:-80.0065519,40.4527589
END:VEVENT
BEGIN:VEVENT
DTSTART;TZID=America/New_York:20160810T121500
DTEND;TZID=America/New_York:20160810T130000
DTSTAMP:20260421T182037
CREATED:20160705T112002Z
LAST-MODIFIED:20160705T112002Z
UID:9603-1470831300-1470834000@playpittsburgh.com
SUMMARY:Solar Concert Series
DESCRIPTION:Enjoy free live music outside in the sunshine at Buhl Community Park at Allegheny Square. Bring your lunch and enjoy family-friendly concerts on a solar-powered sound system Wednesdays at 12:15 p.m. in July and August. This year’s lineup and links where you can learn more about each artist/band: \nJuly 6 – Truth and Rites – TnR is a Roots Reggae band based in Pittsburgh\nJuly 13 – Mike Why – Beatboxer\, vocalist\, and maker of funny sounds\nJuly 20 – City Dwelling Nature Seekers – City Dwelling Nature Seekers is a folk/rock band that has been performing locally and touring for the past 8 years\nJuly 27 – Meeting of Important People Acoustic! – Pittsburgh-based rock and roll band with a new album called Troika\nAugust 8 – SLB All Stars – Musicians from the Saturday Light Brigade playing your favorite songs\nAugust 10 – Lee Robinson and Iska – Exciting\, powerful musical journey through jazz styles of contemporary funk\, classical and original compositions.\nAugust 17 – Jakob’s Ferry Stragglers – The Jakob’s Ferry Stragglers draw freely from old-time\, bluegrass\, country\, jazz\, rockabilly and swing styles to create their tight\, high-energy string band music.\nAugust 24 – Heather Kropf – Pittsburgh-based artist Heather Kropf has forged a reputation as a talented\, dedicated songwriter and performer\, producing albums with attention to details that feature some of the city’s best players.\nAugust 31 – Ben Shannon – Ben Shannon is a performing songwriter in the American folk music tradition.
URL:https://playpittsburgh.com/event/solar-concert-series/2016-08-10/
LOCATION:Buhl Community Park\, 10 Children's Way\, Pittsburgh \, PA\, 15212
CATEGORIES:Free,Outdoor,Performing Arts
GEO:40.4527589;-80.0065519
X-APPLE-STRUCTURED-LOCATION;VALUE=URI;X-ADDRESS=Buhl Community Park 10 Children's Way Pittsburgh  PA 15212;X-APPLE-RADIUS=500;X-TITLE=10 Children's Way:geo:-80.0065519,40.4527589
END:VEVENT
BEGIN:VEVENT
DTSTART;TZID=America/New_York:20160803T121500
DTEND;TZID=America/New_York:20160803T130000
DTSTAMP:20260421T182037
CREATED:20160705T112002Z
LAST-MODIFIED:20160705T112002Z
UID:9602-1470226500-1470229200@playpittsburgh.com
SUMMARY:Solar Concert Series
DESCRIPTION:Enjoy free live music outside in the sunshine at Buhl Community Park at Allegheny Square. Bring your lunch and enjoy family-friendly concerts on a solar-powered sound system Wednesdays at 12:15 p.m. in July and August. This year’s lineup and links where you can learn more about each artist/band: \nJuly 6 – Truth and Rites – TnR is a Roots Reggae band based in Pittsburgh\nJuly 13 – Mike Why – Beatboxer\, vocalist\, and maker of funny sounds\nJuly 20 – City Dwelling Nature Seekers – City Dwelling Nature Seekers is a folk/rock band that has been performing locally and touring for the past 8 years\nJuly 27 – Meeting of Important People Acoustic! – Pittsburgh-based rock and roll band with a new album called Troika\nAugust 8 – SLB All Stars – Musicians from the Saturday Light Brigade playing your favorite songs\nAugust 10 – Lee Robinson and Iska – Exciting\, powerful musical journey through jazz styles of contemporary funk\, classical and original compositions.\nAugust 17 – Jakob’s Ferry Stragglers – The Jakob’s Ferry Stragglers draw freely from old-time\, bluegrass\, country\, jazz\, rockabilly and swing styles to create their tight\, high-energy string band music.\nAugust 24 – Heather Kropf – Pittsburgh-based artist Heather Kropf has forged a reputation as a talented\, dedicated songwriter and performer\, producing albums with attention to details that feature some of the city’s best players.\nAugust 31 – Ben Shannon – Ben Shannon is a performing songwriter in the American folk music tradition.
URL:https://playpittsburgh.com/event/solar-concert-series/2016-08-03/
LOCATION:Buhl Community Park\, 10 Children's Way\, Pittsburgh \, PA\, 15212
CATEGORIES:Free,Outdoor,Performing Arts
GEO:40.4527589;-80.0065519
X-APPLE-STRUCTURED-LOCATION;VALUE=URI;X-ADDRESS=Buhl Community Park 10 Children's Way Pittsburgh  PA 15212;X-APPLE-RADIUS=500;X-TITLE=10 Children's Way:geo:-80.0065519,40.4527589
END:VEVENT
BEGIN:VEVENT
DTSTART;TZID=America/New_York:20160727T121500
DTEND;TZID=America/New_York:20160727T130000
DTSTAMP:20260421T182037
CREATED:20160705T112002Z
LAST-MODIFIED:20160705T112002Z
UID:9601-1469621700-1469624400@playpittsburgh.com
SUMMARY:Solar Concert Series
DESCRIPTION:Enjoy free live music outside in the sunshine at Buhl Community Park at Allegheny Square. Bring your lunch and enjoy family-friendly concerts on a solar-powered sound system Wednesdays at 12:15 p.m. in July and August. This year’s lineup and links where you can learn more about each artist/band: \nJuly 6 – Truth and Rites – TnR is a Roots Reggae band based in Pittsburgh\nJuly 13 – Mike Why – Beatboxer\, vocalist\, and maker of funny sounds\nJuly 20 – City Dwelling Nature Seekers – City Dwelling Nature Seekers is a folk/rock band that has been performing locally and touring for the past 8 years\nJuly 27 – Meeting of Important People Acoustic! – Pittsburgh-based rock and roll band with a new album called Troika\nAugust 8 – SLB All Stars – Musicians from the Saturday Light Brigade playing your favorite songs\nAugust 10 – Lee Robinson and Iska – Exciting\, powerful musical journey through jazz styles of contemporary funk\, classical and original compositions.\nAugust 17 – Jakob’s Ferry Stragglers – The Jakob’s Ferry Stragglers draw freely from old-time\, bluegrass\, country\, jazz\, rockabilly and swing styles to create their tight\, high-energy string band music.\nAugust 24 – Heather Kropf – Pittsburgh-based artist Heather Kropf has forged a reputation as a talented\, dedicated songwriter and performer\, producing albums with attention to details that feature some of the city’s best players.\nAugust 31 – Ben Shannon – Ben Shannon is a performing songwriter in the American folk music tradition.
URL:https://playpittsburgh.com/event/solar-concert-series/2016-07-27/
LOCATION:Buhl Community Park\, 10 Children's Way\, Pittsburgh \, PA\, 15212
CATEGORIES:Free,Outdoor,Performing Arts
GEO:40.4527589;-80.0065519
X-APPLE-STRUCTURED-LOCATION;VALUE=URI;X-ADDRESS=Buhl Community Park 10 Children's Way Pittsburgh  PA 15212;X-APPLE-RADIUS=500;X-TITLE=10 Children's Way:geo:-80.0065519,40.4527589
END:VEVENT
BEGIN:VEVENT
DTSTART;TZID=America/New_York:20160720T121500
DTEND;TZID=America/New_York:20160720T130000
DTSTAMP:20260421T182037
CREATED:20160705T112002Z
LAST-MODIFIED:20160705T112002Z
UID:9600-1469016900-1469019600@playpittsburgh.com
SUMMARY:Solar Concert Series
DESCRIPTION:Enjoy free live music outside in the sunshine at Buhl Community Park at Allegheny Square. Bring your lunch and enjoy family-friendly concerts on a solar-powered sound system Wednesdays at 12:15 p.m. in July and August. This year’s lineup and links where you can learn more about each artist/band: \nJuly 6 – Truth and Rites – TnR is a Roots Reggae band based in Pittsburgh\nJuly 13 – Mike Why – Beatboxer\, vocalist\, and maker of funny sounds\nJuly 20 – City Dwelling Nature Seekers – City Dwelling Nature Seekers is a folk/rock band that has been performing locally and touring for the past 8 years\nJuly 27 – Meeting of Important People Acoustic! – Pittsburgh-based rock and roll band with a new album called Troika\nAugust 8 – SLB All Stars – Musicians from the Saturday Light Brigade playing your favorite songs\nAugust 10 – Lee Robinson and Iska – Exciting\, powerful musical journey through jazz styles of contemporary funk\, classical and original compositions.\nAugust 17 – Jakob’s Ferry Stragglers – The Jakob’s Ferry Stragglers draw freely from old-time\, bluegrass\, country\, jazz\, rockabilly and swing styles to create their tight\, high-energy string band music.\nAugust 24 – Heather Kropf – Pittsburgh-based artist Heather Kropf has forged a reputation as a talented\, dedicated songwriter and performer\, producing albums with attention to details that feature some of the city’s best players.\nAugust 31 – Ben Shannon – Ben Shannon is a performing songwriter in the American folk music tradition.
URL:https://playpittsburgh.com/event/solar-concert-series/2016-07-20/
LOCATION:Buhl Community Park\, 10 Children's Way\, Pittsburgh \, PA\, 15212
CATEGORIES:Free,Outdoor,Performing Arts
GEO:40.4527589;-80.0065519
X-APPLE-STRUCTURED-LOCATION;VALUE=URI;X-ADDRESS=Buhl Community Park 10 Children's Way Pittsburgh  PA 15212;X-APPLE-RADIUS=500;X-TITLE=10 Children's Way:geo:-80.0065519,40.4527589
END:VEVENT
BEGIN:VEVENT
DTSTART;TZID=America/New_York:20160713T121500
DTEND;TZID=America/New_York:20160713T130000
DTSTAMP:20260421T182037
CREATED:20160705T112002Z
LAST-MODIFIED:20160705T112002Z
UID:9599-1468412100-1468414800@playpittsburgh.com
SUMMARY:Solar Concert Series
DESCRIPTION:Enjoy free live music outside in the sunshine at Buhl Community Park at Allegheny Square. Bring your lunch and enjoy family-friendly concerts on a solar-powered sound system Wednesdays at 12:15 p.m. in July and August. This year’s lineup and links where you can learn more about each artist/band: \nJuly 6 – Truth and Rites – TnR is a Roots Reggae band based in Pittsburgh\nJuly 13 – Mike Why – Beatboxer\, vocalist\, and maker of funny sounds\nJuly 20 – City Dwelling Nature Seekers – City Dwelling Nature Seekers is a folk/rock band that has been performing locally and touring for the past 8 years\nJuly 27 – Meeting of Important People Acoustic! – Pittsburgh-based rock and roll band with a new album called Troika\nAugust 8 – SLB All Stars – Musicians from the Saturday Light Brigade playing your favorite songs\nAugust 10 – Lee Robinson and Iska – Exciting\, powerful musical journey through jazz styles of contemporary funk\, classical and original compositions.\nAugust 17 – Jakob’s Ferry Stragglers – The Jakob’s Ferry Stragglers draw freely from old-time\, bluegrass\, country\, jazz\, rockabilly and swing styles to create their tight\, high-energy string band music.\nAugust 24 – Heather Kropf – Pittsburgh-based artist Heather Kropf has forged a reputation as a talented\, dedicated songwriter and performer\, producing albums with attention to details that feature some of the city’s best players.\nAugust 31 – Ben Shannon – Ben Shannon is a performing songwriter in the American folk music tradition.
URL:https://playpittsburgh.com/event/solar-concert-series/2016-07-13/
LOCATION:Buhl Community Park\, 10 Children's Way\, Pittsburgh \, PA\, 15212
CATEGORIES:Free,Outdoor,Performing Arts
GEO:40.4527589;-80.0065519
X-APPLE-STRUCTURED-LOCATION;VALUE=URI;X-ADDRESS=Buhl Community Park 10 Children's Way Pittsburgh  PA 15212;X-APPLE-RADIUS=500;X-TITLE=10 Children's Way:geo:-80.0065519,40.4527589
END:VEVENT
BEGIN:VEVENT
DTSTART;TZID=America/New_York:20160706T121500
DTEND;TZID=America/New_York:20160706T130000
DTSTAMP:20260421T182037
CREATED:20160705T112002Z
LAST-MODIFIED:20160705T112002Z
UID:9596-1467807300-1467810000@playpittsburgh.com
SUMMARY:Solar Concert Series
DESCRIPTION:Enjoy free live music outside in the sunshine at Buhl Community Park at Allegheny Square. Bring your lunch and enjoy family-friendly concerts on a solar-powered sound system Wednesdays at 12:15 p.m. in July and August. This year’s lineup and links where you can learn more about each artist/band: \nJuly 6 – Truth and Rites – TnR is a Roots Reggae band based in Pittsburgh\nJuly 13 – Mike Why – Beatboxer\, vocalist\, and maker of funny sounds\nJuly 20 – City Dwelling Nature Seekers – City Dwelling Nature Seekers is a folk/rock band that has been performing locally and touring for the past 8 years\nJuly 27 – Meeting of Important People Acoustic! – Pittsburgh-based rock and roll band with a new album called Troika\nAugust 8 – SLB All Stars – Musicians from the Saturday Light Brigade playing your favorite songs\nAugust 10 – Lee Robinson and Iska – Exciting\, powerful musical journey through jazz styles of contemporary funk\, classical and original compositions.\nAugust 17 – Jakob’s Ferry Stragglers – The Jakob’s Ferry Stragglers draw freely from old-time\, bluegrass\, country\, jazz\, rockabilly and swing styles to create their tight\, high-energy string band music.\nAugust 24 – Heather Kropf – Pittsburgh-based artist Heather Kropf has forged a reputation as a talented\, dedicated songwriter and performer\, producing albums with attention to details that feature some of the city’s best players.\nAugust 31 – Ben Shannon – Ben Shannon is a performing songwriter in the American folk music tradition.
URL:https://playpittsburgh.com/event/solar-concert-series/2016-07-06/
LOCATION:Buhl Community Park\, 10 Children's Way\, Pittsburgh \, PA\, 15212
CATEGORIES:Free,Outdoor,Performing Arts
GEO:40.4527589;-80.0065519
X-APPLE-STRUCTURED-LOCATION;VALUE=URI;X-ADDRESS=Buhl Community Park 10 Children's Way Pittsburgh  PA 15212;X-APPLE-RADIUS=500;X-TITLE=10 Children's Way:geo:-80.0065519,40.4527589
END:VEVENT
END:VCALENDAR