BEGIN:VCALENDAR
VERSION:2.0
PRODID:-//Play Pittsburgh - ECPv6.15.20//NONSGML v1.0//EN
CALSCALE:GREGORIAN
METHOD:PUBLISH
X-ORIGINAL-URL:https://playpittsburgh.com
X-WR-CALDESC:Events for Play Pittsburgh
REFRESH-INTERVAL;VALUE=DURATION:PT1H
X-Robots-Tag:noindex
X-PUBLISHED-TTL:PT1H
BEGIN:VTIMEZONE
TZID:America/New_York
BEGIN:DAYLIGHT
TZOFFSETFROM:-0500
TZOFFSETTO:-0400
TZNAME:EDT
DTSTART:20130310T070000
END:DAYLIGHT
BEGIN:STANDARD
TZOFFSETFROM:-0400
TZOFFSETTO:-0500
TZNAME:EST
DTSTART:20131103T060000
END:STANDARD
BEGIN:DAYLIGHT
TZOFFSETFROM:-0500
TZOFFSETTO:-0400
TZNAME:EDT
DTSTART:20140309T070000
END:DAYLIGHT
BEGIN:STANDARD
TZOFFSETFROM:-0400
TZOFFSETTO:-0500
TZNAME:EST
DTSTART:20141102T060000
END:STANDARD
BEGIN:DAYLIGHT
TZOFFSETFROM:-0500
TZOFFSETTO:-0400
TZNAME:EDT
DTSTART:20150308T070000
END:DAYLIGHT
BEGIN:STANDARD
TZOFFSETFROM:-0400
TZOFFSETTO:-0500
TZNAME:EST
DTSTART:20151101T060000
END:STANDARD
END:VTIMEZONE
BEGIN:VEVENT
DTSTART;VALUE=DATE:20141230
DTEND;VALUE=DATE:20141231
DTSTAMP:20260422T050052
CREATED:20141205T072051Z
LAST-MODIFIED:20141205T072051Z
UID:8220-1419897600-1419983999@playpittsburgh.com
SUMMARY:Snapology Winter Camp
DESCRIPTION:Keep the kids busy at Winter Break Camps at Snapology! Snapology is an inviting playspace full of various building materials and interactive toys for kids of all ages. Sure\, they have about a bazillion Legos\, but that’s just the beginning! You can read more about our visit here. \n\nDec 22. 8:30am-4:30pm\, Minecraft (ages 6-14) $80 40\, incl. pizza lunch\nDec 23\, 8:30am-12pm\, Santa’s Creator’s Club (ages 4-6)*\nDec 23\, 1-4:30pm\, How The Grinch Stole Legos (ages 4-9)*\n*attend both camps\, pack a lunch and stay the whole day\nDec 29\, 8:30am-4:30pm\, Amusement Park Adventure (ages 7-14) includes pizza lunch\nDec 30\, 8:30am-12pm\, Black Belt Engineers (ages 8-14)*\nDec 30\, 1-4:30pm\, Lego Animation (ages 8-14)*\n*attend both camps\, pack a lunch and stay the whole day
URL:https://playpittsburgh.com/event/snapology-winter-camp/2014-12-30/
LOCATION:Snapology (Bethel Park)\, 1699 Washington Rd\, Mt Lebanon\, PA\, 15228\, United States
GEO:40.3491516;-80.0514502
X-APPLE-STRUCTURED-LOCATION;VALUE=URI;X-ADDRESS=Snapology (Bethel Park) 1699 Washington Rd Mt Lebanon PA 15228 United States;X-APPLE-RADIUS=500;X-TITLE=1699 Washington Rd:geo:-80.0514502,40.3491516
END:VEVENT
BEGIN:VEVENT
DTSTART;VALUE=DATE:20141229
DTEND;VALUE=DATE:20141230
DTSTAMP:20260422T050052
CREATED:20141205T072051Z
LAST-MODIFIED:20141205T072051Z
UID:5193-1419811200-1419897599@playpittsburgh.com
SUMMARY:Snapology Winter Camp
DESCRIPTION:Keep the kids busy at Winter Break Camps at Snapology! Snapology is an inviting playspace full of various building materials and interactive toys for kids of all ages. Sure\, they have about a bazillion Legos\, but that’s just the beginning! You can read more about our visit here. \n\nDec 22. 8:30am-4:30pm\, Minecraft (ages 6-14) $80 40\, incl. pizza lunch\nDec 23\, 8:30am-12pm\, Santa’s Creator’s Club (ages 4-6)*\nDec 23\, 1-4:30pm\, How The Grinch Stole Legos (ages 4-9)*\n*attend both camps\, pack a lunch and stay the whole day\nDec 29\, 8:30am-4:30pm\, Amusement Park Adventure (ages 7-14) includes pizza lunch\nDec 30\, 8:30am-12pm\, Black Belt Engineers (ages 8-14)*\nDec 30\, 1-4:30pm\, Lego Animation (ages 8-14)*\n*attend both camps\, pack a lunch and stay the whole day
URL:https://playpittsburgh.com/event/snapology-winter-camp/2014-12-29/
LOCATION:Snapology (Bethel Park)\, 1699 Washington Rd\, Mt Lebanon\, PA\, 15228\, United States
GEO:40.3491516;-80.0514502
X-APPLE-STRUCTURED-LOCATION;VALUE=URI;X-ADDRESS=Snapology (Bethel Park) 1699 Washington Rd Mt Lebanon PA 15228 United States;X-APPLE-RADIUS=500;X-TITLE=1699 Washington Rd:geo:-80.0514502,40.3491516
END:VEVENT
END:VCALENDAR