BEGIN:VCALENDAR
VERSION:2.0
PRODID:-//Play Pittsburgh - ECPv6.15.20//NONSGML v1.0//EN
CALSCALE:GREGORIAN
METHOD:PUBLISH
X-WR-CALNAME:Play Pittsburgh
X-ORIGINAL-URL:https://playpittsburgh.com
X-WR-CALDESC:Events for Play Pittsburgh
REFRESH-INTERVAL;VALUE=DURATION:PT1H
X-Robots-Tag:noindex
X-PUBLISHED-TTL:PT1H
BEGIN:VTIMEZONE
TZID:America/New_York
BEGIN:DAYLIGHT
TZOFFSETFROM:-0500
TZOFFSETTO:-0400
TZNAME:EDT
DTSTART:20130310T070000
END:DAYLIGHT
BEGIN:STANDARD
TZOFFSETFROM:-0400
TZOFFSETTO:-0500
TZNAME:EST
DTSTART:20131103T060000
END:STANDARD
BEGIN:DAYLIGHT
TZOFFSETFROM:-0500
TZOFFSETTO:-0400
TZNAME:EDT
DTSTART:20140309T070000
END:DAYLIGHT
BEGIN:STANDARD
TZOFFSETFROM:-0400
TZOFFSETTO:-0500
TZNAME:EST
DTSTART:20141102T060000
END:STANDARD
BEGIN:DAYLIGHT
TZOFFSETFROM:-0500
TZOFFSETTO:-0400
TZNAME:EDT
DTSTART:20150308T070000
END:DAYLIGHT
BEGIN:STANDARD
TZOFFSETFROM:-0400
TZOFFSETTO:-0500
TZNAME:EST
DTSTART:20151101T060000
END:STANDARD
END:VTIMEZONE
BEGIN:VEVENT
DTSTART;TZID=America/New_York:20141213T103000
DTEND;TZID=America/New_York:20141213T113000
DTSTAMP:20260422T073345
CREATED:20141204T052557Z
LAST-MODIFIED:20141204T052557Z
UID:8191-1418466600-1418470200@playpittsburgh.com
SUMMARY:Saturdays with the Sugar Plum Fairies at Phipps
DESCRIPTION:Phipps and PBT will present Saturdays with the Sugarplum Fairy at 10:30 a.m. on Dec. 6\, and 13\, in Phipps’ Center for Sustainable Landscapes classroom. These 30-minute creative movement dance classes and story time sessions with the Sugarplum Fairy are designed for children of all ages. Sessions are open to the public and free with Phipps admission\, which is $15 for adults\, $14 for seniors 62 and older and students with valid ID\, $11 for children 2-18; and free for children under 2 and members. Participants should wear comfortable clothing and shoes.
URL:https://playpittsburgh.com/event/saturdays-with-the-sugar-plum-fairies-at-phipps/2014-12-13/
LOCATION:Phipps Conservatory\, 1 Schenley Dr\, Pittsburgh\, PA\, 15213\, United States
GEO:40.4390926;-79.9474873
X-APPLE-STRUCTURED-LOCATION;VALUE=URI;X-ADDRESS=Phipps Conservatory 1 Schenley Dr Pittsburgh PA 15213 United States;X-APPLE-RADIUS=500;X-TITLE=1 Schenley Dr:geo:-79.9474873,40.4390926
END:VEVENT
BEGIN:VEVENT
DTSTART;TZID=America/New_York:20141206T103000
DTEND;TZID=America/New_York:20141206T113000
DTSTAMP:20260422T073345
CREATED:20141204T052557Z
LAST-MODIFIED:20141204T052557Z
UID:5114-1417861800-1417865400@playpittsburgh.com
SUMMARY:Saturdays with the Sugar Plum Fairies at Phipps
DESCRIPTION:Phipps and PBT will present Saturdays with the Sugarplum Fairy at 10:30 a.m. on Dec. 6\, and 13\, in Phipps’ Center for Sustainable Landscapes classroom. These 30-minute creative movement dance classes and story time sessions with the Sugarplum Fairy are designed for children of all ages. Sessions are open to the public and free with Phipps admission\, which is $15 for adults\, $14 for seniors 62 and older and students with valid ID\, $11 for children 2-18; and free for children under 2 and members. Participants should wear comfortable clothing and shoes.
URL:https://playpittsburgh.com/event/saturdays-with-the-sugar-plum-fairies-at-phipps/2014-12-06/
LOCATION:Phipps Conservatory\, 1 Schenley Dr\, Pittsburgh\, PA\, 15213\, United States
GEO:40.4390926;-79.9474873
X-APPLE-STRUCTURED-LOCATION;VALUE=URI;X-ADDRESS=Phipps Conservatory 1 Schenley Dr Pittsburgh PA 15213 United States;X-APPLE-RADIUS=500;X-TITLE=1 Schenley Dr:geo:-79.9474873,40.4390926
END:VEVENT
END:VCALENDAR