BEGIN:VCALENDAR
VERSION:2.0
PRODID:-//Play Pittsburgh - ECPv6.15.20//NONSGML v1.0//EN
CALSCALE:GREGORIAN
METHOD:PUBLISH
X-ORIGINAL-URL:https://playpittsburgh.com
X-WR-CALDESC:Events for Play Pittsburgh
REFRESH-INTERVAL;VALUE=DURATION:PT1H
X-Robots-Tag:noindex
X-PUBLISHED-TTL:PT1H
BEGIN:VTIMEZONE
TZID:America/New_York
BEGIN:DAYLIGHT
TZOFFSETFROM:-0500
TZOFFSETTO:-0400
TZNAME:EDT
DTSTART:20130310T070000
END:DAYLIGHT
BEGIN:STANDARD
TZOFFSETFROM:-0400
TZOFFSETTO:-0500
TZNAME:EST
DTSTART:20131103T060000
END:STANDARD
BEGIN:DAYLIGHT
TZOFFSETFROM:-0500
TZOFFSETTO:-0400
TZNAME:EDT
DTSTART:20140309T070000
END:DAYLIGHT
BEGIN:STANDARD
TZOFFSETFROM:-0400
TZOFFSETTO:-0500
TZNAME:EST
DTSTART:20141102T060000
END:STANDARD
BEGIN:DAYLIGHT
TZOFFSETFROM:-0500
TZOFFSETTO:-0400
TZNAME:EDT
DTSTART:20150308T070000
END:DAYLIGHT
BEGIN:STANDARD
TZOFFSETFROM:-0400
TZOFFSETTO:-0500
TZNAME:EST
DTSTART:20151101T060000
END:STANDARD
END:VTIMEZONE
BEGIN:VEVENT
DTSTART;VALUE=DATE:20141214
DTEND;VALUE=DATE:20141215
DTSTAMP:20260422T034739
CREATED:20141204T024126Z
LAST-MODIFIED:20141204T024126Z
UID:8185-1418515200-1418601599@playpittsburgh.com
SUMMARY:Santa Trolley
DESCRIPTION:Celebrate the season with Santa Claus on the Trolley! See the Lionel toy train display and decorated street cars. Enjoy caroling on the trolley and a holiday craft in the Events room\, where you can enjoy the Trolley Museum’s newest addition\, Steel City LUG’s Lego® train display. Purchase tickets in advance to ride the Santa Trolley (advance purchase strongly recommended) and stop in to ride the Yuletide Shuttle. Advance sale tickets open November 1. \nAdults $10\nSeniors $9\nChildren (1-15) $7\nUnder 1 Free\nAll children receive a gift from Santa! \nYou can read more about our visit to the Trolley Museum here.
URL:https://playpittsburgh.com/event/santa-trolley-2/2014-12-14/
LOCATION:Pennsylvania Trolley Museum\, 1 Museum Rd\, Washington\, PA\, 15301\, United States
GEO:40.2072951;-80.2553464
X-APPLE-STRUCTURED-LOCATION;VALUE=URI;X-ADDRESS=Pennsylvania Trolley Museum 1 Museum Rd Washington PA 15301 United States;X-APPLE-RADIUS=500;X-TITLE=1 Museum Rd:geo:-80.2553464,40.2072951
END:VEVENT
BEGIN:VEVENT
DTSTART;VALUE=DATE:20141207
DTEND;VALUE=DATE:20141208
DTSTAMP:20260422T034740
CREATED:20141204T024126Z
LAST-MODIFIED:20141204T024126Z
UID:5100-1417910400-1417996799@playpittsburgh.com
SUMMARY:Santa Trolley
DESCRIPTION:Celebrate the season with Santa Claus on the Trolley! See the Lionel toy train display and decorated street cars. Enjoy caroling on the trolley and a holiday craft in the Events room\, where you can enjoy the Trolley Museum’s newest addition\, Steel City LUG’s Lego® train display. Purchase tickets in advance to ride the Santa Trolley (advance purchase strongly recommended) and stop in to ride the Yuletide Shuttle. Advance sale tickets open November 1. \nAdults $10\nSeniors $9\nChildren (1-15) $7\nUnder 1 Free\nAll children receive a gift from Santa! \nYou can read more about our visit to the Trolley Museum here.
URL:https://playpittsburgh.com/event/santa-trolley-2/2014-12-07/
LOCATION:Pennsylvania Trolley Museum\, 1 Museum Rd\, Washington\, PA\, 15301\, United States
GEO:40.2072951;-80.2553464
X-APPLE-STRUCTURED-LOCATION;VALUE=URI;X-ADDRESS=Pennsylvania Trolley Museum 1 Museum Rd Washington PA 15301 United States;X-APPLE-RADIUS=500;X-TITLE=1 Museum Rd:geo:-80.2553464,40.2072951
END:VEVENT
END:VCALENDAR