BEGIN:VCALENDAR
VERSION:2.0
PRODID:-//Play Pittsburgh - ECPv6.15.20//NONSGML v1.0//EN
CALSCALE:GREGORIAN
METHOD:PUBLISH
X-ORIGINAL-URL:https://playpittsburgh.com
X-WR-CALDESC:Events for Play Pittsburgh
REFRESH-INTERVAL;VALUE=DURATION:PT1H
X-Robots-Tag:noindex
X-PUBLISHED-TTL:PT1H
BEGIN:VTIMEZONE
TZID:America/New_York
BEGIN:DAYLIGHT
TZOFFSETFROM:-0500
TZOFFSETTO:-0400
TZNAME:EDT
DTSTART:20150308T070000
END:DAYLIGHT
BEGIN:STANDARD
TZOFFSETFROM:-0400
TZOFFSETTO:-0500
TZNAME:EST
DTSTART:20151101T060000
END:STANDARD
BEGIN:DAYLIGHT
TZOFFSETFROM:-0500
TZOFFSETTO:-0400
TZNAME:EDT
DTSTART:20160313T070000
END:DAYLIGHT
BEGIN:STANDARD
TZOFFSETFROM:-0400
TZOFFSETTO:-0500
TZNAME:EST
DTSTART:20161106T060000
END:STANDARD
BEGIN:DAYLIGHT
TZOFFSETFROM:-0500
TZOFFSETTO:-0400
TZNAME:EDT
DTSTART:20170312T070000
END:DAYLIGHT
BEGIN:STANDARD
TZOFFSETFROM:-0400
TZOFFSETTO:-0500
TZNAME:EST
DTSTART:20171105T060000
END:STANDARD
END:VTIMEZONE
BEGIN:VEVENT
DTSTART;VALUE=DATE:20160710
DTEND;VALUE=DATE:20160711
DTSTAMP:20260421T182345
CREATED:20160709T022812Z
LAST-MODIFIED:20160709T022812Z
UID:9672-1468108800-1468195199@playpittsburgh.com
SUMMARY:Sand City Spectacular
DESCRIPTION:Renowned Sculptors From 7 Nations Give Stunning Sand Salute To Pittsburgh 200 In Championship Event! \nJULY 3-10\nDon’t miss the KDKA “SAND PLAY LAND” – Kids Sandbox Area Featuring Giant Construction Toys\, Plenty of Buckets/Shovels for Hours of Super Sand Fun.\nWHERE: SCHENLEY PLAZA “LIBRARY BOSQUE LAWN AREA” NEAR “ZIPPY” THE DINOSAUR STATUE AT CARNEGIE LIBRARY \nJULY 10\nNoon – 4pm: Kids Day at Schenley Plaza – Part of the Plaza’s Monthly and FREE Kids Day Activities… Enjoy Face Painting\, Balloon Artist Free Rides on the PNC Carousel… featuring Sunburst Music School \nNoon – 5pm: Tots and Toddlers will Smile as They Magically Create a Picture in a Delightful Crayon-Rubbing Over Sandpaper Activity.\nWHERE: Schenley Plaza “Library Bosque Area”
URL:https://playpittsburgh.com/event/sand-city-spectacular/2016-07-10/
LOCATION:Schenley Park\, 5410 Bartlett St\, Pittsburgh\, PA\, 15217\, United States
CATEGORIES:Festivals,Free,Outdoor
GEO:40.4331473;-79.9360299
X-APPLE-STRUCTURED-LOCATION;VALUE=URI;X-ADDRESS=Schenley Park 5410 Bartlett St Pittsburgh PA 15217 United States;X-APPLE-RADIUS=500;X-TITLE=5410 Bartlett St:geo:-79.9360299,40.4331473
END:VEVENT
BEGIN:VEVENT
DTSTART;VALUE=DATE:20160709
DTEND;VALUE=DATE:20160710
DTSTAMP:20260421T182345
CREATED:20160709T022812Z
LAST-MODIFIED:20160709T022812Z
UID:9671-1468022400-1468108799@playpittsburgh.com
SUMMARY:Sand City Spectacular
DESCRIPTION:Renowned Sculptors From 7 Nations Give Stunning Sand Salute To Pittsburgh 200 In Championship Event! \nJULY 3-10\nDon’t miss the KDKA “SAND PLAY LAND” – Kids Sandbox Area Featuring Giant Construction Toys\, Plenty of Buckets/Shovels for Hours of Super Sand Fun.\nWHERE: SCHENLEY PLAZA “LIBRARY BOSQUE LAWN AREA” NEAR “ZIPPY” THE DINOSAUR STATUE AT CARNEGIE LIBRARY \nJULY 10\nNoon – 4pm: Kids Day at Schenley Plaza – Part of the Plaza’s Monthly and FREE Kids Day Activities… Enjoy Face Painting\, Balloon Artist Free Rides on the PNC Carousel… featuring Sunburst Music School \nNoon – 5pm: Tots and Toddlers will Smile as They Magically Create a Picture in a Delightful Crayon-Rubbing Over Sandpaper Activity.\nWHERE: Schenley Plaza “Library Bosque Area”
URL:https://playpittsburgh.com/event/sand-city-spectacular/2016-07-09/
LOCATION:Schenley Park\, 5410 Bartlett St\, Pittsburgh\, PA\, 15217\, United States
CATEGORIES:Festivals,Free,Outdoor
GEO:40.4331473;-79.9360299
X-APPLE-STRUCTURED-LOCATION;VALUE=URI;X-ADDRESS=Schenley Park 5410 Bartlett St Pittsburgh PA 15217 United States;X-APPLE-RADIUS=500;X-TITLE=5410 Bartlett St:geo:-79.9360299,40.4331473
END:VEVENT
END:VCALENDAR