BEGIN:VCALENDAR
VERSION:2.0
PRODID:-//Play Pittsburgh - ECPv6.15.20//NONSGML v1.0//EN
CALSCALE:GREGORIAN
METHOD:PUBLISH
X-WR-CALNAME:Play Pittsburgh
X-ORIGINAL-URL:https://playpittsburgh.com
X-WR-CALDESC:Events for Play Pittsburgh
REFRESH-INTERVAL;VALUE=DURATION:PT1H
X-Robots-Tag:noindex
X-PUBLISHED-TTL:PT1H
BEGIN:VTIMEZONE
TZID:America/New_York
BEGIN:DAYLIGHT
TZOFFSETFROM:-0500
TZOFFSETTO:-0400
TZNAME:EDT
DTSTART:20130310T070000
END:DAYLIGHT
BEGIN:STANDARD
TZOFFSETFROM:-0400
TZOFFSETTO:-0500
TZNAME:EST
DTSTART:20131103T060000
END:STANDARD
BEGIN:DAYLIGHT
TZOFFSETFROM:-0500
TZOFFSETTO:-0400
TZNAME:EDT
DTSTART:20140309T070000
END:DAYLIGHT
BEGIN:STANDARD
TZOFFSETFROM:-0400
TZOFFSETTO:-0500
TZNAME:EST
DTSTART:20141102T060000
END:STANDARD
BEGIN:DAYLIGHT
TZOFFSETFROM:-0500
TZOFFSETTO:-0400
TZNAME:EDT
DTSTART:20150308T070000
END:DAYLIGHT
BEGIN:STANDARD
TZOFFSETFROM:-0400
TZOFFSETTO:-0500
TZNAME:EST
DTSTART:20151101T060000
END:STANDARD
END:VTIMEZONE
BEGIN:VEVENT
DTSTART;TZID=America/New_York:20140927T100000
DTEND;TZID=America/New_York:20140927T160000
DTSTAMP:20260422T092739
CREATED:20140901T035849Z
LAST-MODIFIED:20140901T035849Z
UID:6548-1411812000-1411833600@playpittsburgh.com
SUMMARY:Reilly's Summerseat Farm Harvest Festival
DESCRIPTION:Reilly’s Harvest Festival runs from 10 AM to 4 PM. Reilly’s is open every weekend (last weekend in September through end of October) for a Harvest Festival of Fun! Hayrides to the great pumpkin patch where you’ll find all sizes of pumpkins for your picking pleasure\, the New Boo Barn with added excitement\, the Cornstalk maze\, Marshmallow roast\, Balloon Typhoon\, Pedal Go Carts\, and much\, much more. A one-price a super Harvest Festival ticket includes activities. No reservations needed\, just come and have fun! \nThe Garden Center has beautiful mums\, asters\, cornstalks\, bales of hay\, gourds\, mini-pumpkins and Halloween decorations\, as well as a beautiful array of fall plants and grasses – everything you need do prepare for the Autumn season. Pumpkins are sold by the pound from September to November. \n\nPumpkin Patch Hayrides\nPony Rides & Petting Zoo\nBoo Barn\nFace Painting\nCow Milking\nBalloon Typhoon\nPedal Go Carts\nCornstalk Maze\nScarecrow-Making\nCountry Store\nWanda’s Games\nDucky Plucky\nCarmel Apples\nRefreshments\nNo reservations needed\n\nThe cost is $7.00/person.
URL:https://playpittsburgh.com/event/reillys-summerseat-farm-harvest-festival-3/2014-09-27/
LOCATION:Reilly’s Summerseat Farm\, 1120 Roosevelt Rd\, Pittsburgh\, PA\, 15237\, United States
CATEGORIES:Festivals,Outdoor
GEO:40.5368408;-80.0954873
X-APPLE-STRUCTURED-LOCATION;VALUE=URI;X-ADDRESS=Reilly’s Summerseat Farm 1120 Roosevelt Rd Pittsburgh PA 15237 United States;X-APPLE-RADIUS=500;X-TITLE=1120 Roosevelt Rd:geo:-80.0954873,40.5368408
END:VEVENT
END:VCALENDAR