BEGIN:VCALENDAR
VERSION:2.0
PRODID:-//Play Pittsburgh - ECPv6.15.20//NONSGML v1.0//EN
CALSCALE:GREGORIAN
METHOD:PUBLISH
X-WR-CALNAME:Play Pittsburgh
X-ORIGINAL-URL:https://playpittsburgh.com
X-WR-CALDESC:Events for Play Pittsburgh
REFRESH-INTERVAL;VALUE=DURATION:PT1H
X-Robots-Tag:noindex
X-PUBLISHED-TTL:PT1H
BEGIN:VTIMEZONE
TZID:America/New_York
BEGIN:DAYLIGHT
TZOFFSETFROM:-0500
TZOFFSETTO:-0400
TZNAME:EDT
DTSTART:20140309T070000
END:DAYLIGHT
BEGIN:STANDARD
TZOFFSETFROM:-0400
TZOFFSETTO:-0500
TZNAME:EST
DTSTART:20141102T060000
END:STANDARD
BEGIN:DAYLIGHT
TZOFFSETFROM:-0500
TZOFFSETTO:-0400
TZNAME:EDT
DTSTART:20150308T070000
END:DAYLIGHT
BEGIN:STANDARD
TZOFFSETFROM:-0400
TZOFFSETTO:-0500
TZNAME:EST
DTSTART:20151101T060000
END:STANDARD
BEGIN:DAYLIGHT
TZOFFSETFROM:-0500
TZOFFSETTO:-0400
TZNAME:EDT
DTSTART:20160313T070000
END:DAYLIGHT
BEGIN:STANDARD
TZOFFSETFROM:-0400
TZOFFSETTO:-0500
TZNAME:EST
DTSTART:20161106T060000
END:STANDARD
END:VTIMEZONE
BEGIN:VEVENT
DTSTART;TZID=America/New_York:20150501T010000
DTEND;TZID=America/New_York:20150501T143000
DTSTAMP:20260422T074241
CREATED:20150324T190735Z
LAST-MODIFIED:20150324T190735Z
UID:8241-1430442000-1430490600@playpittsburgh.com
SUMMARY:REI KinderKlimb
DESCRIPTION:Parents\, looking for something fun and exciting to do on Fridays? Bring your child to REI Pittsburgh for an afternoon of adventure and socialization. REI’s highly trained staff and non-competitive climbing environment ensures that parents and children alike will bond during a morning of climbing and games. This program is free of charge but limited to REI members only. \nNot a member? Enjoy all the benefits with a one-time\, $20 fee. \nChildren must be at least 5 years old and weigh at least 40 pounds.
URL:https://playpittsburgh.com/event/rei-kinderklimb/2015-05-01/
LOCATION:REI Pittsburgh-Settlers Ridge\, 5045 Campbells Run Road Pittsburgh\, Pittsburgh\, PA\, 15205\, United States
GEO:40.4304709;-80.1336632
X-APPLE-STRUCTURED-LOCATION;VALUE=URI;X-ADDRESS=REI Pittsburgh-Settlers Ridge 5045 Campbells Run Road Pittsburgh Pittsburgh PA 15205 United States;X-APPLE-RADIUS=500;X-TITLE=5045 Campbells Run Road Pittsburgh:geo:-80.1336632,40.4304709
END:VEVENT
BEGIN:VEVENT
DTSTART;TZID=America/New_York:20150424T010000
DTEND;TZID=America/New_York:20150424T143000
DTSTAMP:20260422T074241
CREATED:20150324T190735Z
LAST-MODIFIED:20150324T190735Z
UID:8240-1429837200-1429885800@playpittsburgh.com
SUMMARY:REI KinderKlimb
DESCRIPTION:Parents\, looking for something fun and exciting to do on Fridays? Bring your child to REI Pittsburgh for an afternoon of adventure and socialization. REI’s highly trained staff and non-competitive climbing environment ensures that parents and children alike will bond during a morning of climbing and games. This program is free of charge but limited to REI members only. \nNot a member? Enjoy all the benefits with a one-time\, $20 fee. \nChildren must be at least 5 years old and weigh at least 40 pounds.
URL:https://playpittsburgh.com/event/rei-kinderklimb/2015-04-24/
LOCATION:REI Pittsburgh-Settlers Ridge\, 5045 Campbells Run Road Pittsburgh\, Pittsburgh\, PA\, 15205\, United States
GEO:40.4304709;-80.1336632
X-APPLE-STRUCTURED-LOCATION;VALUE=URI;X-ADDRESS=REI Pittsburgh-Settlers Ridge 5045 Campbells Run Road Pittsburgh Pittsburgh PA 15205 United States;X-APPLE-RADIUS=500;X-TITLE=5045 Campbells Run Road Pittsburgh:geo:-80.1336632,40.4304709
END:VEVENT
BEGIN:VEVENT
DTSTART;TZID=America/New_York:20150417T010000
DTEND;TZID=America/New_York:20150417T143000
DTSTAMP:20260422T074241
CREATED:20150324T190735Z
LAST-MODIFIED:20150324T190735Z
UID:8239-1429232400-1429281000@playpittsburgh.com
SUMMARY:REI KinderKlimb
DESCRIPTION:Parents\, looking for something fun and exciting to do on Fridays? Bring your child to REI Pittsburgh for an afternoon of adventure and socialization. REI’s highly trained staff and non-competitive climbing environment ensures that parents and children alike will bond during a morning of climbing and games. This program is free of charge but limited to REI members only. \nNot a member? Enjoy all the benefits with a one-time\, $20 fee. \nChildren must be at least 5 years old and weigh at least 40 pounds.
URL:https://playpittsburgh.com/event/rei-kinderklimb/2015-04-17/
LOCATION:REI Pittsburgh-Settlers Ridge\, 5045 Campbells Run Road Pittsburgh\, Pittsburgh\, PA\, 15205\, United States
GEO:40.4304709;-80.1336632
X-APPLE-STRUCTURED-LOCATION;VALUE=URI;X-ADDRESS=REI Pittsburgh-Settlers Ridge 5045 Campbells Run Road Pittsburgh Pittsburgh PA 15205 United States;X-APPLE-RADIUS=500;X-TITLE=5045 Campbells Run Road Pittsburgh:geo:-80.1336632,40.4304709
END:VEVENT
BEGIN:VEVENT
DTSTART;TZID=America/New_York:20150410T010000
DTEND;TZID=America/New_York:20150410T143000
DTSTAMP:20260422T074241
CREATED:20150324T190735Z
LAST-MODIFIED:20150324T190735Z
UID:8238-1428627600-1428676200@playpittsburgh.com
SUMMARY:REI KinderKlimb
DESCRIPTION:Parents\, looking for something fun and exciting to do on Fridays? Bring your child to REI Pittsburgh for an afternoon of adventure and socialization. REI’s highly trained staff and non-competitive climbing environment ensures that parents and children alike will bond during a morning of climbing and games. This program is free of charge but limited to REI members only. \nNot a member? Enjoy all the benefits with a one-time\, $20 fee. \nChildren must be at least 5 years old and weigh at least 40 pounds.
URL:https://playpittsburgh.com/event/rei-kinderklimb/2015-04-10/
LOCATION:REI Pittsburgh-Settlers Ridge\, 5045 Campbells Run Road Pittsburgh\, Pittsburgh\, PA\, 15205\, United States
GEO:40.4304709;-80.1336632
X-APPLE-STRUCTURED-LOCATION;VALUE=URI;X-ADDRESS=REI Pittsburgh-Settlers Ridge 5045 Campbells Run Road Pittsburgh Pittsburgh PA 15205 United States;X-APPLE-RADIUS=500;X-TITLE=5045 Campbells Run Road Pittsburgh:geo:-80.1336632,40.4304709
END:VEVENT
BEGIN:VEVENT
DTSTART;TZID=America/New_York:20150403T010000
DTEND;TZID=America/New_York:20150403T143000
DTSTAMP:20260422T074241
CREATED:20150324T190735Z
LAST-MODIFIED:20150324T190735Z
UID:8237-1428022800-1428071400@playpittsburgh.com
SUMMARY:REI KinderKlimb
DESCRIPTION:Parents\, looking for something fun and exciting to do on Fridays? Bring your child to REI Pittsburgh for an afternoon of adventure and socialization. REI’s highly trained staff and non-competitive climbing environment ensures that parents and children alike will bond during a morning of climbing and games. This program is free of charge but limited to REI members only. \nNot a member? Enjoy all the benefits with a one-time\, $20 fee. \nChildren must be at least 5 years old and weigh at least 40 pounds.
URL:https://playpittsburgh.com/event/rei-kinderklimb/2015-04-03/
LOCATION:REI Pittsburgh-Settlers Ridge\, 5045 Campbells Run Road Pittsburgh\, Pittsburgh\, PA\, 15205\, United States
GEO:40.4304709;-80.1336632
X-APPLE-STRUCTURED-LOCATION;VALUE=URI;X-ADDRESS=REI Pittsburgh-Settlers Ridge 5045 Campbells Run Road Pittsburgh Pittsburgh PA 15205 United States;X-APPLE-RADIUS=500;X-TITLE=5045 Campbells Run Road Pittsburgh:geo:-80.1336632,40.4304709
END:VEVENT
BEGIN:VEVENT
DTSTART;TZID=America/New_York:20150327T010000
DTEND;TZID=America/New_York:20150327T143000
DTSTAMP:20260422T074241
CREATED:20150324T190735Z
LAST-MODIFIED:20150324T190735Z
UID:5491-1427418000-1427466600@playpittsburgh.com
SUMMARY:REI KinderKlimb
DESCRIPTION:Parents\, looking for something fun and exciting to do on Fridays? Bring your child to REI Pittsburgh for an afternoon of adventure and socialization. REI’s highly trained staff and non-competitive climbing environment ensures that parents and children alike will bond during a morning of climbing and games. This program is free of charge but limited to REI members only. \nNot a member? Enjoy all the benefits with a one-time\, $20 fee. \nChildren must be at least 5 years old and weigh at least 40 pounds.
URL:https://playpittsburgh.com/event/rei-kinderklimb/2015-03-27/
LOCATION:REI Pittsburgh-Settlers Ridge\, 5045 Campbells Run Road Pittsburgh\, Pittsburgh\, PA\, 15205\, United States
GEO:40.4304709;-80.1336632
X-APPLE-STRUCTURED-LOCATION;VALUE=URI;X-ADDRESS=REI Pittsburgh-Settlers Ridge 5045 Campbells Run Road Pittsburgh Pittsburgh PA 15205 United States;X-APPLE-RADIUS=500;X-TITLE=5045 Campbells Run Road Pittsburgh:geo:-80.1336632,40.4304709
END:VEVENT
END:VCALENDAR