BEGIN:VCALENDAR
VERSION:2.0
PRODID:-//Play Pittsburgh - ECPv6.15.20//NONSGML v1.0//EN
CALSCALE:GREGORIAN
METHOD:PUBLISH
X-ORIGINAL-URL:https://playpittsburgh.com
X-WR-CALDESC:Events for Play Pittsburgh
REFRESH-INTERVAL;VALUE=DURATION:PT1H
X-Robots-Tag:noindex
X-PUBLISHED-TTL:PT1H
BEGIN:VTIMEZONE
TZID:America/New_York
BEGIN:DAYLIGHT
TZOFFSETFROM:-0500
TZOFFSETTO:-0400
TZNAME:EDT
DTSTART:20140309T070000
END:DAYLIGHT
BEGIN:STANDARD
TZOFFSETFROM:-0400
TZOFFSETTO:-0500
TZNAME:EST
DTSTART:20141102T060000
END:STANDARD
BEGIN:DAYLIGHT
TZOFFSETFROM:-0500
TZOFFSETTO:-0400
TZNAME:EDT
DTSTART:20150308T070000
END:DAYLIGHT
BEGIN:STANDARD
TZOFFSETFROM:-0400
TZOFFSETTO:-0500
TZNAME:EST
DTSTART:20151101T060000
END:STANDARD
BEGIN:DAYLIGHT
TZOFFSETFROM:-0500
TZOFFSETTO:-0400
TZNAME:EDT
DTSTART:20160313T070000
END:DAYLIGHT
BEGIN:STANDARD
TZOFFSETFROM:-0400
TZOFFSETTO:-0500
TZNAME:EST
DTSTART:20161106T060000
END:STANDARD
END:VTIMEZONE
BEGIN:VEVENT
DTSTART;TZID=America/New_York:20150522T150000
DTEND;TZID=America/New_York:20150522T220000
DTSTAMP:20260423T064020
CREATED:20150522T155710Z
LAST-MODIFIED:20150522T155710Z
UID:6976-1432306800-1432332000@playpittsburgh.com
SUMMARY:PyroFest
DESCRIPTION:PyroFest is an affordable community event to promote & celebrate the international art of Pyrotechnics through innovative & unique presentations. Now in its fourth year\, PyroFest is expanding to a two-day event\, bringing a bigger variety of innovative pyrotechnic displays\, while moving to a new venue at Cooper’s Lake in Butler County\, PA\, adding onsite camping options. \nIn addition to this best of class pyro-packed lineup\, PyroFest will also include live music\, food\, and the PNC Kid’s Zone presented by the PA Leadership Charter School for an unforgettable family Memorial Day experience that will be enjoyed by everyone\, both young and old. \n  \nFRIDAY\, MAY 22\n4:00 PM                   Gates Open \n6:00 PM                   NOMAD on the Main Stage \n7:15 PM                   Daytime Colored Smoke & Salute Fireworks Display \n7:30 PM                   B.E. Taylor on the Main Stage \n9:05 PM                   Consumer Display Demo \n9:15 PM                   “Fantasy in the Sky” Fireworks Challenge Runner Up \n10:00 PM                 “Voyage Through the Universe” | A Pyrotecnico Production\nBack by popular demand for the second international production! \n  \nSATURDAY\, MAY 23\n3:00 PM                   Gates Open \n3:15 PM                   Ryan Fennell on the Main Stage \n5:30 PM                   Opening Noise & Salute Fireworks Display \n5:35 PM                   Jimbo & The Soupbones on the Main Stage \n6:45 PM                   Ruff Creek on the Main Stage \n7:45 PM                   Military Tribute and National Anthem Daytime Fireworks Display \n8:00 PM                   Johnny Angel & The Halos on the Main Stage \n9:05 PM                   Phantom Fireworks Display \n9:15 PM                   “Fantasy in the Sky” Fireworks Challenge First Place \n9:45 PM                   World Premiere of Ricardo Caballer Ricasa Fireworks Production (Direct from Spain) \n10:20 PM                  World Premiere of “Voyage Through Hollywood” | A Pyrotecnico Production \nThere will be a Kids Zone\, Concessions\, and various vendors open throughout the event.
URL:https://playpittsburgh.com/event/pyrofest-2/2015-05-22/
LOCATION:PA\, United States
END:VEVENT
END:VCALENDAR