BEGIN:VCALENDAR
VERSION:2.0
PRODID:-//Play Pittsburgh - ECPv6.15.20//NONSGML v1.0//EN
CALSCALE:GREGORIAN
METHOD:PUBLISH
X-WR-CALNAME:Play Pittsburgh
X-ORIGINAL-URL:https://playpittsburgh.com
X-WR-CALDESC:Events for Play Pittsburgh
REFRESH-INTERVAL;VALUE=DURATION:PT1H
X-Robots-Tag:noindex
X-PUBLISHED-TTL:PT1H
BEGIN:VTIMEZONE
TZID:America/New_York
BEGIN:DAYLIGHT
TZOFFSETFROM:-0500
TZOFFSETTO:-0400
TZNAME:EDT
DTSTART:20130310T070000
END:DAYLIGHT
BEGIN:STANDARD
TZOFFSETFROM:-0400
TZOFFSETTO:-0500
TZNAME:EST
DTSTART:20131103T060000
END:STANDARD
BEGIN:DAYLIGHT
TZOFFSETFROM:-0500
TZOFFSETTO:-0400
TZNAME:EDT
DTSTART:20140309T070000
END:DAYLIGHT
BEGIN:STANDARD
TZOFFSETFROM:-0400
TZOFFSETTO:-0500
TZNAME:EST
DTSTART:20141102T060000
END:STANDARD
BEGIN:DAYLIGHT
TZOFFSETFROM:-0500
TZOFFSETTO:-0400
TZNAME:EDT
DTSTART:20150308T070000
END:DAYLIGHT
BEGIN:STANDARD
TZOFFSETFROM:-0400
TZOFFSETTO:-0500
TZNAME:EST
DTSTART:20151101T060000
END:STANDARD
END:VTIMEZONE
BEGIN:VEVENT
DTSTART;TZID=America/New_York:20140928T110000
DTEND;TZID=America/New_York:20140928T180000
DTSTAMP:20260422T033838
CREATED:20140830T172415Z
LAST-MODIFIED:20140830T172415Z
UID:3334-1411902000-1411927200@playpittsburgh.com
SUMMARY:Pumpkinpalooza at For All Family Farm
DESCRIPTION:Come enjoy a day on our farm with a hay ride to the pumpkin patch to find that perfect Jack! Activities include Kiddie Village\, Corn Slide\, Barrel Train Rides\, Pumpkin Slingshot\, Hay Tunnel\, Corn Maze\, Bounce House and Slide\, Face Painting\, Pumpkin Painting\, and Pumpkin Bowling. 11 AM-6 PM.
URL:https://playpittsburgh.com/event/pumpkinpalooza-at-for-all-family-farm-2/2014-09-28/
LOCATION:For All Family Farms\, 328 Hoon Road\, Butler\, PA\, 16001\, United States
CATEGORIES:Festivals,Outdoor
GEO:40.905487;-79.875112
X-APPLE-STRUCTURED-LOCATION;VALUE=URI;X-ADDRESS=For All Family Farms 328 Hoon Road Butler PA 16001 United States;X-APPLE-RADIUS=500;X-TITLE=328 Hoon Road:geo:-79.875112,40.905487
END:VEVENT
END:VCALENDAR