BEGIN:VCALENDAR
VERSION:2.0
PRODID:-//Play Pittsburgh - ECPv6.15.20//NONSGML v1.0//EN
CALSCALE:GREGORIAN
METHOD:PUBLISH
X-ORIGINAL-URL:https://playpittsburgh.com
X-WR-CALDESC:Events for Play Pittsburgh
REFRESH-INTERVAL;VALUE=DURATION:PT1H
X-Robots-Tag:noindex
X-PUBLISHED-TTL:PT1H
BEGIN:VTIMEZONE
TZID:America/New_York
BEGIN:DAYLIGHT
TZOFFSETFROM:-0500
TZOFFSETTO:-0400
TZNAME:EDT
DTSTART:20130310T070000
END:DAYLIGHT
BEGIN:STANDARD
TZOFFSETFROM:-0400
TZOFFSETTO:-0500
TZNAME:EST
DTSTART:20131103T060000
END:STANDARD
BEGIN:DAYLIGHT
TZOFFSETFROM:-0500
TZOFFSETTO:-0400
TZNAME:EDT
DTSTART:20140309T070000
END:DAYLIGHT
BEGIN:STANDARD
TZOFFSETFROM:-0400
TZOFFSETTO:-0500
TZNAME:EST
DTSTART:20141102T060000
END:STANDARD
BEGIN:DAYLIGHT
TZOFFSETFROM:-0500
TZOFFSETTO:-0400
TZNAME:EDT
DTSTART:20150308T070000
END:DAYLIGHT
BEGIN:STANDARD
TZOFFSETFROM:-0400
TZOFFSETTO:-0500
TZNAME:EST
DTSTART:20151101T060000
END:STANDARD
END:VTIMEZONE
BEGIN:VEVENT
DTSTART;TZID=America/New_York:20141005T100000
DTEND;TZID=America/New_York:20141005T170000
DTSTAMP:20260422T064916
CREATED:20140901T171849Z
LAST-MODIFIED:20140901T171849Z
UID:6611-1412503200-1412528400@playpittsburgh.com
SUMMARY:Pumpkinland at Janoski's 
DESCRIPTION:Open on weekends in October to the public. \nPumpkinland is Open Weekends in October to the public. Come to the farm and take a hay ride to the pumpkin patch to pick your own pumpkin. When you come back from your hayride you can get your face painted\, walk through our corn maze\, enjoy our petting zoo\, paint a pumpkin\, and walk through our haunted barn. We also have a straw jump and a bike path. There are many fun activities for the whole family.\nAdmission $5.00 per person. \nConcession stand Opened as well as the use of the picnic area. \n  \n  \n 
URL:https://playpittsburgh.com/event/pumpkinland-at-janoskis-2-2/2014-10-05/
LOCATION:Janoski’s Farm & Greenhouse\, 1714 State Route 30\, Clinton\, PA\, 15026\, United States
CATEGORIES:Festivals,Outdoor
GEO:40.4914858;-80.3309993
X-APPLE-STRUCTURED-LOCATION;VALUE=URI;X-ADDRESS=Janoski’s Farm & Greenhouse 1714 State Route 30 Clinton PA 15026 United States;X-APPLE-RADIUS=500;X-TITLE=1714 State Route 30:geo:-80.3309993,40.4914858
END:VEVENT
END:VCALENDAR