BEGIN:VCALENDAR
VERSION:2.0
PRODID:-//Play Pittsburgh - ECPv6.15.20//NONSGML v1.0//EN
CALSCALE:GREGORIAN
METHOD:PUBLISH
X-ORIGINAL-URL:https://playpittsburgh.com
X-WR-CALDESC:Events for Play Pittsburgh
REFRESH-INTERVAL;VALUE=DURATION:PT1H
X-Robots-Tag:noindex
X-PUBLISHED-TTL:PT1H
BEGIN:VTIMEZONE
TZID:America/New_York
BEGIN:DAYLIGHT
TZOFFSETFROM:-0500
TZOFFSETTO:-0400
TZNAME:EDT
DTSTART:20130310T070000
END:DAYLIGHT
BEGIN:STANDARD
TZOFFSETFROM:-0400
TZOFFSETTO:-0500
TZNAME:EST
DTSTART:20131103T060000
END:STANDARD
BEGIN:DAYLIGHT
TZOFFSETFROM:-0500
TZOFFSETTO:-0400
TZNAME:EDT
DTSTART:20140309T070000
END:DAYLIGHT
BEGIN:STANDARD
TZOFFSETFROM:-0400
TZOFFSETTO:-0500
TZNAME:EST
DTSTART:20141102T060000
END:STANDARD
BEGIN:DAYLIGHT
TZOFFSETFROM:-0500
TZOFFSETTO:-0400
TZNAME:EDT
DTSTART:20150308T070000
END:DAYLIGHT
BEGIN:STANDARD
TZOFFSETFROM:-0400
TZOFFSETTO:-0500
TZNAME:EST
DTSTART:20151101T060000
END:STANDARD
END:VTIMEZONE
BEGIN:VEVENT
DTSTART;TZID=America/New_York:20141004T100000
DTEND;TZID=America/New_York:20141004T170000
DTSTAMP:20260422T075408
CREATED:20140901T161419Z
LAST-MODIFIED:20140901T161419Z
UID:3395-1412416800-1412442000@playpittsburgh.com
SUMMARY:Pumpkin Patch @ Soergel's
DESCRIPTION:Children’s activities include Straw Tunnel\, Sluice\, Little Diggers\, Giant Slide\, Shootin’ Gallery\, Bounce House\, Train Ride\, Flippin’ Fish\, Tractor Hayrides\, Pirate Ship Play Area (free)\, Tiny Town Play Area(free)\, Straw Stack (free)\, Farm Animals (free) and more! Admission is free and activities are pay as you play. \nThere will be a ton a great food every fall festival weekend including hot dogs\, kettle corn\, pie\, apple cider\, hot sandwiches\, candy apples\, caramel apples\, funnel cake\, ice cream and more! \n>>Read about our trip to Soergel’s!  \n\nOct. 4 & 5 – Apple Blast Weekend!: Learn the story of Johnny Appleseed and sample a wide variety of apples.\nOct. 11 & 12 – Pumpkin-palooza: Pumpkins galore! Don’t miss a trip to the pumpkin patch!\nOct. 18 & 19 – Harvest Weekend\nOct. 25 & 26 – Halloween Celebration
URL:https://playpittsburgh.com/event/pumpkin-patch-soergels/2014-10-04/
LOCATION:Soergel Orchards\, 2573 Brandt School Road\, Wexford\, PA\, 15090\, United States
CATEGORIES:Festivals,Outdoor
GEO:40.612184;-80.092151
X-APPLE-STRUCTURED-LOCATION;VALUE=URI;X-ADDRESS=Soergel Orchards 2573 Brandt School Road Wexford PA 15090 United States;X-APPLE-RADIUS=500;X-TITLE=2573 Brandt School Road:geo:-80.092151,40.612184
END:VEVENT
END:VCALENDAR