BEGIN:VCALENDAR
VERSION:2.0
PRODID:-//Play Pittsburgh - ECPv6.15.20//NONSGML v1.0//EN
CALSCALE:GREGORIAN
METHOD:PUBLISH
X-WR-CALNAME:Play Pittsburgh
X-ORIGINAL-URL:https://playpittsburgh.com
X-WR-CALDESC:Events for Play Pittsburgh
REFRESH-INTERVAL;VALUE=DURATION:PT1H
X-Robots-Tag:noindex
X-PUBLISHED-TTL:PT1H
BEGIN:VTIMEZONE
TZID:America/New_York
BEGIN:DAYLIGHT
TZOFFSETFROM:-0500
TZOFFSETTO:-0400
TZNAME:EDT
DTSTART:20130310T070000
END:DAYLIGHT
BEGIN:STANDARD
TZOFFSETFROM:-0400
TZOFFSETTO:-0500
TZNAME:EST
DTSTART:20131103T060000
END:STANDARD
BEGIN:DAYLIGHT
TZOFFSETFROM:-0500
TZOFFSETTO:-0400
TZNAME:EDT
DTSTART:20140309T070000
END:DAYLIGHT
BEGIN:STANDARD
TZOFFSETFROM:-0400
TZOFFSETTO:-0500
TZNAME:EST
DTSTART:20141102T060000
END:STANDARD
BEGIN:DAYLIGHT
TZOFFSETFROM:-0500
TZOFFSETTO:-0400
TZNAME:EDT
DTSTART:20150308T070000
END:DAYLIGHT
BEGIN:STANDARD
TZOFFSETFROM:-0400
TZOFFSETTO:-0500
TZNAME:EST
DTSTART:20151101T060000
END:STANDARD
END:VTIMEZONE
BEGIN:VEVENT
DTSTART;TZID=America/New_York:20141231T100000
DTEND;TZID=America/New_York:20141231T150000
DTSTAMP:20260422T030901
CREATED:20141205T075213Z
LAST-MODIFIED:20141205T075213Z
UID:8228-1420020000-1420038000@playpittsburgh.com
SUMMARY:Pittsburgh Zoo Winter Mini-Camp
DESCRIPTION:Winter Mini-Camp is a five-hour program that focuses on the beauty and magic of nature. Children can choose to participate for one\, two\, or all three days. Participants will learn about a new topic each day through live animal visits\, craft projects\, and exciting zoo tours.\nFor ages 5-9\nDec. 29\, 30\, 31\, 10am-3pm\nFee per day: Members $27\, Non-members $33\nor for all 3 days: Members $75\, Non-members $93
URL:https://playpittsburgh.com/event/pittsburgh-zoo-winter-mini-camp/2014-12-31/
LOCATION:Pittsburgh Zoo & PPG Aquarium\, 7340 Butler St\, Pittsburgh\, PA\, 15206\, United States
GEO:40.4858637;-79.9209215
X-APPLE-STRUCTURED-LOCATION;VALUE=URI;X-ADDRESS=Pittsburgh Zoo & PPG Aquarium 7340 Butler St Pittsburgh PA 15206 United States;X-APPLE-RADIUS=500;X-TITLE=7340 Butler St:geo:-79.9209215,40.4858637
END:VEVENT
BEGIN:VEVENT
DTSTART;TZID=America/New_York:20141230T100000
DTEND;TZID=America/New_York:20141230T150000
DTSTAMP:20260422T030901
CREATED:20141205T075213Z
LAST-MODIFIED:20141205T075213Z
UID:8227-1419933600-1419951600@playpittsburgh.com
SUMMARY:Pittsburgh Zoo Winter Mini-Camp
DESCRIPTION:Winter Mini-Camp is a five-hour program that focuses on the beauty and magic of nature. Children can choose to participate for one\, two\, or all three days. Participants will learn about a new topic each day through live animal visits\, craft projects\, and exciting zoo tours.\nFor ages 5-9\nDec. 29\, 30\, 31\, 10am-3pm\nFee per day: Members $27\, Non-members $33\nor for all 3 days: Members $75\, Non-members $93
URL:https://playpittsburgh.com/event/pittsburgh-zoo-winter-mini-camp/2014-12-30/
LOCATION:Pittsburgh Zoo & PPG Aquarium\, 7340 Butler St\, Pittsburgh\, PA\, 15206\, United States
GEO:40.4858637;-79.9209215
X-APPLE-STRUCTURED-LOCATION;VALUE=URI;X-ADDRESS=Pittsburgh Zoo & PPG Aquarium 7340 Butler St Pittsburgh PA 15206 United States;X-APPLE-RADIUS=500;X-TITLE=7340 Butler St:geo:-79.9209215,40.4858637
END:VEVENT
BEGIN:VEVENT
DTSTART;TZID=America/New_York:20141229T100000
DTEND;TZID=America/New_York:20141229T150000
DTSTAMP:20260422T030901
CREATED:20141205T075213Z
LAST-MODIFIED:20141205T075213Z
UID:5207-1419847200-1419865200@playpittsburgh.com
SUMMARY:Pittsburgh Zoo Winter Mini-Camp
DESCRIPTION:Winter Mini-Camp is a five-hour program that focuses on the beauty and magic of nature. Children can choose to participate for one\, two\, or all three days. Participants will learn about a new topic each day through live animal visits\, craft projects\, and exciting zoo tours.\nFor ages 5-9\nDec. 29\, 30\, 31\, 10am-3pm\nFee per day: Members $27\, Non-members $33\nor for all 3 days: Members $75\, Non-members $93
URL:https://playpittsburgh.com/event/pittsburgh-zoo-winter-mini-camp/2014-12-29/
LOCATION:Pittsburgh Zoo & PPG Aquarium\, 7340 Butler St\, Pittsburgh\, PA\, 15206\, United States
GEO:40.4858637;-79.9209215
X-APPLE-STRUCTURED-LOCATION;VALUE=URI;X-ADDRESS=Pittsburgh Zoo & PPG Aquarium 7340 Butler St Pittsburgh PA 15206 United States;X-APPLE-RADIUS=500;X-TITLE=7340 Butler St:geo:-79.9209215,40.4858637
END:VEVENT
END:VCALENDAR