BEGIN:VCALENDAR
VERSION:2.0
PRODID:-//Play Pittsburgh - ECPv6.15.20//NONSGML v1.0//EN
CALSCALE:GREGORIAN
METHOD:PUBLISH
X-ORIGINAL-URL:https://playpittsburgh.com
X-WR-CALDESC:Events for Play Pittsburgh
REFRESH-INTERVAL;VALUE=DURATION:PT1H
X-Robots-Tag:noindex
X-PUBLISHED-TTL:PT1H
BEGIN:VTIMEZONE
TZID:America/New_York
BEGIN:DAYLIGHT
TZOFFSETFROM:-0500
TZOFFSETTO:-0400
TZNAME:EDT
DTSTART:20130310T070000
END:DAYLIGHT
BEGIN:STANDARD
TZOFFSETFROM:-0400
TZOFFSETTO:-0500
TZNAME:EST
DTSTART:20131103T060000
END:STANDARD
BEGIN:DAYLIGHT
TZOFFSETFROM:-0500
TZOFFSETTO:-0400
TZNAME:EDT
DTSTART:20140309T070000
END:DAYLIGHT
BEGIN:STANDARD
TZOFFSETFROM:-0400
TZOFFSETTO:-0500
TZNAME:EST
DTSTART:20141102T060000
END:STANDARD
BEGIN:DAYLIGHT
TZOFFSETFROM:-0500
TZOFFSETTO:-0400
TZNAME:EDT
DTSTART:20150308T070000
END:DAYLIGHT
BEGIN:STANDARD
TZOFFSETFROM:-0400
TZOFFSETTO:-0500
TZNAME:EST
DTSTART:20151101T060000
END:STANDARD
END:VTIMEZONE
BEGIN:VEVENT
DTSTART;TZID=America/New_York:20140711T080000
DTEND;TZID=America/New_York:20140711T170000
DTSTAMP:20260422T160852
CREATED:20140625T061149Z
LAST-MODIFIED:20140625T061150Z
UID:2069-1405065600-1405098000@playpittsburgh.com
SUMMARY:Pittsburgh Vintage Grand Prix
DESCRIPTION:Friday\, July 11 | Racer Test & Tune at Pitt-Race Complex: Vintage race drivers get a chance to tune their racers and practice on the track for the races that weekend. Free to the viewing public. \nMonday July 14 – 5:00 pm – 9:00 pm | Invitational Car Show on Walnut Street: Nestled on Shadyside’s charming Walnut Street view rare\, classic and exotic cars – a sampling of what is to come on the weekend at Schenley Park. Show cars by invitation\, free to spectators. \nTuesday July 15 – 5:00 pm – 9:00 pm | Waterfront Car Cruise: Join us and see over 500 cars of all marques. $5 donation to our charities is requested. \nWednesday July 16 – 10:30 – 2:00 pm | Downtown Parade & Car Display: 100 Race and show cars will thunder through downtown Pittsburgh on their way to car displays at the U.S. Steel Tower\, PPG Place\, Market Square and Point State Park. \nWednesday July 16 – 6:00 pm– 9:00 pm | Grand Prix Tune-Up @ Atria’s: A special happy hour downtown with a new location – Atria’s at PNC Park and a car show on the Clemente Bridge! Live entertainment and silent auction. $40 per person at the door includes appetizers and one complimentary cocktail. \nThursday July 17 – 7:00 pm– 1:00 am | Hard Rock Cafe – “Cars & Guitars” Concert: The Pittsburgh Vintage Grand Prix is excited to hold this event at the Hard Rock Cafe at Station Square for the second straight year. Featuring the Gathering Field and Maddie Georgi. \nSaturday\, July 19 | Schenley Park Car Shows and Race Qualifying: International Car Shows & British Car Day – 11:00 am – 4:00 pm | Come see classic\, antique\, and exotic vehicles including British\, American\, German\, Asian and Italian cars on the golfcourse. Watch 150 vintage racers compete on the track all day to quality for Sunday’s featured races. \nSunday\, July 20 | Schenley Park Race Day: Our 10-day event closes with a bang as we continue with our races and car shows all day long. 8:15 AM to 10:15 AM Warm-up & Practice Laps 11:00 AM to noon Opening Ceremonies\, Parade laps by MINI Marque and Patron Parkers 12:00 to 5:00 PM Vintage Races 9:30 AM to 4:00 PM International Car Show on golf course
URL:https://playpittsburgh.com/event/pittsburgh-vintage-grand-prix/2014-07-11/
CATEGORIES:Free,Outdoor
END:VEVENT
END:VCALENDAR