BEGIN:VCALENDAR
VERSION:2.0
PRODID:-//Play Pittsburgh - ECPv6.15.20//NONSGML v1.0//EN
CALSCALE:GREGORIAN
METHOD:PUBLISH
X-ORIGINAL-URL:https://playpittsburgh.com
X-WR-CALDESC:Events for Play Pittsburgh
REFRESH-INTERVAL;VALUE=DURATION:PT1H
X-Robots-Tag:noindex
X-PUBLISHED-TTL:PT1H
BEGIN:VTIMEZONE
TZID:America/New_York
BEGIN:DAYLIGHT
TZOFFSETFROM:-0500
TZOFFSETTO:-0400
TZNAME:EDT
DTSTART:20150308T070000
END:DAYLIGHT
BEGIN:STANDARD
TZOFFSETFROM:-0400
TZOFFSETTO:-0500
TZNAME:EST
DTSTART:20151101T060000
END:STANDARD
BEGIN:DAYLIGHT
TZOFFSETFROM:-0500
TZOFFSETTO:-0400
TZNAME:EDT
DTSTART:20160313T070000
END:DAYLIGHT
BEGIN:STANDARD
TZOFFSETFROM:-0400
TZOFFSETTO:-0500
TZNAME:EST
DTSTART:20161106T060000
END:STANDARD
BEGIN:DAYLIGHT
TZOFFSETFROM:-0500
TZOFFSETTO:-0400
TZNAME:EDT
DTSTART:20170312T070000
END:DAYLIGHT
BEGIN:STANDARD
TZOFFSETFROM:-0400
TZOFFSETTO:-0500
TZNAME:EST
DTSTART:20171105T060000
END:STANDARD
END:VTIMEZONE
BEGIN:VEVENT
DTSTART;TZID=America/New_York:20160716T120000
DTEND;TZID=America/New_York:20160716T220000
DTSTAMP:20260421T153649
CREATED:20160704T153651Z
LAST-MODIFIED:20160704T153651Z
UID:9429-1468670400-1468706400@playpittsburgh.com
SUMMARY:Picklesburgh
DESCRIPTION:On Friday\, July 15 and Saturday\, July 16\, the Rachel Carson Bridge in Downtown Pittsburgh transforms into Picklesburgh\, highlighted by a giant flying Heinz pickle balloon\, custom built by a team that also crafts balloons for Disney and the Macy’s Thanksgiving Day parade. The Picklesburgh festival is a culinary celebration that goes beyond the dill pickle to include international dishes\, prepared foods and artisan cocktails that feature pickled ingredients; an embrace of the farm-to-table movement and the rising popularity of canning; a selection of handcrafted foods and artisan cocktails from local restaurants; informative how-to demos and author talks at our demo area; merchandise such as pickled goods\, books and DIY products. \nFood\, crafts\, vendors and all things pickled! Picklesburgh 2016 will be held on Friday\, July 15 and Saturday\, July 16 on the Rachel Carson Bridge from 12:00 – 10:00 p.m.
URL:https://playpittsburgh.com/event/picklesburgh/2016-07-16/
LOCATION:Rachel Carson Bridge\, Pittsburgh \, PA\, 15222
CATEGORIES:Festivals
GEO:40.4475255;-79.9933976
END:VEVENT
BEGIN:VEVENT
DTSTART;TZID=America/New_York:20160715T120000
DTEND;TZID=America/New_York:20160715T220000
DTSTAMP:20260421T153649
CREATED:20160704T153651Z
LAST-MODIFIED:20160704T153850Z
UID:9426-1468584000-1468620000@playpittsburgh.com
SUMMARY:Picklesburgh
DESCRIPTION:On Friday\, July 15 and Saturday\, July 16\, the Rachel Carson Bridge in Downtown Pittsburgh transforms into Picklesburgh\, highlighted by a giant flying Heinz pickle balloon\, custom built by a team that also crafts balloons for Disney and the Macy’s Thanksgiving Day parade. The Picklesburgh festival is a culinary celebration that goes beyond the dill pickle to include international dishes\, prepared foods and artisan cocktails that feature pickled ingredients; an embrace of the farm-to-table movement and the rising popularity of canning; a selection of handcrafted foods and artisan cocktails from local restaurants; informative how-to demos and author talks at our demo area; merchandise such as pickled goods\, books and DIY products. \nFood\, crafts\, vendors and all things pickled! Picklesburgh 2016 will be held on Friday\, July 15 and Saturday\, July 16 on the Rachel Carson Bridge from 12:00 – 10:00 p.m.
URL:https://playpittsburgh.com/event/picklesburgh/2016-07-15/
LOCATION:Rachel Carson Bridge\, Pittsburgh \, PA\, 15222
CATEGORIES:Festivals
GEO:40.4475255;-79.9933976
END:VEVENT
END:VCALENDAR