BEGIN:VCALENDAR
VERSION:2.0
PRODID:-//Play Pittsburgh - ECPv6.15.20//NONSGML v1.0//EN
CALSCALE:GREGORIAN
METHOD:PUBLISH
X-ORIGINAL-URL:https://playpittsburgh.com
X-WR-CALDESC:Events for Play Pittsburgh
REFRESH-INTERVAL;VALUE=DURATION:PT1H
X-Robots-Tag:noindex
X-PUBLISHED-TTL:PT1H
BEGIN:VTIMEZONE
TZID:America/New_York
BEGIN:DAYLIGHT
TZOFFSETFROM:-0500
TZOFFSETTO:-0400
TZNAME:EDT
DTSTART:20130310T070000
END:DAYLIGHT
BEGIN:STANDARD
TZOFFSETFROM:-0400
TZOFFSETTO:-0500
TZNAME:EST
DTSTART:20131103T060000
END:STANDARD
BEGIN:DAYLIGHT
TZOFFSETFROM:-0500
TZOFFSETTO:-0400
TZNAME:EDT
DTSTART:20140309T070000
END:DAYLIGHT
BEGIN:STANDARD
TZOFFSETFROM:-0400
TZOFFSETTO:-0500
TZNAME:EST
DTSTART:20141102T060000
END:STANDARD
BEGIN:DAYLIGHT
TZOFFSETFROM:-0500
TZOFFSETTO:-0400
TZNAME:EDT
DTSTART:20150308T070000
END:DAYLIGHT
BEGIN:STANDARD
TZOFFSETFROM:-0400
TZOFFSETTO:-0500
TZNAME:EST
DTSTART:20151101T060000
END:STANDARD
BEGIN:DAYLIGHT
TZOFFSETFROM:-0500
TZOFFSETTO:-0400
TZNAME:EDT
DTSTART:20160313T070000
END:DAYLIGHT
BEGIN:STANDARD
TZOFFSETFROM:-0400
TZOFFSETTO:-0500
TZNAME:EST
DTSTART:20161106T060000
END:STANDARD
END:VTIMEZONE
BEGIN:VEVENT
DTSTART;TZID=America/New_York:20150130T173000
DTEND;TZID=America/New_York:20150130T203000
DTSTAMP:20260422T083608
CREATED:20141203T213818Z
LAST-MODIFIED:20141203T213818Z
UID:8152-1422639000-1422649800@playpittsburgh.com
SUMMARY:Parent’s Night Out at Snapology
DESCRIPTION:Every Friday night is Parents’ Night Out! Snapology’s Discovery Center in Bethel Park is open 5:30-8:30pm. Bring the kids by and take some time to yourself. Shop\, eat\, relax or have a date with that special someone. Let us entertain the kids for you. Just $5 per hour for the first 2 hours. Parents must stay with kids age 4 or under. Kids age 5+ may be dropped off.
URL:https://playpittsburgh.com/event/parents-night-out-at-snapology/2015-01-30/
LOCATION:Snapology (Bethel Park)\, 1699 Washington Rd\, Mt Lebanon\, PA\, 15228\, United States
GEO:40.3491516;-80.0514502
X-APPLE-STRUCTURED-LOCATION;VALUE=URI;X-ADDRESS=Snapology (Bethel Park) 1699 Washington Rd Mt Lebanon PA 15228 United States;X-APPLE-RADIUS=500;X-TITLE=1699 Washington Rd:geo:-80.0514502,40.3491516
END:VEVENT
BEGIN:VEVENT
DTSTART;TZID=America/New_York:20150123T173000
DTEND;TZID=America/New_York:20150123T203000
DTSTAMP:20260422T083608
CREATED:20141203T213818Z
LAST-MODIFIED:20141203T213818Z
UID:8151-1422034200-1422045000@playpittsburgh.com
SUMMARY:Parent’s Night Out at Snapology
DESCRIPTION:Every Friday night is Parents’ Night Out! Snapology’s Discovery Center in Bethel Park is open 5:30-8:30pm. Bring the kids by and take some time to yourself. Shop\, eat\, relax or have a date with that special someone. Let us entertain the kids for you. Just $5 per hour for the first 2 hours. Parents must stay with kids age 4 or under. Kids age 5+ may be dropped off.
URL:https://playpittsburgh.com/event/parents-night-out-at-snapology/2015-01-23/
LOCATION:Snapology (Bethel Park)\, 1699 Washington Rd\, Mt Lebanon\, PA\, 15228\, United States
GEO:40.3491516;-80.0514502
X-APPLE-STRUCTURED-LOCATION;VALUE=URI;X-ADDRESS=Snapology (Bethel Park) 1699 Washington Rd Mt Lebanon PA 15228 United States;X-APPLE-RADIUS=500;X-TITLE=1699 Washington Rd:geo:-80.0514502,40.3491516
END:VEVENT
BEGIN:VEVENT
DTSTART;TZID=America/New_York:20150116T173000
DTEND;TZID=America/New_York:20150116T203000
DTSTAMP:20260422T083608
CREATED:20141203T213818Z
LAST-MODIFIED:20141203T213818Z
UID:8150-1421429400-1421440200@playpittsburgh.com
SUMMARY:Parent’s Night Out at Snapology
DESCRIPTION:Every Friday night is Parents’ Night Out! Snapology’s Discovery Center in Bethel Park is open 5:30-8:30pm. Bring the kids by and take some time to yourself. Shop\, eat\, relax or have a date with that special someone. Let us entertain the kids for you. Just $5 per hour for the first 2 hours. Parents must stay with kids age 4 or under. Kids age 5+ may be dropped off.
URL:https://playpittsburgh.com/event/parents-night-out-at-snapology/2015-01-16/
LOCATION:Snapology (Bethel Park)\, 1699 Washington Rd\, Mt Lebanon\, PA\, 15228\, United States
GEO:40.3491516;-80.0514502
X-APPLE-STRUCTURED-LOCATION;VALUE=URI;X-ADDRESS=Snapology (Bethel Park) 1699 Washington Rd Mt Lebanon PA 15228 United States;X-APPLE-RADIUS=500;X-TITLE=1699 Washington Rd:geo:-80.0514502,40.3491516
END:VEVENT
BEGIN:VEVENT
DTSTART;TZID=America/New_York:20150109T173000
DTEND;TZID=America/New_York:20150109T203000
DTSTAMP:20260422T083608
CREATED:20141203T213818Z
LAST-MODIFIED:20141203T213818Z
UID:8149-1420824600-1420835400@playpittsburgh.com
SUMMARY:Parent’s Night Out at Snapology
DESCRIPTION:Every Friday night is Parents’ Night Out! Snapology’s Discovery Center in Bethel Park is open 5:30-8:30pm. Bring the kids by and take some time to yourself. Shop\, eat\, relax or have a date with that special someone. Let us entertain the kids for you. Just $5 per hour for the first 2 hours. Parents must stay with kids age 4 or under. Kids age 5+ may be dropped off.
URL:https://playpittsburgh.com/event/parents-night-out-at-snapology/2015-01-09/
LOCATION:Snapology (Bethel Park)\, 1699 Washington Rd\, Mt Lebanon\, PA\, 15228\, United States
GEO:40.3491516;-80.0514502
X-APPLE-STRUCTURED-LOCATION;VALUE=URI;X-ADDRESS=Snapology (Bethel Park) 1699 Washington Rd Mt Lebanon PA 15228 United States;X-APPLE-RADIUS=500;X-TITLE=1699 Washington Rd:geo:-80.0514502,40.3491516
END:VEVENT
BEGIN:VEVENT
DTSTART;TZID=America/New_York:20150102T173000
DTEND;TZID=America/New_York:20150102T203000
DTSTAMP:20260422T083608
CREATED:20141203T213818Z
LAST-MODIFIED:20141203T213818Z
UID:8148-1420219800-1420230600@playpittsburgh.com
SUMMARY:Parent’s Night Out at Snapology
DESCRIPTION:Every Friday night is Parents’ Night Out! Snapology’s Discovery Center in Bethel Park is open 5:30-8:30pm. Bring the kids by and take some time to yourself. Shop\, eat\, relax or have a date with that special someone. Let us entertain the kids for you. Just $5 per hour for the first 2 hours. Parents must stay with kids age 4 or under. Kids age 5+ may be dropped off.
URL:https://playpittsburgh.com/event/parents-night-out-at-snapology/2015-01-02/
LOCATION:Snapology (Bethel Park)\, 1699 Washington Rd\, Mt Lebanon\, PA\, 15228\, United States
GEO:40.3491516;-80.0514502
X-APPLE-STRUCTURED-LOCATION;VALUE=URI;X-ADDRESS=Snapology (Bethel Park) 1699 Washington Rd Mt Lebanon PA 15228 United States;X-APPLE-RADIUS=500;X-TITLE=1699 Washington Rd:geo:-80.0514502,40.3491516
END:VEVENT
BEGIN:VEVENT
DTSTART;TZID=America/New_York:20141226T173000
DTEND;TZID=America/New_York:20141226T203000
DTSTAMP:20260422T083608
CREATED:20141203T213818Z
LAST-MODIFIED:20141203T213818Z
UID:8147-1419615000-1419625800@playpittsburgh.com
SUMMARY:Parent’s Night Out at Snapology
DESCRIPTION:Every Friday night is Parents’ Night Out! Snapology’s Discovery Center in Bethel Park is open 5:30-8:30pm. Bring the kids by and take some time to yourself. Shop\, eat\, relax or have a date with that special someone. Let us entertain the kids for you. Just $5 per hour for the first 2 hours. Parents must stay with kids age 4 or under. Kids age 5+ may be dropped off.
URL:https://playpittsburgh.com/event/parents-night-out-at-snapology/2014-12-26/
LOCATION:Snapology (Bethel Park)\, 1699 Washington Rd\, Mt Lebanon\, PA\, 15228\, United States
GEO:40.3491516;-80.0514502
X-APPLE-STRUCTURED-LOCATION;VALUE=URI;X-ADDRESS=Snapology (Bethel Park) 1699 Washington Rd Mt Lebanon PA 15228 United States;X-APPLE-RADIUS=500;X-TITLE=1699 Washington Rd:geo:-80.0514502,40.3491516
END:VEVENT
BEGIN:VEVENT
DTSTART;TZID=America/New_York:20141219T173000
DTEND;TZID=America/New_York:20141219T203000
DTSTAMP:20260422T083608
CREATED:20141203T213818Z
LAST-MODIFIED:20141203T213818Z
UID:8146-1419010200-1419021000@playpittsburgh.com
SUMMARY:Parent’s Night Out at Snapology
DESCRIPTION:Every Friday night is Parents’ Night Out! Snapology’s Discovery Center in Bethel Park is open 5:30-8:30pm. Bring the kids by and take some time to yourself. Shop\, eat\, relax or have a date with that special someone. Let us entertain the kids for you. Just $5 per hour for the first 2 hours. Parents must stay with kids age 4 or under. Kids age 5+ may be dropped off.
URL:https://playpittsburgh.com/event/parents-night-out-at-snapology/2014-12-19/
LOCATION:Snapology (Bethel Park)\, 1699 Washington Rd\, Mt Lebanon\, PA\, 15228\, United States
GEO:40.3491516;-80.0514502
X-APPLE-STRUCTURED-LOCATION;VALUE=URI;X-ADDRESS=Snapology (Bethel Park) 1699 Washington Rd Mt Lebanon PA 15228 United States;X-APPLE-RADIUS=500;X-TITLE=1699 Washington Rd:geo:-80.0514502,40.3491516
END:VEVENT
BEGIN:VEVENT
DTSTART;TZID=America/New_York:20141212T173000
DTEND;TZID=America/New_York:20141212T203000
DTSTAMP:20260422T083608
CREATED:20141203T213818Z
LAST-MODIFIED:20141203T213818Z
UID:8145-1418405400-1418416200@playpittsburgh.com
SUMMARY:Parent’s Night Out at Snapology
DESCRIPTION:Every Friday night is Parents’ Night Out! Snapology’s Discovery Center in Bethel Park is open 5:30-8:30pm. Bring the kids by and take some time to yourself. Shop\, eat\, relax or have a date with that special someone. Let us entertain the kids for you. Just $5 per hour for the first 2 hours. Parents must stay with kids age 4 or under. Kids age 5+ may be dropped off.
URL:https://playpittsburgh.com/event/parents-night-out-at-snapology/2014-12-12/
LOCATION:Snapology (Bethel Park)\, 1699 Washington Rd\, Mt Lebanon\, PA\, 15228\, United States
GEO:40.3491516;-80.0514502
X-APPLE-STRUCTURED-LOCATION;VALUE=URI;X-ADDRESS=Snapology (Bethel Park) 1699 Washington Rd Mt Lebanon PA 15228 United States;X-APPLE-RADIUS=500;X-TITLE=1699 Washington Rd:geo:-80.0514502,40.3491516
END:VEVENT
BEGIN:VEVENT
DTSTART;TZID=America/New_York:20141205T173000
DTEND;TZID=America/New_York:20141205T203000
DTSTAMP:20260422T083608
CREATED:20141203T213818Z
LAST-MODIFIED:20141203T213818Z
UID:5023-1417800600-1417811400@playpittsburgh.com
SUMMARY:Parent’s Night Out at Snapology
DESCRIPTION:Every Friday night is Parents’ Night Out! Snapology’s Discovery Center in Bethel Park is open 5:30-8:30pm. Bring the kids by and take some time to yourself. Shop\, eat\, relax or have a date with that special someone. Let us entertain the kids for you. Just $5 per hour for the first 2 hours. Parents must stay with kids age 4 or under. Kids age 5+ may be dropped off.
URL:https://playpittsburgh.com/event/parents-night-out-at-snapology/2014-12-05/
LOCATION:Snapology (Bethel Park)\, 1699 Washington Rd\, Mt Lebanon\, PA\, 15228\, United States
GEO:40.3491516;-80.0514502
X-APPLE-STRUCTURED-LOCATION;VALUE=URI;X-ADDRESS=Snapology (Bethel Park) 1699 Washington Rd Mt Lebanon PA 15228 United States;X-APPLE-RADIUS=500;X-TITLE=1699 Washington Rd:geo:-80.0514502,40.3491516
END:VEVENT
END:VCALENDAR