BEGIN:VCALENDAR
VERSION:2.0
PRODID:-//Play Pittsburgh - ECPv6.15.20//NONSGML v1.0//EN
CALSCALE:GREGORIAN
METHOD:PUBLISH
X-WR-CALNAME:Play Pittsburgh
X-ORIGINAL-URL:https://playpittsburgh.com
X-WR-CALDESC:Events for Play Pittsburgh
REFRESH-INTERVAL;VALUE=DURATION:PT1H
X-Robots-Tag:noindex
X-PUBLISHED-TTL:PT1H
BEGIN:VTIMEZONE
TZID:America/New_York
BEGIN:DAYLIGHT
TZOFFSETFROM:-0500
TZOFFSETTO:-0400
TZNAME:EDT
DTSTART:20130310T070000
END:DAYLIGHT
BEGIN:STANDARD
TZOFFSETFROM:-0400
TZOFFSETTO:-0500
TZNAME:EST
DTSTART:20131103T060000
END:STANDARD
BEGIN:DAYLIGHT
TZOFFSETFROM:-0500
TZOFFSETTO:-0400
TZNAME:EDT
DTSTART:20140309T070000
END:DAYLIGHT
BEGIN:STANDARD
TZOFFSETFROM:-0400
TZOFFSETTO:-0500
TZNAME:EST
DTSTART:20141102T060000
END:STANDARD
BEGIN:DAYLIGHT
TZOFFSETFROM:-0500
TZOFFSETTO:-0400
TZNAME:EDT
DTSTART:20150308T070000
END:DAYLIGHT
BEGIN:STANDARD
TZOFFSETFROM:-0400
TZOFFSETTO:-0500
TZNAME:EST
DTSTART:20151101T060000
END:STANDARD
END:VTIMEZONE
BEGIN:VEVENT
DTSTART;TZID=America/New_York:20141103T104500
DTEND;TZID=America/New_York:20141103T114500
DTSTAMP:20260422T134646
CREATED:20141030T211024Z
LAST-MODIFIED:20141030T211024Z
UID:6862-1415011500-1415015100@playpittsburgh.com
SUMMARY:Parachute Play at Shaler North Hills Library
DESCRIPTION:Thirty activity-filled minutes that include music\, creative movement and fun\, all with one colorful parachute!
URL:https://playpittsburgh.com/event/parachute-play-at-shaler-north-hills-library/2014-11-03/
LOCATION:Shaler North Hills Library\, 1822 Mt. Royal Blvd.\, Glenshaw \, PA\, 15116\, United States
CATEGORIES:Free
ATTACH;FMTTYPE=:
GEO:40.528286;-79.9642889
X-APPLE-STRUCTURED-LOCATION;VALUE=URI;X-ADDRESS=Shaler North Hills Library 1822 Mt. Royal Blvd. Glenshaw  PA 15116 United States;X-APPLE-RADIUS=500;X-TITLE=1822 Mt. Royal Blvd.:geo:-79.9642889,40.528286
END:VEVENT
END:VCALENDAR