BEGIN:VCALENDAR
VERSION:2.0
PRODID:-//Play Pittsburgh - ECPv6.15.20//NONSGML v1.0//EN
CALSCALE:GREGORIAN
METHOD:PUBLISH
X-WR-CALNAME:Play Pittsburgh
X-ORIGINAL-URL:https://playpittsburgh.com
X-WR-CALDESC:Events for Play Pittsburgh
REFRESH-INTERVAL;VALUE=DURATION:PT1H
X-Robots-Tag:noindex
X-PUBLISHED-TTL:PT1H
BEGIN:VTIMEZONE
TZID:America/New_York
BEGIN:DAYLIGHT
TZOFFSETFROM:-0500
TZOFFSETTO:-0400
TZNAME:EDT
DTSTART:20130310T070000
END:DAYLIGHT
BEGIN:STANDARD
TZOFFSETFROM:-0400
TZOFFSETTO:-0500
TZNAME:EST
DTSTART:20131103T060000
END:STANDARD
BEGIN:DAYLIGHT
TZOFFSETFROM:-0500
TZOFFSETTO:-0400
TZNAME:EDT
DTSTART:20140309T070000
END:DAYLIGHT
BEGIN:STANDARD
TZOFFSETFROM:-0400
TZOFFSETTO:-0500
TZNAME:EST
DTSTART:20141102T060000
END:STANDARD
BEGIN:DAYLIGHT
TZOFFSETFROM:-0500
TZOFFSETTO:-0400
TZNAME:EDT
DTSTART:20150308T070000
END:DAYLIGHT
BEGIN:STANDARD
TZOFFSETFROM:-0400
TZOFFSETTO:-0500
TZNAME:EST
DTSTART:20151101T060000
END:STANDARD
END:VTIMEZONE
BEGIN:VEVENT
DTSTART;TZID=America/New_York:20141123T173000
DTEND;TZID=America/New_York:20141123T210000
DTSTAMP:20260422T093802
CREATED:20141102T022500Z
LAST-MODIFIED:20141102T022500Z
UID:6913-1416763800-1416776400@playpittsburgh.com
SUMMARY:Overlys Country Christmas
DESCRIPTION:Overly’s Country Christmas is a nonprofit committed to creating holiday memories with a Christmas Village that’s filled with an array of old-fashioned traditions and treats. Sing carols ‘round the bonfire\, revel in the model train display\, have your picture taken with Santa (in the days before Christmas)\, take a horse drawn wagon/sleigh ride or shop for gifts in the C. Edgar & Sons General Store plus much\, much more as you experience the beauty of this traditional winter wonderland! \n 
URL:https://playpittsburgh.com/event/overlys-country-christmas/2014-11-23/
LOCATION:PA\, United States
ATTACH;FMTTYPE=:
END:VEVENT
END:VCALENDAR