BEGIN:VCALENDAR
VERSION:2.0
PRODID:-//Play Pittsburgh - ECPv6.15.20//NONSGML v1.0//EN
CALSCALE:GREGORIAN
METHOD:PUBLISH
X-ORIGINAL-URL:https://playpittsburgh.com
X-WR-CALDESC:Events for Play Pittsburgh
REFRESH-INTERVAL;VALUE=DURATION:PT1H
X-Robots-Tag:noindex
X-PUBLISHED-TTL:PT1H
BEGIN:VTIMEZONE
TZID:America/New_York
BEGIN:DAYLIGHT
TZOFFSETFROM:-0500
TZOFFSETTO:-0400
TZNAME:EDT
DTSTART:20140309T070000
END:DAYLIGHT
BEGIN:STANDARD
TZOFFSETFROM:-0400
TZOFFSETTO:-0500
TZNAME:EST
DTSTART:20141102T060000
END:STANDARD
BEGIN:DAYLIGHT
TZOFFSETFROM:-0500
TZOFFSETTO:-0400
TZNAME:EDT
DTSTART:20150308T070000
END:DAYLIGHT
BEGIN:STANDARD
TZOFFSETFROM:-0400
TZOFFSETTO:-0500
TZNAME:EST
DTSTART:20151101T060000
END:STANDARD
BEGIN:DAYLIGHT
TZOFFSETFROM:-0500
TZOFFSETTO:-0400
TZNAME:EDT
DTSTART:20160313T070000
END:DAYLIGHT
BEGIN:STANDARD
TZOFFSETFROM:-0400
TZOFFSETTO:-0500
TZNAME:EST
DTSTART:20161106T060000
END:STANDARD
END:VTIMEZONE
BEGIN:VEVENT
DTSTART;TZID=America/New_York:20150627T123000
DTEND;TZID=America/New_York:20150627T170000
DTSTAMP:20260422T033756
CREATED:20150324T191147Z
LAST-MODIFIED:20150324T191147Z
UID:8254-1435408200-1435424400@playpittsburgh.com
SUMMARY:Open Studio at Westmoreland Museum of Art
DESCRIPTION:Every Saturday & Sunday from 12:30-5 PM\, children of all ages and their favorite adult can stop by the Museum and create their own art in the studio! There is a different art project featured each week.
URL:https://playpittsburgh.com/event/open-studio-at-westmoreland-museum-of-art/2015-06-27/
LOCATION:How to Submit a Listing
CATEGORIES:Museums
END:VEVENT
BEGIN:VEVENT
DTSTART;TZID=America/New_York:20150620T123000
DTEND;TZID=America/New_York:20150620T170000
DTSTAMP:20260422T033756
CREATED:20150324T191147Z
LAST-MODIFIED:20150324T191147Z
UID:8253-1434803400-1434819600@playpittsburgh.com
SUMMARY:Open Studio at Westmoreland Museum of Art
DESCRIPTION:Every Saturday & Sunday from 12:30-5 PM\, children of all ages and their favorite adult can stop by the Museum and create their own art in the studio! There is a different art project featured each week.
URL:https://playpittsburgh.com/event/open-studio-at-westmoreland-museum-of-art/2015-06-20/
LOCATION:How to Submit a Listing
CATEGORIES:Museums
END:VEVENT
BEGIN:VEVENT
DTSTART;TZID=America/New_York:20150613T123000
DTEND;TZID=America/New_York:20150613T170000
DTSTAMP:20260422T033756
CREATED:20150324T191147Z
LAST-MODIFIED:20150324T191147Z
UID:8252-1434198600-1434214800@playpittsburgh.com
SUMMARY:Open Studio at Westmoreland Museum of Art
DESCRIPTION:Every Saturday & Sunday from 12:30-5 PM\, children of all ages and their favorite adult can stop by the Museum and create their own art in the studio! There is a different art project featured each week.
URL:https://playpittsburgh.com/event/open-studio-at-westmoreland-museum-of-art/2015-06-13/
LOCATION:How to Submit a Listing
CATEGORIES:Museums
END:VEVENT
BEGIN:VEVENT
DTSTART;TZID=America/New_York:20150606T123000
DTEND;TZID=America/New_York:20150606T170000
DTSTAMP:20260422T033756
CREATED:20150324T191147Z
LAST-MODIFIED:20150324T191147Z
UID:8251-1433593800-1433610000@playpittsburgh.com
SUMMARY:Open Studio at Westmoreland Museum of Art
DESCRIPTION:Every Saturday & Sunday from 12:30-5 PM\, children of all ages and their favorite adult can stop by the Museum and create their own art in the studio! There is a different art project featured each week.
URL:https://playpittsburgh.com/event/open-studio-at-westmoreland-museum-of-art/2015-06-06/
LOCATION:How to Submit a Listing
CATEGORIES:Museums
END:VEVENT
BEGIN:VEVENT
DTSTART;TZID=America/New_York:20150530T123000
DTEND;TZID=America/New_York:20150530T170000
DTSTAMP:20260422T033756
CREATED:20150324T191147Z
LAST-MODIFIED:20150324T191147Z
UID:8250-1432989000-1433005200@playpittsburgh.com
SUMMARY:Open Studio at Westmoreland Museum of Art
DESCRIPTION:Every Saturday & Sunday from 12:30-5 PM\, children of all ages and their favorite adult can stop by the Museum and create their own art in the studio! There is a different art project featured each week.
URL:https://playpittsburgh.com/event/open-studio-at-westmoreland-museum-of-art/2015-05-30/
LOCATION:How to Submit a Listing
CATEGORIES:Museums
END:VEVENT
BEGIN:VEVENT
DTSTART;TZID=America/New_York:20150523T123000
DTEND;TZID=America/New_York:20150523T170000
DTSTAMP:20260422T033756
CREATED:20150324T191147Z
LAST-MODIFIED:20150324T191147Z
UID:8249-1432384200-1432400400@playpittsburgh.com
SUMMARY:Open Studio at Westmoreland Museum of Art
DESCRIPTION:Every Saturday & Sunday from 12:30-5 PM\, children of all ages and their favorite adult can stop by the Museum and create their own art in the studio! There is a different art project featured each week.
URL:https://playpittsburgh.com/event/open-studio-at-westmoreland-museum-of-art/2015-05-23/
LOCATION:How to Submit a Listing
CATEGORIES:Museums
END:VEVENT
BEGIN:VEVENT
DTSTART;TZID=America/New_York:20150516T123000
DTEND;TZID=America/New_York:20150516T170000
DTSTAMP:20260422T033756
CREATED:20150324T191147Z
LAST-MODIFIED:20150324T191147Z
UID:8248-1431779400-1431795600@playpittsburgh.com
SUMMARY:Open Studio at Westmoreland Museum of Art
DESCRIPTION:Every Saturday & Sunday from 12:30-5 PM\, children of all ages and their favorite adult can stop by the Museum and create their own art in the studio! There is a different art project featured each week.
URL:https://playpittsburgh.com/event/open-studio-at-westmoreland-museum-of-art/2015-05-16/
LOCATION:How to Submit a Listing
CATEGORIES:Museums
END:VEVENT
BEGIN:VEVENT
DTSTART;TZID=America/New_York:20150509T123000
DTEND;TZID=America/New_York:20150509T170000
DTSTAMP:20260422T033756
CREATED:20150324T191147Z
LAST-MODIFIED:20150324T191147Z
UID:8247-1431174600-1431190800@playpittsburgh.com
SUMMARY:Open Studio at Westmoreland Museum of Art
DESCRIPTION:Every Saturday & Sunday from 12:30-5 PM\, children of all ages and their favorite adult can stop by the Museum and create their own art in the studio! There is a different art project featured each week.
URL:https://playpittsburgh.com/event/open-studio-at-westmoreland-museum-of-art/2015-05-09/
LOCATION:How to Submit a Listing
CATEGORIES:Museums
END:VEVENT
BEGIN:VEVENT
DTSTART;TZID=America/New_York:20150502T123000
DTEND;TZID=America/New_York:20150502T170000
DTSTAMP:20260422T033756
CREATED:20150324T191147Z
LAST-MODIFIED:20150324T191147Z
UID:8246-1430569800-1430586000@playpittsburgh.com
SUMMARY:Open Studio at Westmoreland Museum of Art
DESCRIPTION:Every Saturday & Sunday from 12:30-5 PM\, children of all ages and their favorite adult can stop by the Museum and create their own art in the studio! There is a different art project featured each week.
URL:https://playpittsburgh.com/event/open-studio-at-westmoreland-museum-of-art/2015-05-02/
LOCATION:How to Submit a Listing
CATEGORIES:Museums
END:VEVENT
BEGIN:VEVENT
DTSTART;TZID=America/New_York:20150425T123000
DTEND;TZID=America/New_York:20150425T170000
DTSTAMP:20260422T033756
CREATED:20150324T191147Z
LAST-MODIFIED:20150324T191147Z
UID:8245-1429965000-1429981200@playpittsburgh.com
SUMMARY:Open Studio at Westmoreland Museum of Art
DESCRIPTION:Every Saturday & Sunday from 12:30-5 PM\, children of all ages and their favorite adult can stop by the Museum and create their own art in the studio! There is a different art project featured each week.
URL:https://playpittsburgh.com/event/open-studio-at-westmoreland-museum-of-art/2015-04-25/
LOCATION:How to Submit a Listing
CATEGORIES:Museums
END:VEVENT
BEGIN:VEVENT
DTSTART;TZID=America/New_York:20150418T123000
DTEND;TZID=America/New_York:20150418T170000
DTSTAMP:20260422T033756
CREATED:20150324T191147Z
LAST-MODIFIED:20150324T191147Z
UID:8244-1429360200-1429376400@playpittsburgh.com
SUMMARY:Open Studio at Westmoreland Museum of Art
DESCRIPTION:Every Saturday & Sunday from 12:30-5 PM\, children of all ages and their favorite adult can stop by the Museum and create their own art in the studio! There is a different art project featured each week.
URL:https://playpittsburgh.com/event/open-studio-at-westmoreland-museum-of-art/2015-04-18/
LOCATION:How to Submit a Listing
CATEGORIES:Museums
END:VEVENT
BEGIN:VEVENT
DTSTART;TZID=America/New_York:20150411T123000
DTEND;TZID=America/New_York:20150411T170000
DTSTAMP:20260422T033756
CREATED:20150324T191147Z
LAST-MODIFIED:20150324T191147Z
UID:8243-1428755400-1428771600@playpittsburgh.com
SUMMARY:Open Studio at Westmoreland Museum of Art
DESCRIPTION:Every Saturday & Sunday from 12:30-5 PM\, children of all ages and their favorite adult can stop by the Museum and create their own art in the studio! There is a different art project featured each week.
URL:https://playpittsburgh.com/event/open-studio-at-westmoreland-museum-of-art/2015-04-11/
LOCATION:How to Submit a Listing
CATEGORIES:Museums
END:VEVENT
BEGIN:VEVENT
DTSTART;TZID=America/New_York:20150404T123000
DTEND;TZID=America/New_York:20150404T170000
DTSTAMP:20260422T033756
CREATED:20150324T191147Z
LAST-MODIFIED:20150324T191147Z
UID:8242-1428150600-1428166800@playpittsburgh.com
SUMMARY:Open Studio at Westmoreland Museum of Art
DESCRIPTION:Every Saturday & Sunday from 12:30-5 PM\, children of all ages and their favorite adult can stop by the Museum and create their own art in the studio! There is a different art project featured each week.
URL:https://playpittsburgh.com/event/open-studio-at-westmoreland-museum-of-art/2015-04-04/
LOCATION:How to Submit a Listing
CATEGORIES:Museums
END:VEVENT
BEGIN:VEVENT
DTSTART;TZID=America/New_York:20150328T123000
DTEND;TZID=America/New_York:20150328T170000
DTSTAMP:20260422T033756
CREATED:20150324T191147Z
LAST-MODIFIED:20150324T191147Z
UID:5498-1427545800-1427562000@playpittsburgh.com
SUMMARY:Open Studio at Westmoreland Museum of Art
DESCRIPTION:Every Saturday & Sunday from 12:30-5 PM\, children of all ages and their favorite adult can stop by the Museum and create their own art in the studio! There is a different art project featured each week.
URL:https://playpittsburgh.com/event/open-studio-at-westmoreland-museum-of-art/2015-03-28/
LOCATION:How to Submit a Listing
CATEGORIES:Museums
END:VEVENT
END:VCALENDAR