BEGIN:VCALENDAR
VERSION:2.0
PRODID:-//Play Pittsburgh - ECPv6.15.20//NONSGML v1.0//EN
CALSCALE:GREGORIAN
METHOD:PUBLISH
X-ORIGINAL-URL:https://playpittsburgh.com
X-WR-CALDESC:Events for Play Pittsburgh
REFRESH-INTERVAL;VALUE=DURATION:PT1H
X-Robots-Tag:noindex
X-PUBLISHED-TTL:PT1H
BEGIN:VTIMEZONE
TZID:America/New_York
BEGIN:DAYLIGHT
TZOFFSETFROM:-0500
TZOFFSETTO:-0400
TZNAME:EDT
DTSTART:20140309T070000
END:DAYLIGHT
BEGIN:STANDARD
TZOFFSETFROM:-0400
TZOFFSETTO:-0500
TZNAME:EST
DTSTART:20141102T060000
END:STANDARD
BEGIN:DAYLIGHT
TZOFFSETFROM:-0500
TZOFFSETTO:-0400
TZNAME:EDT
DTSTART:20150308T070000
END:DAYLIGHT
BEGIN:STANDARD
TZOFFSETFROM:-0400
TZOFFSETTO:-0500
TZNAME:EST
DTSTART:20151101T060000
END:STANDARD
BEGIN:DAYLIGHT
TZOFFSETFROM:-0500
TZOFFSETTO:-0400
TZNAME:EDT
DTSTART:20160313T070000
END:DAYLIGHT
BEGIN:STANDARD
TZOFFSETFROM:-0400
TZOFFSETTO:-0500
TZNAME:EST
DTSTART:20161106T060000
END:STANDARD
END:VTIMEZONE
BEGIN:VEVENT
DTSTART;TZID=America/New_York:20150628T123000
DTEND;TZID=America/New_York:20150628T180000
DTSTAMP:20260422T013935
CREATED:20150324T191455Z
LAST-MODIFIED:20150324T191455Z
UID:8267-1435494600-1435514400@playpittsburgh.com
SUMMARY:Open Studio at Westmoreland Museum of Art
DESCRIPTION:Every Saturday & Sunday from 12:30-5 PM\, children of all ages and their favorite adult can stop by the Museum and create their own art in the studio! There is a different art project featured each week.
URL:https://playpittsburgh.com/event/open-studio-at-westmoreland-museum-of-art-2/2015-06-28/
LOCATION:How to Submit a Listing
CATEGORIES:Museums
END:VEVENT
BEGIN:VEVENT
DTSTART;TZID=America/New_York:20150621T123000
DTEND;TZID=America/New_York:20150621T180000
DTSTAMP:20260422T013935
CREATED:20150324T191455Z
LAST-MODIFIED:20150324T191455Z
UID:8266-1434889800-1434909600@playpittsburgh.com
SUMMARY:Open Studio at Westmoreland Museum of Art
DESCRIPTION:Every Saturday & Sunday from 12:30-5 PM\, children of all ages and their favorite adult can stop by the Museum and create their own art in the studio! There is a different art project featured each week.
URL:https://playpittsburgh.com/event/open-studio-at-westmoreland-museum-of-art-2/2015-06-21/
LOCATION:How to Submit a Listing
CATEGORIES:Museums
END:VEVENT
BEGIN:VEVENT
DTSTART;TZID=America/New_York:20150614T123000
DTEND;TZID=America/New_York:20150614T180000
DTSTAMP:20260422T013935
CREATED:20150324T191455Z
LAST-MODIFIED:20150324T191455Z
UID:8265-1434285000-1434304800@playpittsburgh.com
SUMMARY:Open Studio at Westmoreland Museum of Art
DESCRIPTION:Every Saturday & Sunday from 12:30-5 PM\, children of all ages and their favorite adult can stop by the Museum and create their own art in the studio! There is a different art project featured each week.
URL:https://playpittsburgh.com/event/open-studio-at-westmoreland-museum-of-art-2/2015-06-14/
LOCATION:How to Submit a Listing
CATEGORIES:Museums
END:VEVENT
BEGIN:VEVENT
DTSTART;TZID=America/New_York:20150607T123000
DTEND;TZID=America/New_York:20150607T180000
DTSTAMP:20260422T013935
CREATED:20150324T191455Z
LAST-MODIFIED:20150324T191455Z
UID:8264-1433680200-1433700000@playpittsburgh.com
SUMMARY:Open Studio at Westmoreland Museum of Art
DESCRIPTION:Every Saturday & Sunday from 12:30-5 PM\, children of all ages and their favorite adult can stop by the Museum and create their own art in the studio! There is a different art project featured each week.
URL:https://playpittsburgh.com/event/open-studio-at-westmoreland-museum-of-art-2/2015-06-07/
LOCATION:How to Submit a Listing
CATEGORIES:Museums
END:VEVENT
BEGIN:VEVENT
DTSTART;TZID=America/New_York:20150531T123000
DTEND;TZID=America/New_York:20150531T180000
DTSTAMP:20260422T013935
CREATED:20150324T191455Z
LAST-MODIFIED:20150324T191455Z
UID:8263-1433075400-1433095200@playpittsburgh.com
SUMMARY:Open Studio at Westmoreland Museum of Art
DESCRIPTION:Every Saturday & Sunday from 12:30-5 PM\, children of all ages and their favorite adult can stop by the Museum and create their own art in the studio! There is a different art project featured each week.
URL:https://playpittsburgh.com/event/open-studio-at-westmoreland-museum-of-art-2/2015-05-31/
LOCATION:How to Submit a Listing
CATEGORIES:Museums
END:VEVENT
BEGIN:VEVENT
DTSTART;TZID=America/New_York:20150524T123000
DTEND;TZID=America/New_York:20150524T180000
DTSTAMP:20260422T013935
CREATED:20150324T191455Z
LAST-MODIFIED:20150324T191455Z
UID:8262-1432470600-1432490400@playpittsburgh.com
SUMMARY:Open Studio at Westmoreland Museum of Art
DESCRIPTION:Every Saturday & Sunday from 12:30-5 PM\, children of all ages and their favorite adult can stop by the Museum and create their own art in the studio! There is a different art project featured each week.
URL:https://playpittsburgh.com/event/open-studio-at-westmoreland-museum-of-art-2/2015-05-24/
LOCATION:How to Submit a Listing
CATEGORIES:Museums
END:VEVENT
BEGIN:VEVENT
DTSTART;TZID=America/New_York:20150517T123000
DTEND;TZID=America/New_York:20150517T180000
DTSTAMP:20260422T013935
CREATED:20150324T191455Z
LAST-MODIFIED:20150324T191455Z
UID:8261-1431865800-1431885600@playpittsburgh.com
SUMMARY:Open Studio at Westmoreland Museum of Art
DESCRIPTION:Every Saturday & Sunday from 12:30-5 PM\, children of all ages and their favorite adult can stop by the Museum and create their own art in the studio! There is a different art project featured each week.
URL:https://playpittsburgh.com/event/open-studio-at-westmoreland-museum-of-art-2/2015-05-17/
LOCATION:How to Submit a Listing
CATEGORIES:Museums
END:VEVENT
BEGIN:VEVENT
DTSTART;TZID=America/New_York:20150510T123000
DTEND;TZID=America/New_York:20150510T180000
DTSTAMP:20260422T013935
CREATED:20150324T191455Z
LAST-MODIFIED:20150324T191455Z
UID:8260-1431261000-1431280800@playpittsburgh.com
SUMMARY:Open Studio at Westmoreland Museum of Art
DESCRIPTION:Every Saturday & Sunday from 12:30-5 PM\, children of all ages and their favorite adult can stop by the Museum and create their own art in the studio! There is a different art project featured each week.
URL:https://playpittsburgh.com/event/open-studio-at-westmoreland-museum-of-art-2/2015-05-10/
LOCATION:How to Submit a Listing
CATEGORIES:Museums
END:VEVENT
BEGIN:VEVENT
DTSTART;TZID=America/New_York:20150503T123000
DTEND;TZID=America/New_York:20150503T180000
DTSTAMP:20260422T013935
CREATED:20150324T191455Z
LAST-MODIFIED:20150324T191455Z
UID:8259-1430656200-1430676000@playpittsburgh.com
SUMMARY:Open Studio at Westmoreland Museum of Art
DESCRIPTION:Every Saturday & Sunday from 12:30-5 PM\, children of all ages and their favorite adult can stop by the Museum and create their own art in the studio! There is a different art project featured each week.
URL:https://playpittsburgh.com/event/open-studio-at-westmoreland-museum-of-art-2/2015-05-03/
LOCATION:How to Submit a Listing
CATEGORIES:Museums
END:VEVENT
BEGIN:VEVENT
DTSTART;TZID=America/New_York:20150426T123000
DTEND;TZID=America/New_York:20150426T180000
DTSTAMP:20260422T013935
CREATED:20150324T191455Z
LAST-MODIFIED:20150324T191455Z
UID:8258-1430051400-1430071200@playpittsburgh.com
SUMMARY:Open Studio at Westmoreland Museum of Art
DESCRIPTION:Every Saturday & Sunday from 12:30-5 PM\, children of all ages and their favorite adult can stop by the Museum and create their own art in the studio! There is a different art project featured each week.
URL:https://playpittsburgh.com/event/open-studio-at-westmoreland-museum-of-art-2/2015-04-26/
LOCATION:How to Submit a Listing
CATEGORIES:Museums
END:VEVENT
BEGIN:VEVENT
DTSTART;TZID=America/New_York:20150419T123000
DTEND;TZID=America/New_York:20150419T180000
DTSTAMP:20260422T013935
CREATED:20150324T191455Z
LAST-MODIFIED:20150324T191455Z
UID:8257-1429446600-1429466400@playpittsburgh.com
SUMMARY:Open Studio at Westmoreland Museum of Art
DESCRIPTION:Every Saturday & Sunday from 12:30-5 PM\, children of all ages and their favorite adult can stop by the Museum and create their own art in the studio! There is a different art project featured each week.
URL:https://playpittsburgh.com/event/open-studio-at-westmoreland-museum-of-art-2/2015-04-19/
LOCATION:How to Submit a Listing
CATEGORIES:Museums
END:VEVENT
BEGIN:VEVENT
DTSTART;TZID=America/New_York:20150412T123000
DTEND;TZID=America/New_York:20150412T180000
DTSTAMP:20260422T013935
CREATED:20150324T191455Z
LAST-MODIFIED:20150324T191455Z
UID:8256-1428841800-1428861600@playpittsburgh.com
SUMMARY:Open Studio at Westmoreland Museum of Art
DESCRIPTION:Every Saturday & Sunday from 12:30-5 PM\, children of all ages and their favorite adult can stop by the Museum and create their own art in the studio! There is a different art project featured each week.
URL:https://playpittsburgh.com/event/open-studio-at-westmoreland-museum-of-art-2/2015-04-12/
LOCATION:How to Submit a Listing
CATEGORIES:Museums
END:VEVENT
BEGIN:VEVENT
DTSTART;TZID=America/New_York:20150405T123000
DTEND;TZID=America/New_York:20150405T180000
DTSTAMP:20260422T013935
CREATED:20150324T191455Z
LAST-MODIFIED:20150324T191455Z
UID:8255-1428237000-1428256800@playpittsburgh.com
SUMMARY:Open Studio at Westmoreland Museum of Art
DESCRIPTION:Every Saturday & Sunday from 12:30-5 PM\, children of all ages and their favorite adult can stop by the Museum and create their own art in the studio! There is a different art project featured each week.
URL:https://playpittsburgh.com/event/open-studio-at-westmoreland-museum-of-art-2/2015-04-05/
LOCATION:How to Submit a Listing
CATEGORIES:Museums
END:VEVENT
BEGIN:VEVENT
DTSTART;TZID=America/New_York:20150329T123000
DTEND;TZID=America/New_York:20150329T180000
DTSTAMP:20260422T013935
CREATED:20150324T191455Z
LAST-MODIFIED:20150324T191455Z
UID:5512-1427632200-1427652000@playpittsburgh.com
SUMMARY:Open Studio at Westmoreland Museum of Art
DESCRIPTION:Every Saturday & Sunday from 12:30-5 PM\, children of all ages and their favorite adult can stop by the Museum and create their own art in the studio! There is a different art project featured each week.
URL:https://playpittsburgh.com/event/open-studio-at-westmoreland-museum-of-art-2/2015-03-29/
LOCATION:How to Submit a Listing
CATEGORIES:Museums
END:VEVENT
END:VCALENDAR