BEGIN:VCALENDAR
VERSION:2.0
PRODID:-//Play Pittsburgh - ECPv6.15.20//NONSGML v1.0//EN
CALSCALE:GREGORIAN
METHOD:PUBLISH
X-WR-CALNAME:Play Pittsburgh
X-ORIGINAL-URL:https://playpittsburgh.com
X-WR-CALDESC:Events for Play Pittsburgh
REFRESH-INTERVAL;VALUE=DURATION:PT1H
X-Robots-Tag:noindex
X-PUBLISHED-TTL:PT1H
BEGIN:VTIMEZONE
TZID:America/New_York
BEGIN:DAYLIGHT
TZOFFSETFROM:-0500
TZOFFSETTO:-0400
TZNAME:EDT
DTSTART:20130310T070000
END:DAYLIGHT
BEGIN:STANDARD
TZOFFSETFROM:-0400
TZOFFSETTO:-0500
TZNAME:EST
DTSTART:20131103T060000
END:STANDARD
BEGIN:DAYLIGHT
TZOFFSETFROM:-0500
TZOFFSETTO:-0400
TZNAME:EDT
DTSTART:20140309T070000
END:DAYLIGHT
BEGIN:STANDARD
TZOFFSETFROM:-0400
TZOFFSETTO:-0500
TZNAME:EST
DTSTART:20141102T060000
END:STANDARD
BEGIN:DAYLIGHT
TZOFFSETFROM:-0500
TZOFFSETTO:-0400
TZNAME:EDT
DTSTART:20150308T070000
END:DAYLIGHT
BEGIN:STANDARD
TZOFFSETFROM:-0400
TZOFFSETTO:-0500
TZNAME:EST
DTSTART:20151101T060000
END:STANDARD
END:VTIMEZONE
BEGIN:VEVENT
DTSTART;VALUE=DATE:20141202
DTEND;VALUE=DATE:20141203
DTSTAMP:20260424T063425
CREATED:20141203T032951Z
LAST-MODIFIED:20141203T032951Z
UID:4799-1417478400-1417564799@playpittsburgh.com
SUMMARY:Open Skate at PPG Plaza Pink
DESCRIPTION:During the winter season from mid-November through March 1\, the Plaza between Third Avenue and Fourth Avenue transforms into the MassMutual Pittsburgh Ice Rink at PPG Place\, a spectacular one-of-a-kind outdoor ice skating rink. \nHours from November 21 to January 4 \n\nMonday-Thursday: 11 a.m. to 10 p.m.\nFriday and Saturday: 11 a.m. to Midnight\nSunday: Noon to 8 p.m.\n\nHours Beginning January 5 \n\nMonday-Thursday: 11 a.m. to 3 p.m. & 6 p.m. to 10 p.m.\nFriday and Saturday: 11 a.m. to 11 p.m.\nSunday: Noon to 8 p.m.\n\nHoliday Hours \n\nThanksgiving Day: Thursday\, November 27: 11 a.m. to 10 p.m.\nChristmas Eve and Christmas Day: 11 a.m. to 10 p.m.\nNew Year’s Eve: 11 a.m. to Midnight\nNew Year’s Day: 11 a.m. to 10 p.m.\nMartin Luther King Day\, Monday\, January 19: 11 a.m. to 10 p.m.\nPresident’s Day\, Monday\, February 16: 11 a.m. to 10 p.m.\n\nAdmission \n\nAdults (ages 13-49) : $8\nChildren (through age 12): $7\nSeniors (ages 50 and up): $7\nSkate Rental: $3 (Sizes 9 Jr to 13)
URL:https://playpittsburgh.com/event/open-skate-at-ppg-plaza-pink/2014-12-02/
LOCATION:PPG Place Plaza\, 1 PPG Pl\, Pittsburgh\, PA\, 15222\, United States
ATTACH;FMTTYPE=:
GEO:40.4398818;-80.0037001
X-APPLE-STRUCTURED-LOCATION;VALUE=URI;X-ADDRESS=PPG Place Plaza 1 PPG Pl Pittsburgh PA 15222 United States;X-APPLE-RADIUS=500;X-TITLE=1 PPG Pl:geo:-80.0037001,40.4398818
END:VEVENT
END:VCALENDAR