BEGIN:VCALENDAR
VERSION:2.0
PRODID:-//Play Pittsburgh - ECPv6.15.20//NONSGML v1.0//EN
CALSCALE:GREGORIAN
METHOD:PUBLISH
X-WR-CALNAME:Play Pittsburgh
X-ORIGINAL-URL:https://playpittsburgh.com
X-WR-CALDESC:Events for Play Pittsburgh
REFRESH-INTERVAL;VALUE=DURATION:PT1H
X-Robots-Tag:noindex
X-PUBLISHED-TTL:PT1H
BEGIN:VTIMEZONE
TZID:America/New_York
BEGIN:DAYLIGHT
TZOFFSETFROM:-0500
TZOFFSETTO:-0400
TZNAME:EDT
DTSTART:20130310T070000
END:DAYLIGHT
BEGIN:STANDARD
TZOFFSETFROM:-0400
TZOFFSETTO:-0500
TZNAME:EST
DTSTART:20131103T060000
END:STANDARD
BEGIN:DAYLIGHT
TZOFFSETFROM:-0500
TZOFFSETTO:-0400
TZNAME:EDT
DTSTART:20140309T070000
END:DAYLIGHT
BEGIN:STANDARD
TZOFFSETFROM:-0400
TZOFFSETTO:-0500
TZNAME:EST
DTSTART:20141102T060000
END:STANDARD
BEGIN:DAYLIGHT
TZOFFSETFROM:-0500
TZOFFSETTO:-0400
TZNAME:EDT
DTSTART:20150308T070000
END:DAYLIGHT
BEGIN:STANDARD
TZOFFSETFROM:-0400
TZOFFSETTO:-0500
TZNAME:EST
DTSTART:20151101T060000
END:STANDARD
BEGIN:DAYLIGHT
TZOFFSETFROM:-0500
TZOFFSETTO:-0400
TZNAME:EDT
DTSTART:20160313T070000
END:DAYLIGHT
BEGIN:STANDARD
TZOFFSETFROM:-0400
TZOFFSETTO:-0500
TZNAME:EST
DTSTART:20161106T060000
END:STANDARD
END:VTIMEZONE
BEGIN:VEVENT
DTSTART;TZID=America/New_York:20150103T120000
DTEND;TZID=America/New_York:20150103T170000
DTSTAMP:20260422T012508
CREATED:20141204T015432Z
LAST-MODIFIED:20141204T015432Z
UID:8179-1420286400-1420304400@playpittsburgh.com
SUMMARY:Ohio Valley Holiday Model Railroad
DESCRIPTION:Ohio Valley Line is a Miniature Railroad\, Museum\, and Library located out route 65 north of the city of Pittsburgh near Ambridge pa. They have a holiday open house and display between Thanksgiving and New Years. \nAdmission Donation: \n\nAdults $6.00\nChildren 3-12: $2.00\n\nShow Dates 2014-2015: \n\nNov. 29th & 30th\nDec. 6th & 7th\, 13th & 14th\, 20th & 21st \, 27th & 28th\nJan. 3rd & 4th
URL:https://playpittsburgh.com/event/ohio-valley-holiday-model-railroad/2015-01-03/
LOCATION:Ohio Valley Line Miniature Railroad Museum and Library\, 1225 Merchant St\, Ambridge \, PA\, 15003\, United States
GEO:40.595279;-80.2308
X-APPLE-STRUCTURED-LOCATION;VALUE=URI;X-ADDRESS=Ohio Valley Line Miniature Railroad Museum and Library 1225 Merchant St Ambridge  PA 15003 United States;X-APPLE-RADIUS=500;X-TITLE=1225 Merchant St:geo:-80.2308,40.595279
END:VEVENT
BEGIN:VEVENT
DTSTART;TZID=America/New_York:20141227T120000
DTEND;TZID=America/New_York:20141227T170000
DTSTAMP:20260422T012508
CREATED:20141204T015432Z
LAST-MODIFIED:20141204T015432Z
UID:8178-1419681600-1419699600@playpittsburgh.com
SUMMARY:Ohio Valley Holiday Model Railroad
DESCRIPTION:Ohio Valley Line is a Miniature Railroad\, Museum\, and Library located out route 65 north of the city of Pittsburgh near Ambridge pa. They have a holiday open house and display between Thanksgiving and New Years. \nAdmission Donation: \n\nAdults $6.00\nChildren 3-12: $2.00\n\nShow Dates 2014-2015: \n\nNov. 29th & 30th\nDec. 6th & 7th\, 13th & 14th\, 20th & 21st \, 27th & 28th\nJan. 3rd & 4th
URL:https://playpittsburgh.com/event/ohio-valley-holiday-model-railroad/2014-12-27/
LOCATION:Ohio Valley Line Miniature Railroad Museum and Library\, 1225 Merchant St\, Ambridge \, PA\, 15003\, United States
GEO:40.595279;-80.2308
X-APPLE-STRUCTURED-LOCATION;VALUE=URI;X-ADDRESS=Ohio Valley Line Miniature Railroad Museum and Library 1225 Merchant St Ambridge  PA 15003 United States;X-APPLE-RADIUS=500;X-TITLE=1225 Merchant St:geo:-80.2308,40.595279
END:VEVENT
BEGIN:VEVENT
DTSTART;TZID=America/New_York:20141220T120000
DTEND;TZID=America/New_York:20141220T170000
DTSTAMP:20260422T012508
CREATED:20141204T015432Z
LAST-MODIFIED:20141204T015432Z
UID:8177-1419076800-1419094800@playpittsburgh.com
SUMMARY:Ohio Valley Holiday Model Railroad
DESCRIPTION:Ohio Valley Line is a Miniature Railroad\, Museum\, and Library located out route 65 north of the city of Pittsburgh near Ambridge pa. They have a holiday open house and display between Thanksgiving and New Years. \nAdmission Donation: \n\nAdults $6.00\nChildren 3-12: $2.00\n\nShow Dates 2014-2015: \n\nNov. 29th & 30th\nDec. 6th & 7th\, 13th & 14th\, 20th & 21st \, 27th & 28th\nJan. 3rd & 4th
URL:https://playpittsburgh.com/event/ohio-valley-holiday-model-railroad/2014-12-20/
LOCATION:Ohio Valley Line Miniature Railroad Museum and Library\, 1225 Merchant St\, Ambridge \, PA\, 15003\, United States
GEO:40.595279;-80.2308
X-APPLE-STRUCTURED-LOCATION;VALUE=URI;X-ADDRESS=Ohio Valley Line Miniature Railroad Museum and Library 1225 Merchant St Ambridge  PA 15003 United States;X-APPLE-RADIUS=500;X-TITLE=1225 Merchant St:geo:-80.2308,40.595279
END:VEVENT
BEGIN:VEVENT
DTSTART;TZID=America/New_York:20141213T120000
DTEND;TZID=America/New_York:20141213T170000
DTSTAMP:20260422T012508
CREATED:20141204T015432Z
LAST-MODIFIED:20141204T015432Z
UID:8176-1418472000-1418490000@playpittsburgh.com
SUMMARY:Ohio Valley Holiday Model Railroad
DESCRIPTION:Ohio Valley Line is a Miniature Railroad\, Museum\, and Library located out route 65 north of the city of Pittsburgh near Ambridge pa. They have a holiday open house and display between Thanksgiving and New Years. \nAdmission Donation: \n\nAdults $6.00\nChildren 3-12: $2.00\n\nShow Dates 2014-2015: \n\nNov. 29th & 30th\nDec. 6th & 7th\, 13th & 14th\, 20th & 21st \, 27th & 28th\nJan. 3rd & 4th
URL:https://playpittsburgh.com/event/ohio-valley-holiday-model-railroad/2014-12-13/
LOCATION:Ohio Valley Line Miniature Railroad Museum and Library\, 1225 Merchant St\, Ambridge \, PA\, 15003\, United States
GEO:40.595279;-80.2308
X-APPLE-STRUCTURED-LOCATION;VALUE=URI;X-ADDRESS=Ohio Valley Line Miniature Railroad Museum and Library 1225 Merchant St Ambridge  PA 15003 United States;X-APPLE-RADIUS=500;X-TITLE=1225 Merchant St:geo:-80.2308,40.595279
END:VEVENT
BEGIN:VEVENT
DTSTART;TZID=America/New_York:20141206T120000
DTEND;TZID=America/New_York:20141206T170000
DTSTAMP:20260422T012509
CREATED:20141204T015432Z
LAST-MODIFIED:20141204T015432Z
UID:5087-1417867200-1417885200@playpittsburgh.com
SUMMARY:Ohio Valley Holiday Model Railroad
DESCRIPTION:Ohio Valley Line is a Miniature Railroad\, Museum\, and Library located out route 65 north of the city of Pittsburgh near Ambridge pa. They have a holiday open house and display between Thanksgiving and New Years. \nAdmission Donation: \n\nAdults $6.00\nChildren 3-12: $2.00\n\nShow Dates 2014-2015: \n\nNov. 29th & 30th\nDec. 6th & 7th\, 13th & 14th\, 20th & 21st \, 27th & 28th\nJan. 3rd & 4th
URL:https://playpittsburgh.com/event/ohio-valley-holiday-model-railroad/2014-12-06/
LOCATION:Ohio Valley Line Miniature Railroad Museum and Library\, 1225 Merchant St\, Ambridge \, PA\, 15003\, United States
GEO:40.595279;-80.2308
X-APPLE-STRUCTURED-LOCATION;VALUE=URI;X-ADDRESS=Ohio Valley Line Miniature Railroad Museum and Library 1225 Merchant St Ambridge  PA 15003 United States;X-APPLE-RADIUS=500;X-TITLE=1225 Merchant St:geo:-80.2308,40.595279
END:VEVENT
END:VCALENDAR