BEGIN:VCALENDAR
VERSION:2.0
PRODID:-//Play Pittsburgh - ECPv6.15.20//NONSGML v1.0//EN
CALSCALE:GREGORIAN
METHOD:PUBLISH
X-WR-CALNAME:Play Pittsburgh
X-ORIGINAL-URL:https://playpittsburgh.com
X-WR-CALDESC:Events for Play Pittsburgh
REFRESH-INTERVAL;VALUE=DURATION:PT1H
X-Robots-Tag:noindex
X-PUBLISHED-TTL:PT1H
BEGIN:VTIMEZONE
TZID:America/New_York
BEGIN:DAYLIGHT
TZOFFSETFROM:-0500
TZOFFSETTO:-0400
TZNAME:EDT
DTSTART:20130310T070000
END:DAYLIGHT
BEGIN:STANDARD
TZOFFSETFROM:-0400
TZOFFSETTO:-0500
TZNAME:EST
DTSTART:20131103T060000
END:STANDARD
BEGIN:DAYLIGHT
TZOFFSETFROM:-0500
TZOFFSETTO:-0400
TZNAME:EDT
DTSTART:20140309T070000
END:DAYLIGHT
BEGIN:STANDARD
TZOFFSETFROM:-0400
TZOFFSETTO:-0500
TZNAME:EST
DTSTART:20141102T060000
END:STANDARD
BEGIN:DAYLIGHT
TZOFFSETFROM:-0500
TZOFFSETTO:-0400
TZNAME:EDT
DTSTART:20150308T070000
END:DAYLIGHT
BEGIN:STANDARD
TZOFFSETFROM:-0400
TZOFFSETTO:-0500
TZNAME:EST
DTSTART:20151101T060000
END:STANDARD
END:VTIMEZONE
BEGIN:VEVENT
DTSTART;TZID=America/New_York:20141103T153000
DTEND;TZID=America/New_York:20141103T170000
DTSTAMP:20260422T152327
CREATED:20141030T203950Z
LAST-MODIFIED:20141030T203950Z
UID:6856-1415028600-1415034000@playpittsburgh.com
SUMMARY:Multiplay Mondays at Castle Shannon Library
DESCRIPTION:Open gaming time on our Wii for anyone ages 10-18 yrs. Bring your own games\, or use the ones available at the library. Snacks provided!\nLocation: Community Room Castle Shannon Library \n 412-563-4552   weleskih@einetwork.net
URL:https://playpittsburgh.com/event/multiplay-mondays-at-castle-shannon-library/2014-11-03/
LOCATION:My Places
ATTACH;FMTTYPE=:
END:VEVENT
END:VCALENDAR