BEGIN:VCALENDAR
VERSION:2.0
PRODID:-//Play Pittsburgh - ECPv6.15.20//NONSGML v1.0//EN
CALSCALE:GREGORIAN
METHOD:PUBLISH
X-WR-CALNAME:Play Pittsburgh
X-ORIGINAL-URL:https://playpittsburgh.com
X-WR-CALDESC:Events for Play Pittsburgh
REFRESH-INTERVAL;VALUE=DURATION:PT1H
X-Robots-Tag:noindex
X-PUBLISHED-TTL:PT1H
BEGIN:VTIMEZONE
TZID:America/New_York
BEGIN:DAYLIGHT
TZOFFSETFROM:-0500
TZOFFSETTO:-0400
TZNAME:EDT
DTSTART:20150308T070000
END:DAYLIGHT
BEGIN:STANDARD
TZOFFSETFROM:-0400
TZOFFSETTO:-0500
TZNAME:EST
DTSTART:20151101T060000
END:STANDARD
BEGIN:DAYLIGHT
TZOFFSETFROM:-0500
TZOFFSETTO:-0400
TZNAME:EDT
DTSTART:20160313T070000
END:DAYLIGHT
BEGIN:STANDARD
TZOFFSETFROM:-0400
TZOFFSETTO:-0500
TZNAME:EST
DTSTART:20161106T060000
END:STANDARD
BEGIN:DAYLIGHT
TZOFFSETFROM:-0500
TZOFFSETTO:-0400
TZNAME:EDT
DTSTART:20170312T070000
END:DAYLIGHT
BEGIN:STANDARD
TZOFFSETFROM:-0400
TZOFFSETTO:-0500
TZNAME:EST
DTSTART:20171105T060000
END:STANDARD
END:VTIMEZONE
BEGIN:VEVENT
DTSTART;TZID=America/New_York:20160827T210000
DTEND;TZID=America/New_York:20160827T230000
DTSTAMP:20260421T215914
CREATED:20160714T184405Z
LAST-MODIFIED:20160714T184405Z
UID:9868-1472331600-1472338800@playpittsburgh.com
SUMMARY:Movies in the Park - Grandview Park
DESCRIPTION:July 16 * Life of Pi (PG) \nJuly 23 Inside Out (PG) \nJuly 30 The SpongeBob Movie: Sponge Out of Water (PG) \nAugust 6 Miracle \nAugust 13 Cinderella (PG) \nAugust 20 Heavyweights (PG) \nAugust 27 The Peanuts Movie (G) \n* The Spark! Film Series returns in 2016 with a vibrant lineup of films that feature stories from diverse cultures to bring together Pittsburghers of all backgrounds and spark engaging cultural dialogue
URL:https://playpittsburgh.com/event/movies-park-grandview-park-2/2016-08-27/
LOCATION:Grandview Park\, Bailey Avenue\, Pittsburgh\, PA\, 15211\, United States
GEO:40.4269283;-80.0014112
X-APPLE-STRUCTURED-LOCATION;VALUE=URI;X-ADDRESS=Grandview Park Bailey Avenue Pittsburgh PA 15211 United States;X-APPLE-RADIUS=500;X-TITLE=Bailey Avenue:geo:-80.0014112,40.4269283
END:VEVENT
BEGIN:VEVENT
DTSTART;TZID=America/New_York:20160820T210000
DTEND;TZID=America/New_York:20160820T230000
DTSTAMP:20260421T215914
CREATED:20160714T184405Z
LAST-MODIFIED:20160714T184405Z
UID:9867-1471726800-1471734000@playpittsburgh.com
SUMMARY:Movies in the Park - Grandview Park
DESCRIPTION:July 16 * Life of Pi (PG) \nJuly 23 Inside Out (PG) \nJuly 30 The SpongeBob Movie: Sponge Out of Water (PG) \nAugust 6 Miracle \nAugust 13 Cinderella (PG) \nAugust 20 Heavyweights (PG) \nAugust 27 The Peanuts Movie (G) \n* The Spark! Film Series returns in 2016 with a vibrant lineup of films that feature stories from diverse cultures to bring together Pittsburghers of all backgrounds and spark engaging cultural dialogue
URL:https://playpittsburgh.com/event/movies-park-grandview-park-2/2016-08-20/
LOCATION:Grandview Park\, Bailey Avenue\, Pittsburgh\, PA\, 15211\, United States
GEO:40.4269283;-80.0014112
X-APPLE-STRUCTURED-LOCATION;VALUE=URI;X-ADDRESS=Grandview Park Bailey Avenue Pittsburgh PA 15211 United States;X-APPLE-RADIUS=500;X-TITLE=Bailey Avenue:geo:-80.0014112,40.4269283
END:VEVENT
BEGIN:VEVENT
DTSTART;TZID=America/New_York:20160813T210000
DTEND;TZID=America/New_York:20160813T230000
DTSTAMP:20260421T215914
CREATED:20160714T184405Z
LAST-MODIFIED:20160714T184405Z
UID:9866-1471122000-1471129200@playpittsburgh.com
SUMMARY:Movies in the Park - Grandview Park
DESCRIPTION:July 16 * Life of Pi (PG) \nJuly 23 Inside Out (PG) \nJuly 30 The SpongeBob Movie: Sponge Out of Water (PG) \nAugust 6 Miracle \nAugust 13 Cinderella (PG) \nAugust 20 Heavyweights (PG) \nAugust 27 The Peanuts Movie (G) \n* The Spark! Film Series returns in 2016 with a vibrant lineup of films that feature stories from diverse cultures to bring together Pittsburghers of all backgrounds and spark engaging cultural dialogue
URL:https://playpittsburgh.com/event/movies-park-grandview-park-2/2016-08-13/
LOCATION:Grandview Park\, Bailey Avenue\, Pittsburgh\, PA\, 15211\, United States
GEO:40.4269283;-80.0014112
X-APPLE-STRUCTURED-LOCATION;VALUE=URI;X-ADDRESS=Grandview Park Bailey Avenue Pittsburgh PA 15211 United States;X-APPLE-RADIUS=500;X-TITLE=Bailey Avenue:geo:-80.0014112,40.4269283
END:VEVENT
BEGIN:VEVENT
DTSTART;TZID=America/New_York:20160806T210000
DTEND;TZID=America/New_York:20160806T230000
DTSTAMP:20260421T215914
CREATED:20160714T184405Z
LAST-MODIFIED:20160714T184405Z
UID:9865-1470517200-1470524400@playpittsburgh.com
SUMMARY:Movies in the Park - Grandview Park
DESCRIPTION:July 16 * Life of Pi (PG) \nJuly 23 Inside Out (PG) \nJuly 30 The SpongeBob Movie: Sponge Out of Water (PG) \nAugust 6 Miracle \nAugust 13 Cinderella (PG) \nAugust 20 Heavyweights (PG) \nAugust 27 The Peanuts Movie (G) \n* The Spark! Film Series returns in 2016 with a vibrant lineup of films that feature stories from diverse cultures to bring together Pittsburghers of all backgrounds and spark engaging cultural dialogue
URL:https://playpittsburgh.com/event/movies-park-grandview-park-2/2016-08-06/
LOCATION:Grandview Park\, Bailey Avenue\, Pittsburgh\, PA\, 15211\, United States
GEO:40.4269283;-80.0014112
X-APPLE-STRUCTURED-LOCATION;VALUE=URI;X-ADDRESS=Grandview Park Bailey Avenue Pittsburgh PA 15211 United States;X-APPLE-RADIUS=500;X-TITLE=Bailey Avenue:geo:-80.0014112,40.4269283
END:VEVENT
BEGIN:VEVENT
DTSTART;TZID=America/New_York:20160730T210000
DTEND;TZID=America/New_York:20160730T230000
DTSTAMP:20260421T215914
CREATED:20160714T184405Z
LAST-MODIFIED:20160714T184405Z
UID:9864-1469912400-1469919600@playpittsburgh.com
SUMMARY:Movies in the Park - Grandview Park
DESCRIPTION:July 16 * Life of Pi (PG) \nJuly 23 Inside Out (PG) \nJuly 30 The SpongeBob Movie: Sponge Out of Water (PG) \nAugust 6 Miracle \nAugust 13 Cinderella (PG) \nAugust 20 Heavyweights (PG) \nAugust 27 The Peanuts Movie (G) \n* The Spark! Film Series returns in 2016 with a vibrant lineup of films that feature stories from diverse cultures to bring together Pittsburghers of all backgrounds and spark engaging cultural dialogue
URL:https://playpittsburgh.com/event/movies-park-grandview-park-2/2016-07-30/
LOCATION:Grandview Park\, Bailey Avenue\, Pittsburgh\, PA\, 15211\, United States
GEO:40.4269283;-80.0014112
X-APPLE-STRUCTURED-LOCATION;VALUE=URI;X-ADDRESS=Grandview Park Bailey Avenue Pittsburgh PA 15211 United States;X-APPLE-RADIUS=500;X-TITLE=Bailey Avenue:geo:-80.0014112,40.4269283
END:VEVENT
BEGIN:VEVENT
DTSTART;TZID=America/New_York:20160723T210000
DTEND;TZID=America/New_York:20160723T230000
DTSTAMP:20260421T215914
CREATED:20160714T184405Z
LAST-MODIFIED:20160714T184405Z
UID:9863-1469307600-1469314800@playpittsburgh.com
SUMMARY:Movies in the Park - Grandview Park
DESCRIPTION:July 16 * Life of Pi (PG) \nJuly 23 Inside Out (PG) \nJuly 30 The SpongeBob Movie: Sponge Out of Water (PG) \nAugust 6 Miracle \nAugust 13 Cinderella (PG) \nAugust 20 Heavyweights (PG) \nAugust 27 The Peanuts Movie (G) \n* The Spark! Film Series returns in 2016 with a vibrant lineup of films that feature stories from diverse cultures to bring together Pittsburghers of all backgrounds and spark engaging cultural dialogue
URL:https://playpittsburgh.com/event/movies-park-grandview-park-2/2016-07-23/
LOCATION:Grandview Park\, Bailey Avenue\, Pittsburgh\, PA\, 15211\, United States
GEO:40.4269283;-80.0014112
X-APPLE-STRUCTURED-LOCATION;VALUE=URI;X-ADDRESS=Grandview Park Bailey Avenue Pittsburgh PA 15211 United States;X-APPLE-RADIUS=500;X-TITLE=Bailey Avenue:geo:-80.0014112,40.4269283
END:VEVENT
BEGIN:VEVENT
DTSTART;TZID=America/New_York:20160716T210000
DTEND;TZID=America/New_York:20160716T230000
DTSTAMP:20260421T215914
CREATED:20160714T184405Z
LAST-MODIFIED:20160714T184405Z
UID:9862-1468702800-1468710000@playpittsburgh.com
SUMMARY:Movies in the Park - Grandview Park
DESCRIPTION:July 16 * Life of Pi (PG) \nJuly 23 Inside Out (PG) \nJuly 30 The SpongeBob Movie: Sponge Out of Water (PG) \nAugust 6 Miracle \nAugust 13 Cinderella (PG) \nAugust 20 Heavyweights (PG) \nAugust 27 The Peanuts Movie (G) \n* The Spark! Film Series returns in 2016 with a vibrant lineup of films that feature stories from diverse cultures to bring together Pittsburghers of all backgrounds and spark engaging cultural dialogue
URL:https://playpittsburgh.com/event/movies-park-grandview-park-2/2016-07-16/
LOCATION:Grandview Park\, Bailey Avenue\, Pittsburgh\, PA\, 15211\, United States
GEO:40.4269283;-80.0014112
X-APPLE-STRUCTURED-LOCATION;VALUE=URI;X-ADDRESS=Grandview Park Bailey Avenue Pittsburgh PA 15211 United States;X-APPLE-RADIUS=500;X-TITLE=Bailey Avenue:geo:-80.0014112,40.4269283
END:VEVENT
END:VCALENDAR