BEGIN:VCALENDAR
VERSION:2.0
PRODID:-//Play Pittsburgh - ECPv6.15.20//NONSGML v1.0//EN
CALSCALE:GREGORIAN
METHOD:PUBLISH
X-WR-CALNAME:Play Pittsburgh
X-ORIGINAL-URL:https://playpittsburgh.com
X-WR-CALDESC:Events for Play Pittsburgh
REFRESH-INTERVAL;VALUE=DURATION:PT1H
X-Robots-Tag:noindex
X-PUBLISHED-TTL:PT1H
BEGIN:VTIMEZONE
TZID:America/New_York
BEGIN:DAYLIGHT
TZOFFSETFROM:-0500
TZOFFSETTO:-0400
TZNAME:EDT
DTSTART:20150308T070000
END:DAYLIGHT
BEGIN:STANDARD
TZOFFSETFROM:-0400
TZOFFSETTO:-0500
TZNAME:EST
DTSTART:20151101T060000
END:STANDARD
BEGIN:DAYLIGHT
TZOFFSETFROM:-0500
TZOFFSETTO:-0400
TZNAME:EDT
DTSTART:20160313T070000
END:DAYLIGHT
BEGIN:STANDARD
TZOFFSETFROM:-0400
TZOFFSETTO:-0500
TZNAME:EST
DTSTART:20161106T060000
END:STANDARD
BEGIN:DAYLIGHT
TZOFFSETFROM:-0500
TZOFFSETTO:-0400
TZNAME:EDT
DTSTART:20170312T070000
END:DAYLIGHT
BEGIN:STANDARD
TZOFFSETFROM:-0400
TZOFFSETTO:-0500
TZNAME:EST
DTSTART:20171105T060000
END:STANDARD
END:VTIMEZONE
BEGIN:VEVENT
DTSTART;TZID=America/New_York:20160826T210000
DTEND;TZID=America/New_York:20160826T230000
DTSTAMP:20260421T182641
CREATED:20160701T022645Z
LAST-MODIFIED:20160701T022645Z
UID:9328-1472245200-1472252400@playpittsburgh.com
SUMMARY:Movies in the Park - Arsenal Park
DESCRIPTION:Bring a blanket and a lawn chair for a movie under the stars! Every Friday this summer beginning at dusk. \nJuly 1 * The Walk (PG) \nJuly 8 The Great Outdoors (PG) \nJuly 15 * Life of Pi (PG) \nJuly 22 Inside Out (PG) \nJuly 29 The SpongeBob Movie: Sponge Out of Water (PG) \nAugust 5 Miracle (PG) \nAugust 12 Cinderella (PG) \nAugust 19 Heavyweights (PG) \nAugust 26 The Peanuts Movie (G) \n* The Spark! Film Series returns in 2016 with a vibrant lineup of films that feature stories from diverse cultures to bring together Pittsburghers of all backgrounds and spark engaging cultural dialogue.
URL:https://playpittsburgh.com/event/movies-park-arsenal-park-2/2016-08-26/
LOCATION:Arsenal Park\, 39th and Butler streets\, Lawrenceville \, PA\, 15224\, United States
CATEGORIES:Free,Outdoor
GEO:40.4675603;-79.9637391
X-APPLE-STRUCTURED-LOCATION;VALUE=URI;X-ADDRESS=Arsenal Park 39th and Butler streets Lawrenceville  PA 15224 United States;X-APPLE-RADIUS=500;X-TITLE=39th and Butler streets:geo:-79.9637391,40.4675603
END:VEVENT
BEGIN:VEVENT
DTSTART;TZID=America/New_York:20160819T210000
DTEND;TZID=America/New_York:20160819T230000
DTSTAMP:20260421T182641
CREATED:20160701T022645Z
LAST-MODIFIED:20160701T022645Z
UID:9327-1471640400-1471647600@playpittsburgh.com
SUMMARY:Movies in the Park - Arsenal Park
DESCRIPTION:Bring a blanket and a lawn chair for a movie under the stars! Every Friday this summer beginning at dusk. \nJuly 1 * The Walk (PG) \nJuly 8 The Great Outdoors (PG) \nJuly 15 * Life of Pi (PG) \nJuly 22 Inside Out (PG) \nJuly 29 The SpongeBob Movie: Sponge Out of Water (PG) \nAugust 5 Miracle (PG) \nAugust 12 Cinderella (PG) \nAugust 19 Heavyweights (PG) \nAugust 26 The Peanuts Movie (G) \n* The Spark! Film Series returns in 2016 with a vibrant lineup of films that feature stories from diverse cultures to bring together Pittsburghers of all backgrounds and spark engaging cultural dialogue.
URL:https://playpittsburgh.com/event/movies-park-arsenal-park-2/2016-08-19/
LOCATION:Arsenal Park\, 39th and Butler streets\, Lawrenceville \, PA\, 15224\, United States
CATEGORIES:Free,Outdoor
GEO:40.4675603;-79.9637391
X-APPLE-STRUCTURED-LOCATION;VALUE=URI;X-ADDRESS=Arsenal Park 39th and Butler streets Lawrenceville  PA 15224 United States;X-APPLE-RADIUS=500;X-TITLE=39th and Butler streets:geo:-79.9637391,40.4675603
END:VEVENT
BEGIN:VEVENT
DTSTART;TZID=America/New_York:20160812T210000
DTEND;TZID=America/New_York:20160812T230000
DTSTAMP:20260421T182641
CREATED:20160701T022645Z
LAST-MODIFIED:20160701T022645Z
UID:9326-1471035600-1471042800@playpittsburgh.com
SUMMARY:Movies in the Park - Arsenal Park
DESCRIPTION:Bring a blanket and a lawn chair for a movie under the stars! Every Friday this summer beginning at dusk. \nJuly 1 * The Walk (PG) \nJuly 8 The Great Outdoors (PG) \nJuly 15 * Life of Pi (PG) \nJuly 22 Inside Out (PG) \nJuly 29 The SpongeBob Movie: Sponge Out of Water (PG) \nAugust 5 Miracle (PG) \nAugust 12 Cinderella (PG) \nAugust 19 Heavyweights (PG) \nAugust 26 The Peanuts Movie (G) \n* The Spark! Film Series returns in 2016 with a vibrant lineup of films that feature stories from diverse cultures to bring together Pittsburghers of all backgrounds and spark engaging cultural dialogue.
URL:https://playpittsburgh.com/event/movies-park-arsenal-park-2/2016-08-12/
LOCATION:Arsenal Park\, 39th and Butler streets\, Lawrenceville \, PA\, 15224\, United States
CATEGORIES:Free,Outdoor
GEO:40.4675603;-79.9637391
X-APPLE-STRUCTURED-LOCATION;VALUE=URI;X-ADDRESS=Arsenal Park 39th and Butler streets Lawrenceville  PA 15224 United States;X-APPLE-RADIUS=500;X-TITLE=39th and Butler streets:geo:-79.9637391,40.4675603
END:VEVENT
BEGIN:VEVENT
DTSTART;TZID=America/New_York:20160805T210000
DTEND;TZID=America/New_York:20160805T230000
DTSTAMP:20260421T182641
CREATED:20160701T022645Z
LAST-MODIFIED:20160701T022645Z
UID:9325-1470430800-1470438000@playpittsburgh.com
SUMMARY:Movies in the Park - Arsenal Park
DESCRIPTION:Bring a blanket and a lawn chair for a movie under the stars! Every Friday this summer beginning at dusk. \nJuly 1 * The Walk (PG) \nJuly 8 The Great Outdoors (PG) \nJuly 15 * Life of Pi (PG) \nJuly 22 Inside Out (PG) \nJuly 29 The SpongeBob Movie: Sponge Out of Water (PG) \nAugust 5 Miracle (PG) \nAugust 12 Cinderella (PG) \nAugust 19 Heavyweights (PG) \nAugust 26 The Peanuts Movie (G) \n* The Spark! Film Series returns in 2016 with a vibrant lineup of films that feature stories from diverse cultures to bring together Pittsburghers of all backgrounds and spark engaging cultural dialogue.
URL:https://playpittsburgh.com/event/movies-park-arsenal-park-2/2016-08-05/
LOCATION:Arsenal Park\, 39th and Butler streets\, Lawrenceville \, PA\, 15224\, United States
CATEGORIES:Free,Outdoor
GEO:40.4675603;-79.9637391
X-APPLE-STRUCTURED-LOCATION;VALUE=URI;X-ADDRESS=Arsenal Park 39th and Butler streets Lawrenceville  PA 15224 United States;X-APPLE-RADIUS=500;X-TITLE=39th and Butler streets:geo:-79.9637391,40.4675603
END:VEVENT
BEGIN:VEVENT
DTSTART;TZID=America/New_York:20160729T210000
DTEND;TZID=America/New_York:20160729T230000
DTSTAMP:20260421T182641
CREATED:20160701T022645Z
LAST-MODIFIED:20160701T022645Z
UID:9324-1469826000-1469833200@playpittsburgh.com
SUMMARY:Movies in the Park - Arsenal Park
DESCRIPTION:Bring a blanket and a lawn chair for a movie under the stars! Every Friday this summer beginning at dusk. \nJuly 1 * The Walk (PG) \nJuly 8 The Great Outdoors (PG) \nJuly 15 * Life of Pi (PG) \nJuly 22 Inside Out (PG) \nJuly 29 The SpongeBob Movie: Sponge Out of Water (PG) \nAugust 5 Miracle (PG) \nAugust 12 Cinderella (PG) \nAugust 19 Heavyweights (PG) \nAugust 26 The Peanuts Movie (G) \n* The Spark! Film Series returns in 2016 with a vibrant lineup of films that feature stories from diverse cultures to bring together Pittsburghers of all backgrounds and spark engaging cultural dialogue.
URL:https://playpittsburgh.com/event/movies-park-arsenal-park-2/2016-07-29/
LOCATION:Arsenal Park\, 39th and Butler streets\, Lawrenceville \, PA\, 15224\, United States
CATEGORIES:Free,Outdoor
GEO:40.4675603;-79.9637391
X-APPLE-STRUCTURED-LOCATION;VALUE=URI;X-ADDRESS=Arsenal Park 39th and Butler streets Lawrenceville  PA 15224 United States;X-APPLE-RADIUS=500;X-TITLE=39th and Butler streets:geo:-79.9637391,40.4675603
END:VEVENT
BEGIN:VEVENT
DTSTART;TZID=America/New_York:20160722T210000
DTEND;TZID=America/New_York:20160722T230000
DTSTAMP:20260421T182641
CREATED:20160701T022645Z
LAST-MODIFIED:20160701T022645Z
UID:9323-1469221200-1469228400@playpittsburgh.com
SUMMARY:Movies in the Park - Arsenal Park
DESCRIPTION:Bring a blanket and a lawn chair for a movie under the stars! Every Friday this summer beginning at dusk. \nJuly 1 * The Walk (PG) \nJuly 8 The Great Outdoors (PG) \nJuly 15 * Life of Pi (PG) \nJuly 22 Inside Out (PG) \nJuly 29 The SpongeBob Movie: Sponge Out of Water (PG) \nAugust 5 Miracle (PG) \nAugust 12 Cinderella (PG) \nAugust 19 Heavyweights (PG) \nAugust 26 The Peanuts Movie (G) \n* The Spark! Film Series returns in 2016 with a vibrant lineup of films that feature stories from diverse cultures to bring together Pittsburghers of all backgrounds and spark engaging cultural dialogue.
URL:https://playpittsburgh.com/event/movies-park-arsenal-park-2/2016-07-22/
LOCATION:Arsenal Park\, 39th and Butler streets\, Lawrenceville \, PA\, 15224\, United States
CATEGORIES:Free,Outdoor
GEO:40.4675603;-79.9637391
X-APPLE-STRUCTURED-LOCATION;VALUE=URI;X-ADDRESS=Arsenal Park 39th and Butler streets Lawrenceville  PA 15224 United States;X-APPLE-RADIUS=500;X-TITLE=39th and Butler streets:geo:-79.9637391,40.4675603
END:VEVENT
BEGIN:VEVENT
DTSTART;TZID=America/New_York:20160715T210000
DTEND;TZID=America/New_York:20160715T230000
DTSTAMP:20260421T182641
CREATED:20160701T022645Z
LAST-MODIFIED:20160701T022645Z
UID:9322-1468616400-1468623600@playpittsburgh.com
SUMMARY:Movies in the Park - Arsenal Park
DESCRIPTION:Bring a blanket and a lawn chair for a movie under the stars! Every Friday this summer beginning at dusk. \nJuly 1 * The Walk (PG) \nJuly 8 The Great Outdoors (PG) \nJuly 15 * Life of Pi (PG) \nJuly 22 Inside Out (PG) \nJuly 29 The SpongeBob Movie: Sponge Out of Water (PG) \nAugust 5 Miracle (PG) \nAugust 12 Cinderella (PG) \nAugust 19 Heavyweights (PG) \nAugust 26 The Peanuts Movie (G) \n* The Spark! Film Series returns in 2016 with a vibrant lineup of films that feature stories from diverse cultures to bring together Pittsburghers of all backgrounds and spark engaging cultural dialogue.
URL:https://playpittsburgh.com/event/movies-park-arsenal-park-2/2016-07-15/
LOCATION:Arsenal Park\, 39th and Butler streets\, Lawrenceville \, PA\, 15224\, United States
CATEGORIES:Free,Outdoor
GEO:40.4675603;-79.9637391
X-APPLE-STRUCTURED-LOCATION;VALUE=URI;X-ADDRESS=Arsenal Park 39th and Butler streets Lawrenceville  PA 15224 United States;X-APPLE-RADIUS=500;X-TITLE=39th and Butler streets:geo:-79.9637391,40.4675603
END:VEVENT
BEGIN:VEVENT
DTSTART;TZID=America/New_York:20160708T210000
DTEND;TZID=America/New_York:20160708T230000
DTSTAMP:20260421T182641
CREATED:20160701T022645Z
LAST-MODIFIED:20160701T022645Z
UID:9321-1468011600-1468018800@playpittsburgh.com
SUMMARY:Movies in the Park - Arsenal Park
DESCRIPTION:Bring a blanket and a lawn chair for a movie under the stars! Every Friday this summer beginning at dusk. \nJuly 1 * The Walk (PG) \nJuly 8 The Great Outdoors (PG) \nJuly 15 * Life of Pi (PG) \nJuly 22 Inside Out (PG) \nJuly 29 The SpongeBob Movie: Sponge Out of Water (PG) \nAugust 5 Miracle (PG) \nAugust 12 Cinderella (PG) \nAugust 19 Heavyweights (PG) \nAugust 26 The Peanuts Movie (G) \n* The Spark! Film Series returns in 2016 with a vibrant lineup of films that feature stories from diverse cultures to bring together Pittsburghers of all backgrounds and spark engaging cultural dialogue.
URL:https://playpittsburgh.com/event/movies-park-arsenal-park-2/2016-07-08/
LOCATION:Arsenal Park\, 39th and Butler streets\, Lawrenceville \, PA\, 15224\, United States
CATEGORIES:Free,Outdoor
GEO:40.4675603;-79.9637391
X-APPLE-STRUCTURED-LOCATION;VALUE=URI;X-ADDRESS=Arsenal Park 39th and Butler streets Lawrenceville  PA 15224 United States;X-APPLE-RADIUS=500;X-TITLE=39th and Butler streets:geo:-79.9637391,40.4675603
END:VEVENT
BEGIN:VEVENT
DTSTART;TZID=America/New_York:20160701T210000
DTEND;TZID=America/New_York:20160701T230000
DTSTAMP:20260421T182641
CREATED:20160701T022645Z
LAST-MODIFIED:20160701T022645Z
UID:9320-1467406800-1467414000@playpittsburgh.com
SUMMARY:Movies in the Park - Arsenal Park
DESCRIPTION:Bring a blanket and a lawn chair for a movie under the stars! Every Friday this summer beginning at dusk. \nJuly 1 * The Walk (PG) \nJuly 8 The Great Outdoors (PG) \nJuly 15 * Life of Pi (PG) \nJuly 22 Inside Out (PG) \nJuly 29 The SpongeBob Movie: Sponge Out of Water (PG) \nAugust 5 Miracle (PG) \nAugust 12 Cinderella (PG) \nAugust 19 Heavyweights (PG) \nAugust 26 The Peanuts Movie (G) \n* The Spark! Film Series returns in 2016 with a vibrant lineup of films that feature stories from diverse cultures to bring together Pittsburghers of all backgrounds and spark engaging cultural dialogue.
URL:https://playpittsburgh.com/event/movies-park-arsenal-park-2/2016-07-01/
LOCATION:Arsenal Park\, 39th and Butler streets\, Lawrenceville \, PA\, 15224\, United States
CATEGORIES:Free,Outdoor
GEO:40.4675603;-79.9637391
X-APPLE-STRUCTURED-LOCATION;VALUE=URI;X-ADDRESS=Arsenal Park 39th and Butler streets Lawrenceville  PA 15224 United States;X-APPLE-RADIUS=500;X-TITLE=39th and Butler streets:geo:-79.9637391,40.4675603
END:VEVENT
END:VCALENDAR