BEGIN:VCALENDAR
VERSION:2.0
PRODID:-//Play Pittsburgh - ECPv6.15.20//NONSGML v1.0//EN
CALSCALE:GREGORIAN
METHOD:PUBLISH
X-ORIGINAL-URL:https://playpittsburgh.com
X-WR-CALDESC:Events for Play Pittsburgh
REFRESH-INTERVAL;VALUE=DURATION:PT1H
X-Robots-Tag:noindex
X-PUBLISHED-TTL:PT1H
BEGIN:VTIMEZONE
TZID:America/New_York
BEGIN:DAYLIGHT
TZOFFSETFROM:-0500
TZOFFSETTO:-0400
TZNAME:EDT
DTSTART:20130310T070000
END:DAYLIGHT
BEGIN:STANDARD
TZOFFSETFROM:-0400
TZOFFSETTO:-0500
TZNAME:EST
DTSTART:20131103T060000
END:STANDARD
BEGIN:DAYLIGHT
TZOFFSETFROM:-0500
TZOFFSETTO:-0400
TZNAME:EDT
DTSTART:20140309T070000
END:DAYLIGHT
BEGIN:STANDARD
TZOFFSETFROM:-0400
TZOFFSETTO:-0500
TZNAME:EST
DTSTART:20141102T060000
END:STANDARD
BEGIN:DAYLIGHT
TZOFFSETFROM:-0500
TZOFFSETTO:-0400
TZNAME:EDT
DTSTART:20150308T070000
END:DAYLIGHT
BEGIN:STANDARD
TZOFFSETFROM:-0400
TZOFFSETTO:-0500
TZNAME:EST
DTSTART:20151101T060000
END:STANDARD
END:VTIMEZONE
BEGIN:VEVENT
DTSTART;TZID=America/New_York:20140611T210000
DTEND;TZID=America/New_York:20140611T220000
DTSTAMP:20260422T042254
CREATED:20140528T163424Z
LAST-MODIFIED:20140528T163424Z
UID:1837-1402520400-1402524000@playpittsburgh.com
SUMMARY:Movies in the Park: Schenley Park
DESCRIPTION:Grab a blanket or lawn chair and head out for an unforgettable evening of free cinema under the stars! Movies to be shown on Flagstaff Hill. \nSummer Schedule:  \n\nJune 8 ………………………………………………… Here Comes the Boom\nJune 11 ………………………………………………. Man of Steel\nJune 15 ……………………………………………….. The Little Mermaid\nJune 18 ……………………………………………….. Iron Man 3 (PG-13)\nJune 22 ………………………………………………. Monsters University (G)\nJune 25 ……………………………………………….. Gravity (PG-13)\nJune 29 ……………………………………………….. E.T. the Extra-Terrestrial (PG)\nJuly 2 ………………………………………………….. Last Vegas (PG-13)\nJuly 6 ………………………………………………….. Space Jam (PG)\nJuly 9 ………………………………………………….. Thor: The Dark World (PG-13)\nJuly 13 ……………………………………………….. Despicable Me 2 (PG)\nJuly 16 ………………………………………………… Saving Mr. Banks (PG-13)\nJuly 20 ……………………………………………….. Mary Poppins (not rated)\nJuly 23 ………………………………………………… The Hunger Games: Catching Fire (PG-13)\nJuly 27 ………………………………………………… Big Miracle (PG)\nJuly 30 ………………………………………………… 42 (PG-13)\nAugust 3………………………………………………. Frozen (PG)\nAugust 6………………………………………………. The Great Gatsby (PG-13)\nAugust 10 …………………………………………….. Willy Wonka and the Chocolate Factory (G)\nAugust 13 …………………………………………….. The Hobbit: The Desolation of Smaug (PG-13)\nAugust 17 …………………………………………….. The Smurfs 2 (PG)\nAugust 20 …………………………………………….. All Is Lost (PG-13)\nAugust 24 …………………………………………….. Cloudy with a Chance of Meatballs 2 (PG)\nAugust 27 …………………………………………….. Oblivion (PG-13)\nAugust 31 …………………………………………….. Planes (PG)
URL:https://playpittsburgh.com/event/movies-in-the-park-schenley-park-2/2014-06-11/
LOCATION:Schenley Park\, 5410 Bartlett St\, Pittsburgh\, PA\, 15217\, United States
CATEGORIES:Free,Outdoor
GEO:40.4331473;-79.9360299
X-APPLE-STRUCTURED-LOCATION;VALUE=URI;X-ADDRESS=Schenley Park 5410 Bartlett St Pittsburgh PA 15217 United States;X-APPLE-RADIUS=500;X-TITLE=5410 Bartlett St:geo:-79.9360299,40.4331473
END:VEVENT
END:VCALENDAR