BEGIN:VCALENDAR
VERSION:2.0
PRODID:-//Play Pittsburgh - ECPv6.15.20//NONSGML v1.0//EN
CALSCALE:GREGORIAN
METHOD:PUBLISH
X-WR-CALNAME:Play Pittsburgh
X-ORIGINAL-URL:https://playpittsburgh.com
X-WR-CALDESC:Events for Play Pittsburgh
REFRESH-INTERVAL;VALUE=DURATION:PT1H
X-Robots-Tag:noindex
X-PUBLISHED-TTL:PT1H
BEGIN:VTIMEZONE
TZID:America/New_York
BEGIN:DAYLIGHT
TZOFFSETFROM:-0500
TZOFFSETTO:-0400
TZNAME:EDT
DTSTART:20140309T070000
END:DAYLIGHT
BEGIN:STANDARD
TZOFFSETFROM:-0400
TZOFFSETTO:-0500
TZNAME:EST
DTSTART:20141102T060000
END:STANDARD
BEGIN:DAYLIGHT
TZOFFSETFROM:-0500
TZOFFSETTO:-0400
TZNAME:EDT
DTSTART:20150308T070000
END:DAYLIGHT
BEGIN:STANDARD
TZOFFSETFROM:-0400
TZOFFSETTO:-0500
TZNAME:EST
DTSTART:20151101T060000
END:STANDARD
BEGIN:DAYLIGHT
TZOFFSETFROM:-0500
TZOFFSETTO:-0400
TZNAME:EDT
DTSTART:20160313T070000
END:DAYLIGHT
BEGIN:STANDARD
TZOFFSETFROM:-0400
TZOFFSETTO:-0500
TZNAME:EST
DTSTART:20161106T060000
END:STANDARD
END:VTIMEZONE
BEGIN:VEVENT
DTSTART;TZID=America/New_York:20150509T130000
DTEND;TZID=America/New_York:20150509T160000
DTSTAMP:20260424T095723
CREATED:20150508T182945Z
LAST-MODIFIED:20150508T182945Z
UID:6028-1431176400-1431187200@playpittsburgh.com
SUMMARY:Mother's Day CD Card Making at the Children's Museum
DESCRIPTION:Create a one-of-a-kind gift for mom\, grandma\, aunt or any special woman in your life. Saturday Light Brigade staff will conduct an interview about that person and record it on a CD that can be decorated\, affixed to a special card and brought home that day. \nCard kits are $12 plus tax and available at the SLB Radio Studio in the Theater. Proceeds benefit SLB programs for youth and families. Recording sessions are on a first come\, first served basis.
URL:https://playpittsburgh.com/event/mothers-day-cd-card-making-at-the-childrens-museum/2015-05-09/
LOCATION:Children’s Museum of Pittsburgh\, 10 Children's Way\, Allegheny Square\, Pittsburgh\, PA\, 15212\, United States
GEO:40.4528353;-80.0064158
X-APPLE-STRUCTURED-LOCATION;VALUE=URI;X-ADDRESS=Children’s Museum of Pittsburgh 10 Children's Way Allegheny Square Pittsburgh PA 15212 United States;X-APPLE-RADIUS=500;X-TITLE=10 Children's Way\, Allegheny Square:geo:-80.0064158,40.4528353
END:VEVENT
END:VCALENDAR