BEGIN:VCALENDAR
VERSION:2.0
PRODID:-//Play Pittsburgh - ECPv6.15.20//NONSGML v1.0//EN
CALSCALE:GREGORIAN
METHOD:PUBLISH
X-ORIGINAL-URL:https://playpittsburgh.com
X-WR-CALDESC:Events for Play Pittsburgh
REFRESH-INTERVAL;VALUE=DURATION:PT1H
X-Robots-Tag:noindex
X-PUBLISHED-TTL:PT1H
BEGIN:VTIMEZONE
TZID:America/New_York
BEGIN:DAYLIGHT
TZOFFSETFROM:-0500
TZOFFSETTO:-0400
TZNAME:EDT
DTSTART:20130310T070000
END:DAYLIGHT
BEGIN:STANDARD
TZOFFSETFROM:-0400
TZOFFSETTO:-0500
TZNAME:EST
DTSTART:20131103T060000
END:STANDARD
BEGIN:DAYLIGHT
TZOFFSETFROM:-0500
TZOFFSETTO:-0400
TZNAME:EDT
DTSTART:20140309T070000
END:DAYLIGHT
BEGIN:STANDARD
TZOFFSETFROM:-0400
TZOFFSETTO:-0500
TZNAME:EST
DTSTART:20141102T060000
END:STANDARD
BEGIN:DAYLIGHT
TZOFFSETFROM:-0500
TZOFFSETTO:-0400
TZNAME:EDT
DTSTART:20150308T070000
END:DAYLIGHT
BEGIN:STANDARD
TZOFFSETFROM:-0400
TZOFFSETTO:-0500
TZNAME:EST
DTSTART:20151101T060000
END:STANDARD
END:VTIMEZONE
BEGIN:VEVENT
DTSTART;VALUE=DATE:20141229
DTEND;VALUE=DATE:20141230
DTSTAMP:20260422T105528
CREATED:20141203T043600Z
LAST-MODIFIED:20141203T043600Z
UID:8119-1419811200-1419897599@playpittsburgh.com
SUMMARY:Monday Special at Waterworks Cinemas
DESCRIPTION:$5 admission for Mighty Movie Mondays and a free popcorn\, which you can refill for only $1 (3D movies $3 extra)
URL:https://playpittsburgh.com/event/monday-special-at-waterworks-cinemas/2014-12-29/
LOCATION:Waterworks Cinemas\, 930 Freeport Rd\, Pittsburgh\, PA\, 15238\, United States
GEO:40.4899789;-79.8934731
X-APPLE-STRUCTURED-LOCATION;VALUE=URI;X-ADDRESS=Waterworks Cinemas 930 Freeport Rd Pittsburgh PA 15238 United States;X-APPLE-RADIUS=500;X-TITLE=930 Freeport Rd:geo:-79.8934731,40.4899789
END:VEVENT
BEGIN:VEVENT
DTSTART;VALUE=DATE:20141222
DTEND;VALUE=DATE:20141223
DTSTAMP:20260422T105528
CREATED:20141203T043600Z
LAST-MODIFIED:20141203T043600Z
UID:8118-1419206400-1419292799@playpittsburgh.com
SUMMARY:Monday Special at Waterworks Cinemas
DESCRIPTION:$5 admission for Mighty Movie Mondays and a free popcorn\, which you can refill for only $1 (3D movies $3 extra)
URL:https://playpittsburgh.com/event/monday-special-at-waterworks-cinemas/2014-12-22/
LOCATION:Waterworks Cinemas\, 930 Freeport Rd\, Pittsburgh\, PA\, 15238\, United States
GEO:40.4899789;-79.8934731
X-APPLE-STRUCTURED-LOCATION;VALUE=URI;X-ADDRESS=Waterworks Cinemas 930 Freeport Rd Pittsburgh PA 15238 United States;X-APPLE-RADIUS=500;X-TITLE=930 Freeport Rd:geo:-79.8934731,40.4899789
END:VEVENT
BEGIN:VEVENT
DTSTART;VALUE=DATE:20141215
DTEND;VALUE=DATE:20141216
DTSTAMP:20260422T105528
CREATED:20141203T043600Z
LAST-MODIFIED:20141203T043600Z
UID:8117-1418601600-1418687999@playpittsburgh.com
SUMMARY:Monday Special at Waterworks Cinemas
DESCRIPTION:$5 admission for Mighty Movie Mondays and a free popcorn\, which you can refill for only $1 (3D movies $3 extra)
URL:https://playpittsburgh.com/event/monday-special-at-waterworks-cinemas/2014-12-15/
LOCATION:Waterworks Cinemas\, 930 Freeport Rd\, Pittsburgh\, PA\, 15238\, United States
GEO:40.4899789;-79.8934731
X-APPLE-STRUCTURED-LOCATION;VALUE=URI;X-ADDRESS=Waterworks Cinemas 930 Freeport Rd Pittsburgh PA 15238 United States;X-APPLE-RADIUS=500;X-TITLE=930 Freeport Rd:geo:-79.8934731,40.4899789
END:VEVENT
BEGIN:VEVENT
DTSTART;VALUE=DATE:20141208
DTEND;VALUE=DATE:20141209
DTSTAMP:20260422T105528
CREATED:20141203T043600Z
LAST-MODIFIED:20141203T043600Z
UID:8116-1417996800-1418083199@playpittsburgh.com
SUMMARY:Monday Special at Waterworks Cinemas
DESCRIPTION:$5 admission for Mighty Movie Mondays and a free popcorn\, which you can refill for only $1 (3D movies $3 extra)
URL:https://playpittsburgh.com/event/monday-special-at-waterworks-cinemas/2014-12-08/
LOCATION:Waterworks Cinemas\, 930 Freeport Rd\, Pittsburgh\, PA\, 15238\, United States
GEO:40.4899789;-79.8934731
X-APPLE-STRUCTURED-LOCATION;VALUE=URI;X-ADDRESS=Waterworks Cinemas 930 Freeport Rd Pittsburgh PA 15238 United States;X-APPLE-RADIUS=500;X-TITLE=930 Freeport Rd:geo:-79.8934731,40.4899789
END:VEVENT
BEGIN:VEVENT
DTSTART;VALUE=DATE:20141201
DTEND;VALUE=DATE:20141202
DTSTAMP:20260422T105528
CREATED:20141203T043600Z
LAST-MODIFIED:20141203T043600Z
UID:4981-1417392000-1417478399@playpittsburgh.com
SUMMARY:Monday Special at Waterworks Cinemas
DESCRIPTION:$5 admission for Mighty Movie Mondays and a free popcorn\, which you can refill for only $1 (3D movies $3 extra)
URL:https://playpittsburgh.com/event/monday-special-at-waterworks-cinemas/2014-12-01/
LOCATION:Waterworks Cinemas\, 930 Freeport Rd\, Pittsburgh\, PA\, 15238\, United States
GEO:40.4899789;-79.8934731
X-APPLE-STRUCTURED-LOCATION;VALUE=URI;X-ADDRESS=Waterworks Cinemas 930 Freeport Rd Pittsburgh PA 15238 United States;X-APPLE-RADIUS=500;X-TITLE=930 Freeport Rd:geo:-79.8934731,40.4899789
END:VEVENT
END:VCALENDAR