BEGIN:VCALENDAR
VERSION:2.0
PRODID:-//Play Pittsburgh - ECPv6.15.20//NONSGML v1.0//EN
CALSCALE:GREGORIAN
METHOD:PUBLISH
X-WR-CALNAME:Play Pittsburgh
X-ORIGINAL-URL:https://playpittsburgh.com
X-WR-CALDESC:Events for Play Pittsburgh
REFRESH-INTERVAL;VALUE=DURATION:PT1H
X-Robots-Tag:noindex
X-PUBLISHED-TTL:PT1H
BEGIN:VTIMEZONE
TZID:America/New_York
BEGIN:DAYLIGHT
TZOFFSETFROM:-0500
TZOFFSETTO:-0400
TZNAME:EDT
DTSTART:20140309T070000
END:DAYLIGHT
BEGIN:STANDARD
TZOFFSETFROM:-0400
TZOFFSETTO:-0500
TZNAME:EST
DTSTART:20141102T060000
END:STANDARD
BEGIN:DAYLIGHT
TZOFFSETFROM:-0500
TZOFFSETTO:-0400
TZNAME:EDT
DTSTART:20150308T070000
END:DAYLIGHT
BEGIN:STANDARD
TZOFFSETFROM:-0400
TZOFFSETTO:-0500
TZNAME:EST
DTSTART:20151101T060000
END:STANDARD
BEGIN:DAYLIGHT
TZOFFSETFROM:-0500
TZOFFSETTO:-0400
TZNAME:EDT
DTSTART:20160313T070000
END:DAYLIGHT
BEGIN:STANDARD
TZOFFSETFROM:-0400
TZOFFSETTO:-0500
TZNAME:EST
DTSTART:20161106T060000
END:STANDARD
END:VTIMEZONE
BEGIN:VEVENT
DTSTART;VALUE=DATE:20150525
DTEND;VALUE=DATE:20150526
DTSTAMP:20260421T220016
CREATED:20150325T222547Z
LAST-MODIFIED:20150325T222547Z
UID:8364-1432512000-1432598399@playpittsburgh.com
SUMMARY:Mighty Movie Mondays at Waterworks Cinemas
DESCRIPTION:Admission to all shows on Monday is only $5.00* and you get a free 32oz popcorn! (*$3.00 additional for 3D films)
URL:https://playpittsburgh.com/event/mighty-movie-mondays-at-waterworks-cinemas/2015-05-25/
LOCATION:Waterworks Cinema\, 930 Freeport Rd\, Pittsburgh\, PA\, 15238\, United States
GEO:40.4899789;-79.8934731
X-APPLE-STRUCTURED-LOCATION;VALUE=URI;X-ADDRESS=Waterworks Cinema 930 Freeport Rd Pittsburgh PA 15238 United States;X-APPLE-RADIUS=500;X-TITLE=930 Freeport Rd:geo:-79.8934731,40.4899789
END:VEVENT
BEGIN:VEVENT
DTSTART;VALUE=DATE:20150518
DTEND;VALUE=DATE:20150519
DTSTAMP:20260421T220016
CREATED:20150325T222547Z
LAST-MODIFIED:20150325T222547Z
UID:8363-1431907200-1431993599@playpittsburgh.com
SUMMARY:Mighty Movie Mondays at Waterworks Cinemas
DESCRIPTION:Admission to all shows on Monday is only $5.00* and you get a free 32oz popcorn! (*$3.00 additional for 3D films)
URL:https://playpittsburgh.com/event/mighty-movie-mondays-at-waterworks-cinemas/2015-05-18/
LOCATION:Waterworks Cinema\, 930 Freeport Rd\, Pittsburgh\, PA\, 15238\, United States
GEO:40.4899789;-79.8934731
X-APPLE-STRUCTURED-LOCATION;VALUE=URI;X-ADDRESS=Waterworks Cinema 930 Freeport Rd Pittsburgh PA 15238 United States;X-APPLE-RADIUS=500;X-TITLE=930 Freeport Rd:geo:-79.8934731,40.4899789
END:VEVENT
BEGIN:VEVENT
DTSTART;VALUE=DATE:20150511
DTEND;VALUE=DATE:20150512
DTSTAMP:20260421T220016
CREATED:20150325T222547Z
LAST-MODIFIED:20150325T222547Z
UID:8362-1431302400-1431388799@playpittsburgh.com
SUMMARY:Mighty Movie Mondays at Waterworks Cinemas
DESCRIPTION:Admission to all shows on Monday is only $5.00* and you get a free 32oz popcorn! (*$3.00 additional for 3D films)
URL:https://playpittsburgh.com/event/mighty-movie-mondays-at-waterworks-cinemas/2015-05-11/
LOCATION:Waterworks Cinema\, 930 Freeport Rd\, Pittsburgh\, PA\, 15238\, United States
GEO:40.4899789;-79.8934731
X-APPLE-STRUCTURED-LOCATION;VALUE=URI;X-ADDRESS=Waterworks Cinema 930 Freeport Rd Pittsburgh PA 15238 United States;X-APPLE-RADIUS=500;X-TITLE=930 Freeport Rd:geo:-79.8934731,40.4899789
END:VEVENT
BEGIN:VEVENT
DTSTART;VALUE=DATE:20150504
DTEND;VALUE=DATE:20150505
DTSTAMP:20260421T220016
CREATED:20150325T222547Z
LAST-MODIFIED:20150325T222547Z
UID:8361-1430697600-1430783999@playpittsburgh.com
SUMMARY:Mighty Movie Mondays at Waterworks Cinemas
DESCRIPTION:Admission to all shows on Monday is only $5.00* and you get a free 32oz popcorn! (*$3.00 additional for 3D films)
URL:https://playpittsburgh.com/event/mighty-movie-mondays-at-waterworks-cinemas/2015-05-04/
LOCATION:Waterworks Cinema\, 930 Freeport Rd\, Pittsburgh\, PA\, 15238\, United States
GEO:40.4899789;-79.8934731
X-APPLE-STRUCTURED-LOCATION;VALUE=URI;X-ADDRESS=Waterworks Cinema 930 Freeport Rd Pittsburgh PA 15238 United States;X-APPLE-RADIUS=500;X-TITLE=930 Freeport Rd:geo:-79.8934731,40.4899789
END:VEVENT
BEGIN:VEVENT
DTSTART;VALUE=DATE:20150427
DTEND;VALUE=DATE:20150428
DTSTAMP:20260421T220016
CREATED:20150325T222547Z
LAST-MODIFIED:20150325T222547Z
UID:8360-1430092800-1430179199@playpittsburgh.com
SUMMARY:Mighty Movie Mondays at Waterworks Cinemas
DESCRIPTION:Admission to all shows on Monday is only $5.00* and you get a free 32oz popcorn! (*$3.00 additional for 3D films)
URL:https://playpittsburgh.com/event/mighty-movie-mondays-at-waterworks-cinemas/2015-04-27/
LOCATION:Waterworks Cinema\, 930 Freeport Rd\, Pittsburgh\, PA\, 15238\, United States
GEO:40.4899789;-79.8934731
X-APPLE-STRUCTURED-LOCATION;VALUE=URI;X-ADDRESS=Waterworks Cinema 930 Freeport Rd Pittsburgh PA 15238 United States;X-APPLE-RADIUS=500;X-TITLE=930 Freeport Rd:geo:-79.8934731,40.4899789
END:VEVENT
BEGIN:VEVENT
DTSTART;VALUE=DATE:20150420
DTEND;VALUE=DATE:20150421
DTSTAMP:20260421T220016
CREATED:20150325T222547Z
LAST-MODIFIED:20150325T222547Z
UID:8359-1429488000-1429574399@playpittsburgh.com
SUMMARY:Mighty Movie Mondays at Waterworks Cinemas
DESCRIPTION:Admission to all shows on Monday is only $5.00* and you get a free 32oz popcorn! (*$3.00 additional for 3D films)
URL:https://playpittsburgh.com/event/mighty-movie-mondays-at-waterworks-cinemas/2015-04-20/
LOCATION:Waterworks Cinema\, 930 Freeport Rd\, Pittsburgh\, PA\, 15238\, United States
GEO:40.4899789;-79.8934731
X-APPLE-STRUCTURED-LOCATION;VALUE=URI;X-ADDRESS=Waterworks Cinema 930 Freeport Rd Pittsburgh PA 15238 United States;X-APPLE-RADIUS=500;X-TITLE=930 Freeport Rd:geo:-79.8934731,40.4899789
END:VEVENT
BEGIN:VEVENT
DTSTART;VALUE=DATE:20150413
DTEND;VALUE=DATE:20150414
DTSTAMP:20260421T220016
CREATED:20150325T222547Z
LAST-MODIFIED:20150325T222547Z
UID:8358-1428883200-1428969599@playpittsburgh.com
SUMMARY:Mighty Movie Mondays at Waterworks Cinemas
DESCRIPTION:Admission to all shows on Monday is only $5.00* and you get a free 32oz popcorn! (*$3.00 additional for 3D films)
URL:https://playpittsburgh.com/event/mighty-movie-mondays-at-waterworks-cinemas/2015-04-13/
LOCATION:Waterworks Cinema\, 930 Freeport Rd\, Pittsburgh\, PA\, 15238\, United States
GEO:40.4899789;-79.8934731
X-APPLE-STRUCTURED-LOCATION;VALUE=URI;X-ADDRESS=Waterworks Cinema 930 Freeport Rd Pittsburgh PA 15238 United States;X-APPLE-RADIUS=500;X-TITLE=930 Freeport Rd:geo:-79.8934731,40.4899789
END:VEVENT
BEGIN:VEVENT
DTSTART;VALUE=DATE:20150406
DTEND;VALUE=DATE:20150407
DTSTAMP:20260421T220016
CREATED:20150325T222547Z
LAST-MODIFIED:20150325T222547Z
UID:8357-1428278400-1428364799@playpittsburgh.com
SUMMARY:Mighty Movie Mondays at Waterworks Cinemas
DESCRIPTION:Admission to all shows on Monday is only $5.00* and you get a free 32oz popcorn! (*$3.00 additional for 3D films)
URL:https://playpittsburgh.com/event/mighty-movie-mondays-at-waterworks-cinemas/2015-04-06/
LOCATION:Waterworks Cinema\, 930 Freeport Rd\, Pittsburgh\, PA\, 15238\, United States
GEO:40.4899789;-79.8934731
X-APPLE-STRUCTURED-LOCATION;VALUE=URI;X-ADDRESS=Waterworks Cinema 930 Freeport Rd Pittsburgh PA 15238 United States;X-APPLE-RADIUS=500;X-TITLE=930 Freeport Rd:geo:-79.8934731,40.4899789
END:VEVENT
BEGIN:VEVENT
DTSTART;VALUE=DATE:20150330
DTEND;VALUE=DATE:20150331
DTSTAMP:20260421T220016
CREATED:20150325T222547Z
LAST-MODIFIED:20150325T222547Z
UID:5702-1427673600-1427759999@playpittsburgh.com
SUMMARY:Mighty Movie Mondays at Waterworks Cinemas
DESCRIPTION:Admission to all shows on Monday is only $5.00* and you get a free 32oz popcorn! (*$3.00 additional for 3D films)
URL:https://playpittsburgh.com/event/mighty-movie-mondays-at-waterworks-cinemas/2015-03-30/
LOCATION:Waterworks Cinema\, 930 Freeport Rd\, Pittsburgh\, PA\, 15238\, United States
GEO:40.4899789;-79.8934731
X-APPLE-STRUCTURED-LOCATION;VALUE=URI;X-ADDRESS=Waterworks Cinema 930 Freeport Rd Pittsburgh PA 15238 United States;X-APPLE-RADIUS=500;X-TITLE=930 Freeport Rd:geo:-79.8934731,40.4899789
END:VEVENT
END:VCALENDAR